Workbook

Sheet suicide
F2: Gary's
D4: Joni | F4: Fred
I5: Left
B6: week 1 | D6: Jacksonville | F6: Chargers
B7: week 2 | D7: Green Bay | I7: San Francisco
B8: week 3 | D8: Buffalo | I8: Pittsburgh
B9: week 4 | D9: Vikings | I9: Chicago
B10: week 5 | D10: Lions | I10: New England
B11: week 6 | D11: Houston Texans | I11: Cincinnati
B12: week 7 | I12: Denver
B13: week 8 | I13: Rams
B14: week 9 | I14: Kansas City
B15: week 10 | I15: Seattle
B16: week 11 | I16: Baltimore
B17: week 12 | I17: Carolina
B18: week 13 | I18: Cleveland
B19: week 14
B20: week 15
B21: week 16
B22: week 17
B23: week 18

Sheet GRAND TOTALS
C1: week | D1: 1 | E1: 2 | F1: 3 | G1: 4 | H1: 5 | I1: 6 | J1: 7 | K1: 8 | L1: 9 | M1: 10 | N1: 11 | O1: 12 | P1: 13 | Q1: 14 | R1: 15 | S1: 16 | T1: 17 | U1: 18 | V1: total | X1: ave
B2: x | C2: Fred | F2: ='Week 3'!Z5 -> 10 | G2: =Week4!Z5 -> 11 | H2: ='Week 5'!Z5 -> 10 | I2: ='Week 6'!Z5 -> 7 | J2: ='Week 7'!Z5 -> 12 | K2: ='Week 8'!Z5 -> 14 | L2: ='Week 9'!Z5 -> 0 | M2: ='Week 10'!Z5 -> 0 | V2: =SUM(D2:U2) -> 64 | W2: 12 | X2: =V2/$Z$2 -> 10.666667 | Z2: 6
B3: x | C3: Joni | F3: ='Week 3'!Z6 -> 12 | G3: =Week4!Z6 -> 12 | H3: ='Week 5'!Z6 -> 6 | I3: ='Week 6'!Z6 -> 7 | J3: ='Week 7'!Z6 -> 10 | K3: ='Week 8'!Z6 -> 12 | L3: ='Week 9'!Z6 -> 0 | M3: ='Week 10'!Z6 -> 0 | V3: =SUM(D3:U3) -> 59 | W3: 16 | X3: =V3/$Z$2 -> 9.8333333
B4: x | C4: Tara | F4: ='Week 3'!Z7 -> 12 | G4: =Week4!Z7 -> 13 | H4: ='Week 5'!Z7 -> 11 | I4: ='Week 6'!Z7 -> 8 | J4: ='Week 7'!Z7 -> 13 | K4: ='Week 8'!Z7 -> 15 | L4: ='Week 9'!Z7 -> 0 | M4: ='Week 10'!Z7 -> 0 | V4: =SUM(D4:U4) -> 72 | W4: 2 | X4: =V4/$Z$2 -> 12
B5: x | C5: Roger | F5: ='Week 3'!Z8 -> 12 | G5: =Week4!Z8 -> 16 | H5: ='Week 5'!Z8 -> 13 | I5: ='Week 6'!Z8 -> 10 | J5: ='Week 7'!Z8 -> 9 | K5: ='Week 8'!Z8 -> 14 | L5: ='Week 9'!Z8 -> 0 | M5: ='Week 10'!Z8 -> 0 | V5: =SUM(D5:U5) -> 74 | W5: 1 | X5: =V5/$Z$2 -> 12.333333
B6: x | C6: Jeanne | F6: ='Week 3'!Z9 -> 9 | G6: =Week4!Z9 -> 11 | H6: ='Week 5'!Z9 -> 13 | I6: ='Week 6'!Z9 -> 8 | J6: ='Week 7'!Z9 -> 9 | K6: ='Week 8'!Z9 -> 11 | L6: ='Week 9'!Z9 -> 0 | M6: ='Week 10'!Z9 -> 0 | V6: =SUM(D6:U6) -> 61 | W6: 14 | X6: =V6/$Z$2 -> 10.166667
B7: x | C7: Jackie | F7: ='Week 3'!Z10 -> 14 | G7: =Week4!Z10 -> 11 | H7: ='Week 5'!Z10 -> 6 | I7: ='Week 6'!Z10 -> 10 | J7: ='Week 7'!Z10 -> 9 | K7: ='Week 8'!Z10 -> 5 | L7: ='Week 9'!Z10 -> 0 | M7: ='Week 10'!Z10 -> 0 | V7: =SUM(D7:U7) -> 55 | W7: 19 | X7: =V7/$Z$2 -> 9.1666667
B8: x | C8: Darla | F8: ='Week 3'!Z11 -> 12 | G8: =Week4!Z11 -> 9 | H8: ='Week 5'!Z11 -> 9 | I8: ='Week 6'!Z11 -> 10 | J8: ='Week 7'!Z11 -> 12 | K8: ='Week 8'!Z11 -> 12 | L8: ='Week 9'!Z11 -> 0 | M8: ='Week 10'!Z11 -> 0 | V8: =SUM(D8:U8) -> 64 | W8: 12 | X8: =V8/$Z$2 -> 10.666667
B9: x | C9: Kieran | F9: ='Week 3'!Z12 -> 8 | G9: =Week4!Z12 -> 11 | H9: ='Week 5'!Z12 -> 13 | I9: ='Week 6'!Z12 -> 8 | J9: ='Week 7'!Z12 -> 7 | K9: ='Week 8'!Z12 -> 13 | L9: ='Week 9'!Z12 -> 0 | M9: ='Week 10'!Z12 -> 0 | V9: =SUM(D9:U9) -> 60 | W9: 17 | X9: =V9/$Z$2 -> 10
B10: x | C10: Kaidan | F10: ='Week 3'!Z13 -> 13 | G10: =Week4!Z13 -> 14 | H10: ='Week 5'!Z13 -> 11 | I10: ='Week 6'!Z13 -> 10 | J10: ='Week 7'!Z13 -> 6 | K10: ='Week 8'!Z13 -> 15 | L10: ='Week 9'!Z13 -> 0 | M10: ='Week 10'!Z13 -> 0 | V10: =SUM(D10:U10) -> 69 | W10: 5 | X10: =V10/$Z$2 -> 11.5
B11: x | C11: Jim | F11: ='Week 3'!Z14 -> 11 | G11: =Week4!Z14 -> 11 | H11: ='Week 5'!Z14 -> 12 | I11: ='Week 6'!Z14 -> 9 | J11: ='Week 7'!Z14 -> 12 | K11: ='Week 8'!Z14 -> 14 | L11: ='Week 9'!Z14 -> 0 | M11: ='Week 10'!Z14 -> 0 | V11: =SUM(D11:U11) -> 69 | W11: 5 | X11: =V11/$Z$2 -> 11.5
B12: x | C12: Lisa | F12: ='Week 3'!Z15 -> 10 | G12: =Week4!Z15 -> 13 | H12: ='Week 5'!Z15 -> 12 | I12: ='Week 6'!Z15 -> 8 | J12: ='Week 7'!Z15 -> 10 | K12: ='Week 8'!Z15 -> 12 | L12: ='Week 9'!Z15 -> 0 | M12: ='Week 10'!Z15 -> 0 | V12: =SUM(D12:U12) -> 65 | W12: 10 | X12: =V12/$Z$2 -> 10.833333
B13: x | C13: Stuart | F13: ='Week 3'!Z16 -> 12 | G13: =Week4!Z16 -> 9 | H13: ='Week 5'!Z16 -> 8 | I13: ='Week 6'!Z16 -> 9 | J13: ='Week 7'!Z16 -> 9 | K13: ='Week 8'!Z16 -> 13 | L13: ='Week 9'!Z16 -> 0 | M13: ='Week 10'!Z16 -> 0 | V13: =SUM(D13:U13) -> 60 | W13: 15 | X13: =V13/$Z$2 -> 10
B14: x | C14: Debbie | F14: ='Week 3'!Z17 -> 13 | G14: =Week4!Z17 -> 12 | H14: ='Week 5'!Z17 -> 11 | I14: ='Week 6'!Z17 -> 10 | J14: ='Week 7'!Z17 -> 10 | K14: ='Week 8'!Z17 -> 13 | L14: ='Week 9'!Z17 -> 0 | M14: ='Week 10'!Z17 -> 0 | V14: =SUM(D14:U14) -> 69 | W14: 5 | X14: =V14/$Z$2 -> 11.5
C15: Scott | F15: ='Week 3'!Z18 -> 11 | G15: =Week4!Z18 -> 12 | H15: ='Week 5'!Z18 -> 12 | I15: ='Week 6'!Z18 -> 10 | J15: ='Week 7'!Z18 -> 11 | K15: ='Week 8'!Z18 -> 13 | L15: ='Week 9'!Z18 -> 0 | M15: ='Week 10'!Z18 -> 0 | V15: =SUM(D15:U15) -> 69 | W15: 5 | X15: =V15/$Z$2 -> 11.5
C16: Michelle | F16: ='Week 3'!Z19 -> 10 | G16: 11 | H16: ='Week 5'!Z19 -> 11 | I16: ='Week 6'!Z19 -> 8 | J16: ='Week 7'!Z19 -> 10 | K16: ='Week 8'!Z19 -> 9 | L16: ='Week 9'!Z19 -> 0 | M16: ='Week 10'!Z19 -> 0 | V16: =SUM(D16:U16) -> 59 | W16: 16 | X16: =V16/$Z$2 -> 9.8333333
C17: Teri | F17: ='Week 3'!Z20 -> 12 | G17: =Week4!Z20 -> 13 | H17: ='Week 5'!Z20 -> 10 | I17: ='Week 6'!Z20 -> 9 | J17: ='Week 7'!Z20 -> 11 | K17: ='Week 8'!Z20 -> 15 | L17: ='Week 9'!Z20 -> 0 | M17: ='Week 10'!Z20 -> 0 | V17: =SUM(D17:U17) -> 70 | W17: 3 | X17: =V17/$Z$2 -> 11.666667
B18: x | C18: Steve | F18: ='Week 3'!Z21 -> 10 | G18: =Week4!Z21 -> 11 | H18: ='Week 5'!Z21 -> 10 | I18: ='Week 6'!Z21 -> 10 | J18: ='Week 7'!Z21 -> 11 | K18: ='Week 8'!Z21 -> 14 | L18: ='Week 9'!Z21 -> 0 | M18: ='Week 10'!Z21 -> 0 | V18: =SUM(D18:U18) -> 66 | W18: 9 | X18: =V18/$Z$2 -> 11
B19: x | C19: Jamie | F19: ='Week 3'!Z23 -> 10 | G19: =Week4!Z23 -> 12 | H19: ='Week 5'!Z23 -> 11 | I19: ='Week 6'!Z23 -> 8 | J19: ='Week 7'!Z23 -> 14 | K19: ='Week 8'!Z22 -> 15 | L19: ='Week 9'!Z22 -> 0 | M19: ='Week 10'!Z22 -> 0 | V19: =SUM(D19:U19) -> 70 | W19: 3 | X19: =V19/$Z$2 -> 11.666667
B20: x | C20: Kelly | F20: ='Week 3'!Z24 -> 12 | G20: =Week4!Z24 -> 10 | H20: ='Week 5'!Z24 -> 9 | I20: ='Week 6'!Z24 -> 10 | J20: ='Week 7'!Z24 -> 10 | K20: ='Week 8'!Z23 -> 14 | L20: ='Week 9'!Z23 -> 0 | M20: ='Week 10'!Z23 -> 0 | V20: =SUM(D20:U20) -> 65 | W20: 10 | X20: =V20/$Z$2 -> 10.833333
D21: =COUNT(D2:D20) -> 0 | E21: =COUNT(E2:E20) -> 0 | F21: =COUNT(F2:F20) -> 19 | G21: =COUNT(G2:G20) -> 19 | H21: =COUNT(H2:H20) -> 19 | I21: =COUNT(I2:I20) -> 19 | J21: =COUNT(J2:J20) -> 19 | K21: =COUNT(K2:K20) -> 19 | ... M21: =COUNT(M2:M20) -> 19 | V21: =SUM(D21:U22) -> 152
F25: Tough Luck | K25: Weeks missed | R25: FEE | S25: weekly | T25: tough | U25: Final | V25: TOTAL | X25: TOTAL
R26: OWED | S26: winners | T26: luck | U26: POT | V26: WON | X26: POINTS
F27: Weekly winner | K27: Lost Tiebreaker | P27: x | Q27: =C2 -> Fred | T27: 4 | V27: =S27+T27+U27-R27 -> 4 | X27: =V2 -> 64 | Y27: =W2 -> 12
P28: x | Q28: =C3 -> Joni | V28: =S28+T28+U28-R28 -> 0 | X28: =V3 -> 59 | Y28: =W3 -> 16
P29: V | Q29: =C4 -> Tara | V29: =S29+T29+U29-R29 -> 0 | X29: =V4 -> 72 | Y29: =W4 -> 2
D30: Score for a missed week is one less than lowest score for that week. | P30: V | Q30: =C5 -> Roger | S30: 15 | V30: =S30+T30+U30-R30 -> 15 | X30: =V5 -> 74 | Y30: =W5 -> 1
D31: Weekly Winner wins $15 | I31: Weekly Tough Luck wins $4 | P31: v | Q31: =C6 -> Jeanne | T31: 4 | V31: =S31+T31+U31-R31 -> 4 | X31: =V6 -> 61 | Y31: =W6 -> 14
P32: v | Q32: =C7 -> Jackie | S32: 15 | T32: 8 | V32: =S32+T32+U32-R32 -> 23 | X32: =V7 -> 55 | Y32: =W7 -> 19
P33: c | Q33: =C8 -> Darla | S33: 7.5 | V33: =S33+T33+U33-R33 -> 7.5 | X33: =V8 -> 64 | Y33: =W8 -> 12
C34: FINAL | D34: Final payouts- | P34: v | Q34: =C9 -> Kieran | V34: =S34+T34+U34-R34 -> 0 | X34: =V9 -> 60 | Y34: =W9 -> 17
C35: =V21*0.3 -> 45.6 | D35: 30% of pot for 1st. | P35: v | Q35: =C10 -> Kaidan | S35: 15 | T35: 4 | V35: =S35+T35+U35-R35 -> 19 | X35: =V10 -> 69 | Y35: =W10 -> 5
C36: =V21*0.2 -> 30.4 | D36: 20% of pot for 2nd. | P36: v | Q36: =C11 -> Jim | V36: =S36+T36+U36-R36 -> 0 | X36: =V11 -> 69 | Y36: 5
C37: =V21*0.15 -> 22.8 | D37: 15% of pot for 3rd. | P37: v | Q37: =C12 -> Lisa | V37: =S37+T37+U37-R37 -> 0 | X37: =V12 -> 65 | Y37: =W12 -> 10
C38: =V21*0.11 -> 16.72 | D38: 11% of pot for 4th | Q38: =C13 -> Stuart | R38: 32 | T38: 4 | V38: =S38+T38+U38-R38 -> -28 | X38: =V13 -> 60 | Y38: =W13 -> 15
C39: =V21*0.09 -> 13.68 | D39: 9% of pot for 5th. | Q39: =C14 -> Debbie | R39: 32 | V39: =S39+T39+U39-R39 -> -32 | X39: =V14 -> 69 | Y39: 4
C40: =V21*0.07 -> 10.64 | D40: 7% of pot for 6th. | P40: C | Q40: =C15 -> Scott | R40: 32 | S40: 15 | V40: =S40+T40+U40-R40 -> -17 | X40: =V15 -> 69 | Y40: 6
P41: v | Q41: =C16 -> Michelle | V41: =S41+T41+U41-R41 -> 0 | X41: =V16 -> 59 | Y41: =W16 -> 16
C42: =V21*0.08 -> 12.16 | D42: 8% of pot for LAST | P42: v | Q42: =C17 -> Teri | V42: =S42+T42+U42-R42 -> 0 | X42: =V17 -> 70 | Y42: =W17 -> 3
P43: c | Q43: =C18 -> Steve | V43: =S43+T43+U43-R43 -> 0 | X43: =V18 -> 66 | Y43: =W18 -> 9
...

Sheet Week 3
E2: col | K2: wk | M2: No | P2: 3 | U2: pro
D3: Oklahoma @ Georgia | E3: Texas A&M @ LSU | F3: Iowa @ Michigan | G3: Miss @ Florida | H3: Curry College @ Maine Maritime | J3: Atlanta @ Green Bay | K3: Los Angeles Chargers @ Buffalo | L3: Carolina @ Cleveland | M3: New York Jets @ Detroit | N3: Houston @ Indianapolis | O3: Kansas City @ Miami | P3: Tennessee @ New York Giants | Q3: Cincinnati @ Pittsburgh | R3: Seattle @ Washington | S3: New England @ Jacksonville | T3: Arizona @ San Francisco | U3: Minnesota @ Tampa Bay | V3: Baltimore v Dallas | W3: Las Vegas @ New Orleans | X3: Los Angeles Rams @ Denver | Y3: Philadelphia @ Chicago | Z3: TOTAL | AA3: TIEBREAKER | AC3: GRAND TOTAL | AG3: =C5 -> Fred | AH3: =C6 -> Joni | AI3: =C7 -> Tara | AJ3: =C8 -> Roger | AK3: =C9 -> Jeanne | AL3: =C10 -> Jackie | AM3: =C11 -> Darla | AN3: =C12 -> Kieran | AO3: =C13 -> Kaidan | AP3: =C14 -> Jim | AQ3: =C15 -> Lisa | AR3: =C16 -> Stuart | AS3: =C17 -> Debbie | AT3: =C18 -> Scott | AU3: =C19 -> Michelle | AV3: =C20 -> Teri | AW3: =C21 -> Steve | AX3: =C22 -> #REF! | AY3: =C23 -> Jamie | AZ3: =C24 -> Kelly | BB3: =C5 -> Fred | BC3: =C6 -> Joni | BD3: =C7 -> Tara | BE3: =C8 -> Roger | BF3: Jeanne | BG3: =C10 -> Jackie | BH3: =C11 -> Darla | BI3: =C12 -> Kieran | BJ3: =C13 -> Kaidan | BK3: =C14 -> Jim | BL3: =C15 -> Lisa | BM3: =C16 -> Stuart | BN3: =C17 -> Debbie | BO3: =C18 -> Scott | BP3: =C19 -> Michelle | BQ3: =C20 -> Teri | BR3: =C21 -> Steve | BS3: =C22 -> #REF! | BT3: =C23 -> Jamie | BU3: =C24 -> Kelly
C4: Winners | D4: G | E4: L | F4: I | G4: F | H4: C | J4: A | K4: B | L4: CL | M4: D | N4: I | O4: K | P4: G | Q4: P | R4: W | S4: J | T4: S | U4: M | V4: B | W4: L | X4: D | Y4: C
C5: ='GRAND TOTALS'!C2 -> Fred | D5: =AG5 -> G | E5: =AG6 -> L | F5: =AG7 -> M | G5: =AG8 -> M | H5: =AG9 -> M | J5: =AG10 -> G | K5: =AG11 -> B | L5: =AG12 -> CL | M5: =AG13 -> D | N5: =AG14 -> H | O5: =AG15 -> K | P5: =AG16 -> G | Q5: =AG17 -> P | R5: =AG18 -> S | S5: =AG19 -> N | T5: =AG20 -> S | U5: =AG21 -> M | V5: =AG22 -> D | W5: =AG23 -> N | X5: =AG24 -> R | Y5: =AG25 -> P | Z5: =SUM(D28:Y28) -> 10 | AA5: =AG26 -> 49 | AC5: =Z5 -> 10 | AG5: =TRIM(BB5) -> G | AH5: =TRIM(BC5) -> G | AI5: =TRIM(BD5) -> G | AJ5: =TRIM(BE5) -> G | AK5: =TRIM(BF5) -> O | AL5: =TRIM(BG5) -> G | AM5: =TRIM(BH5) -> O | AN5: =TRIM(BI5) | ... AZ5: =TRIM(BU5) -> G | BB5: G | BC5: G | BD5: G | BE5: G | BF5: O | BG5: G | BH5: O | BJ5: G | BK5: G | BL5: G | BM5: G | BN5: G | BO5: G | BP5: O | BQ5: G | BR5: G | BT5: G | BU5: G | BW5: 0.041666667 | BX5: G
C6: ='GRAND TOTALS'!C3 -> Joni | D6: =AH5 -> G | E6: =AH6 -> L | F6: =AH7 -> M | G6: =AH8 -> M | H6: =AH9 -> M | J6: =AH10 -> G | K6: =AH11 -> B | L6: =AH12 -> CL | M6: =AH13 -> D | N6: =AH14 -> I | O6: =AH15 -> K | P6: =AH16 -> T | Q6: =AH17 -> P | R6: =AH18 -> S | S6: =AH19 -> J | T6: =AH20 -> S | U6: =AH21 -> T | V6: =AH22 -> B | W6: =AH23 -> N | X6: =AH24 -> D | Y6: =AH25 -> P | Z6: =SUM(D29:Y29) -> 12 | AA6: =AH26 -> 49 | AC6: =Z6 -> 12 | AG6: =TRIM(BB6) -> L | AH6: =TRIM(BC6) -> L | AI6: =TRIM(BD6) -> L | AJ6: =TRIM(BE6) -> L | AK6: =TRIM(BF6) -> L | AL6: =TRIM(BG6) -> L | AM6: =TRIM(BH6) -> L | AN6: =TRIM(BI6) | ... AZ6: =TRIM(BU6) -> T | BB6: L | BC6: L | BD6: L | BE6: L | BF6: L | BG6: L | BH6: L | BJ6: L | BK6: L | BL6: L | BM6: L | BN6: L | BO6: L | BP6: L | BQ6: L | BR6: T | BT6: L | BU6: T | BW6: 0.083333333 | BX6: L
C7: ='GRAND TOTALS'!C4 -> Tara | D7: =AI5 -> G | E7: =AI6 -> L | F7: =AI7 -> I | G7: =AI8 -> F | H7: =AI9 -> C | J7: =AI10 -> G | K7: =AI11 -> B | L7: =AI12 -> CN | M7: =AI13 -> D | N7: =AI14 -> H | O7: =AI15 -> K | P7: =AI16 -> T | Q7: =AI17 -> C | R7: =AI18 -> S | S7: =AI19 -> J | T7: =AI20 -> S | U7: =AI21 -> M | V7: =AI22 -> D | W7: =AI23 -> L | X7: =AI24 -> R | Y7: =AI25 -> P | Z7: =SUM(D30:Y30) -> 12 | AA7: =AI26 -> 46 | AC7: =Z7 -> 12 | AG7: =TRIM(BB7) -> M | AH7: =TRIM(BC7) -> M | AI7: =TRIM(BD7) -> I | AJ7: =TRIM(BE7) -> I | AK7: =TRIM(BF7) -> I | AL7: =TRIM(BG7) -> M | AM7: =TRIM(BH7) -> M | AN7: =TRIM(BI7) | ... AZ7: =TRIM(BU7) -> M | BB7: M | BC7: M | BD7: I | BE7: I | BF7: I | BG7: M | BH7: M | BJ7: M | BK7: I | BL7: M | BM7: I | BN7: M | BO7: M | BP7: I | BQ7: M | BR7: M | BT7: M | BU7: M | BW7: 0.125 | BX7: M
C8: ='GRAND TOTALS'!C5 -> Roger | D8: =AJ5 -> G | E8: =AJ6 -> L | F8: =AJ7 -> I | G8: =AJ8 -> F | H8: =AJ9 -> C | J8: =AJ10 -> G | K8: =AJ11 -> B | L8: =AJ12 -> CN | M8: =AJ13 -> D | N8: =AJ14 -> H | O8: =AJ15 -> K | P8: =AJ16 -> T | Q8: =AJ17 -> C | R8: =AJ18 -> S | S8: =AJ19 -> J | T8: =AJ20 -> S | U8: =AJ21 -> M | V8: =AJ22 -> D | W8: =AJ23 -> L | X8: =AJ24 -> R | Y8: =AJ25 -> P | Z8: =SUM(D31:Y31) -> 12 | AA8: =AJ26 -> 46 | AC8: =Z8 -> 12 | AG8: =TRIM(BB8) -> M | AH8: =TRIM(BC8) -> M | AI8: =TRIM(BD8) -> F | AJ8: =TRIM(BE8) -> F | AK8: =TRIM(BF8) -> F | AL8: =TRIM(BG8) -> F | AM8: =TRIM(BH8) -> F | AN8: =TRIM(BI8) | ... AZ8: =TRIM(BU8) -> F | BB8: M | BC8: M | BD8: F | BE8: F | BF8: F | BG8: F | BH8: F | BJ8: M | BK8: M | BL8: M | BM8: M | BN8: F | BO8: M | BP8: M | BQ8: F | BR8: M | BT8: M | BU8: F | BW8: 0.16666667 | BX8: M
C9: ='GRAND TOTALS'!C6 -> Jeanne | D9: =AK5 -> O | E9: =AK6 -> L | F9: =AK7 -> I | G9: =AK8 -> F | H9: =AK9 -> C | J9: =AK10 -> A | K9: =AK11 -> C | L9: =AK12 -> CN | M9: =AK13 -> J | N9: =AK14 -> H | O9: =AK15 -> K | P9: =AK16 -> T | Q9: =AK17 -> C | R9: =AK18 -> S | S9: =AK19 -> N | T9: =AK20 -> A | U9: =AK21 -> M | V9: =AK22 -> B | W9: =AK23 -> L | X9: =AK24 -> R | Y9: =AK25 -> P | Z9: =SUM(D32:Y32) -> 9 | AA9: =AK26 -> 45 | AC9: =Z9 -> 9 | AG9: =TRIM(BB9) -> M | AH9: =TRIM(BC9) -> M | AI9: =TRIM(BD9) -> C | AJ9: =TRIM(BE9) -> C | AK9: =TRIM(BF9) -> C | AL9: =TRIM(BG9) -> M | AM9: =TRIM(BH9) -> M | AN9: =TRIM(BI9) | ... AZ9: =TRIM(BU9) -> C | BB9: M | BC9: M | BD9: C | BE9: C | BF9: C | BG9: M | BH9: M | BJ9: C | BK9: M | BL9: M | BM9: C | BN9: C | BO9: C | BP9: M | BQ9: M | BR9: M | BT9: C | BU9: C | BW9: 0.20833333 | BX9: C
C10: ='GRAND TOTALS'!C7 -> Jackie | D10: =AL5 -> G | E10: =AL6 -> L | F10: =AL7 -> M | G10: =AL8 -> F | H10: =AL9 -> M | J10: =AL10 -> G | K10: =AL11 -> B | L10: =AL12 -> CL | M10: =AL13 -> D | N10: =AL14 -> I | O10: =AL15 -> M | P10: =AL16 -> G | Q10: =AL17 -> P | R10: =AL18 -> W | S10: =AL19 -> J | T10: =AL20 -> S | U10: =AL21 -> T | V10: =AL22 -> D | W10: =AL23 -> N | X10: =AL24 -> D | Y10: =AL25 -> C | Z10: =SUM(D33:Y33) -> 14 | AA10: =AL26 -> 36 | AC10: =Z10 -> 14 | AG10: =TRIM(BB10) -> G | AH10: =TRIM(BC10) -> G | AI10: =TRIM(BD10) -> G | AJ10: =TRIM(BE10) -> G | AK10: =TRIM(BF10) -> A | AL10: =TRIM(BG10) -> G | AM10: =TRIM(BH10) -> G | AN10: =TRIM(BI10) | ... AZ10: =TRIM(BU10) -> A | BB10: G | BC10: G | BD10: G | BE10: G | BF10: A | BG10: G | BH10: G | BJ10: G | BK10: G | BL10: G | BM10: G | BN10: G | BO10: G | BP10: A | BQ10: G | BR10: G | BT10: A | BU10: A | BW10: 0.5 | BX10: G
C11: ='GRAND TOTALS'!C8 -> Darla | D11: =AM5 -> O | E11: =AM6 -> L | F11: =AM7 -> M | G11: =AM8 -> F | H11: =AM9 -> M | J11: =AM10 -> G | K11: =AM11 -> B | L11: =AM12 -> CN | M11: =AM13 -> D | N11: =AM14 -> I | O11: =AM15 -> K | P11: =AM16 -> G | Q11: =AM17 -> P | R11: =AM18 -> S | S11: =AM19 -> J | T11: =AM20 -> S | U11: =AM21 -> M | V11: =AM22 -> B | W11: =AM23 -> N | X11: =AM24 -> R | Y11: =AM25 -> P | Z11: =SUM(D34:Y34) -> 12 | AA11: =AM26 -> 41 | AC11: =Z11 -> 12 | AG11: =TRIM(BB11) -> B | AH11: =TRIM(BC11) -> B | AI11: =TRIM(BD11) -> B | AJ11: =TRIM(BE11) -> B | AK11: =TRIM(BF11) -> C | AL11: =TRIM(BG11) -> B | AM11: =TRIM(BH11) -> B | AN11: =TRIM(BI11) -> B | ... AZ11: =TRIM(BU11) -> B | BB11: B | BC11: B | BD11: B | BE11: B | BF11: C | BG11: B | BH11: B | BI11: B | BJ11: B | BK11: B | BL11: B | BM11: B | BN11: B | BO11: B | BP11: B | BQ11: B | BR11: B | BT11: B | BU11: B | BW11: 0.54166667 | BX11: B
C12: ='GRAND TOTALS'!C9 -> Kieran | D12: =AN5 | E12: =AN6 | F12: =AN7 | G12: =AN8 | H12: =AN9 | J12: =AN10 | K12: =AN11 -> B | L12: =AN12 -> CN | M12: =AN13 -> J | N12: =AN14 -> H | O12: =AN15 -> K | P12: =AN16 -> T | Q12: =AN17 -> P | R12: =AN18 -> S | S12: =AN19 -> J | T12: =AN20 -> S | U12: =AN21 -> M | V12: =AN22 -> B | W12: =AN23 -> N | X12: =AN24 -> D | Y12: =AN25 -> P | Z12: =SUM(D35:Y35) -> 8 | AA12: =AN26 -> 36 | AC12: =Z12 -> 8 | AG12: =TRIM(BB12) -> CL | AH12: =TRIM(BC12) -> CL | AI12: =TRIM(BD12) -> CN | AJ12: =TRIM(BE12) -> CN | AK12: =TRIM(BF12) -> CN | AL12: =TRIM(BG12) -> CL | AM12: =TRIM(BH12) -> CN | AN12: =TRIM(BI12) -> CN | ... AZ12: =TRIM(BU12) -> CN | BB12: CL | BC12: CL | BD12: CN | BE12: CN | BF12: CN | BG12: CL | BH12: CN | BI12: CN | BJ12: CN | BK12: CL | BL12: CN | BM12: CN | BN12: CN | BO12: CN | BP12: CL | BQ12: CL | BR12: CN | BT12: CN | BU12: CN | BW12: 0.58333333 | BX12: CN
C13: ='GRAND TOTALS'!C10 -> Kaidan | D13: =AO5 -> G | E13: =AO6 -> L | F13: =AO7 -> M | G13: =AO8 -> M | H13: =AO9 -> C | J13: =AO10 -> G | K13: =AO11 -> B | L13: =AO12 -> CN | M13: =AO13 -> D | N13: =AO14 -> I | O13: =AO15 -> K | P13: =AO16 -> G | Q13: =AO17 -> P | R13: =AO18 -> S | S13: =AO19 -> J | T13: =AO20 -> S | U13: =AO21 -> M | V13: =AO22 -> B | W13: =AO23 -> N | X13: =AO24 -> R | Y13: =AO25 -> P | Z13: =SUM(D36:Y36) -> 13 | AA13: =AO26 -> 46 | AC13: =Z13 -> 13 | AG13: =TRIM(BB13) -> D | AH13: =TRIM(BC13) -> D | AI13: =TRIM(BD13) -> D | AJ13: =TRIM(BE13) -> D | AK13: =TRIM(BF13) -> J | AL13: =TRIM(BG13) -> D | AM13: =TRIM(BH13) -> D | AN13: =TRIM(BI13) -> J | ... AZ13: =TRIM(BU13) -> D | BB13: D | BC13: D | BD13: D | BE13: D | BF13: J | BG13: D | BH13: D | BI13: J | BJ13: D | BK13: D | BL13: D | BM13: D | BN13: D | BO13: D | BP13: J | BQ13: D | BR13: D | BT13: D | BU13: D | BW13: 0.625 | BX13: D
C14: ='GRAND TOTALS'!C11 -> Jim | D14: =AP5 -> G | E14: =AP6 -> L | F14: =AP7 -> I | G14: =AP8 -> M | H14: =AP9 -> M | J14: =AP10 -> G | K14: =AP11 -> B | L14: =AP12 -> CL | M14: =AP13 -> D | N14: =AP14 -> I | O14: =AP15 -> K | P14: =AP16 -> T | Q14: =AP17 -> C | R14: =AP18 -> S | S14: =AP19 -> N | T14: =AP20 -> S | U14: =AP21 -> T | V14: =AP22 -> B | W14: =AP23 -> L | X14: =AP24 -> R | Y14: =AP25 -> P | Z14: =SUM(D37:Y37) -> 11 | AA14: =AP26 -> 52 | AC14: =Z14 -> 11 | AG14: =TRIM(BB14) -> H | AH14: =TRIM(BC14) -> I | AI14: =TRIM(BD14) -> H | AJ14: =TRIM(BE14) -> H | AK14: =TRIM(BF14) -> H | AL14: =TRIM(BG14) -> I | AM14: =TRIM(BH14) -> I | AN14: =TRIM(BI14) -> H | ... AZ14: =TRIM(BU14) -> I | BB14: H | BC14: I | BD14: H | BE14: H | BF14: H | BG14: I | BH14: I | BI14: H | BJ14: I | BK14: I | BL14: I | BM14: H | BN14: I | BO14: H | BP14: I | BQ14: I | BR14: H | BT14: H | BU14: I | BW14: 0.66666667 | BX14: I
C15: ='GRAND TOTALS'!C12 -> Lisa | D15: =AQ5 -> G | E15: =AQ6 -> L | F15: =AQ7 -> M | G15: =AQ8 -> M | H15: =AQ9 -> M | J15: =AQ10 -> G | K15: =AQ11 -> B | L15: =AQ12 -> CN | M15: =AQ13 -> D | N15: =AQ14 -> I | O15: =AQ15 -> K | P15: =AQ16 -> T | Q15: =AQ17 -> P | R15: =AQ18 -> S | S15: =AQ19 -> N | T15: =AQ20 -> S | U15: =AQ21 -> M | V15: =AQ22 -> D | W15: =AQ23 -> L | X15: =AQ24 -> R | Y15: =AQ25 -> P | Z15: =SUM(D38:Y38) -> 10 | AA15: =AQ26 -> 28 | AC15: =Z15 -> 10 | AG15: =TRIM(BB15) -> K | AH15: =TRIM(BC15) -> K | AI15: =TRIM(BD15) -> K | AJ15: =TRIM(BE15) -> K | AK15: =TRIM(BF15) -> K | AL15: =TRIM(BG15) -> M | AM15: =TRIM(BH15) -> K | AN15: =TRIM(BI15) -> K | ... AZ15: =TRIM(BU15) -> K | BB15: K | BC15: K | BD15: K | BE15: K | BF15: K | BG15: M | BH15: K | BI15: K | BJ15: K | BK15: K | BL15: K | BM15: K | BN15: K | BO15: K | BP15: K | BQ15: K | BR15: K | BT15: K | BU15: K | BW15: 0.70833333 | BX15: K
C16: ='GRAND TOTALS'!C13 -> Stuart | D16: =AR5 -> G | E16: =AR6 -> L | F16: =AR7 -> I | G16: =AR8 -> M | H16: =AR9 -> C | J16: =AR10 -> G | K16: =AR11 -> B | L16: =AR12 -> CN | M16: =AR13 -> D | N16: =AR14 -> H | O16: =AR15 -> K | P16: =AR16 -> T | Q16: =AR17 -> C | R16: =AR18 -> S | S16: =AR19 -> J | T16: =AR20 -> S | U16: =AR21 -> T | V16: =AR22 -> B | W16: =AR23 -> N | X16: =AR24 -> D | Y16: =AR25 -> C | Z16: =SUM(D39:Y39) -> 12 | AA16: =AR26 -> 42 | AC16: =Z16 -> 12 | AG16: =TRIM(BB16) -> G | AH16: =TRIM(BC16) -> T | AI16: =TRIM(BD16) -> T | AJ16: =TRIM(BE16) -> T | AK16: =TRIM(BF16) -> T | AL16: =TRIM(BG16) -> G | AM16: =TRIM(BH16) -> G | AN16: =TRIM(BI16) -> T | ... AZ16: =TRIM(BU16) -> T | BB16: G | BC16: T | BD16: T | BE16: T | BF16: T | BG16: G | BH16: G | BI16: T | BJ16: G | BK16: T | BL16: T | BM16: T | BN16: G | BO16: G | BP16: T | BQ16: G | BR16: G | BT16: T | BU16: T | BW16: 0.75 | BX16: G
C17: ='GRAND TOTALS'!C14 -> Debbie | D17: =AS5 -> G | E17: =AS6 -> L | F17: =AS7 -> M | G17: =AS8 -> F | H17: =AS9 -> C | J17: =AS10 -> G | K17: =AS11 -> B | L17: =AS12 -> CN | M17: =AS13 -> D | N17: =AS14 -> I | O17: =AS15 -> K | P17: =AS16 -> G | Q17: =AS17 -> C | R17: =AS18 -> S | S17: =AS19 -> J | T17: =AS20 -> S | U17: =AS21 -> M | V17: =AS22 -> B | W17: =AS23 -> N | X17: =AS24 -> R | Y17: =AS25 -> P | Z17: =SUM(D40:Y40) -> 13 | AA17: =AS26 -> 41 | AC17: =Z17 -> 13 | AG17: =TRIM(BB17) -> P | AH17: =TRIM(BC17) -> P | AI17: =TRIM(BD17) -> C | AJ17: =TRIM(BE17) -> C | AK17: =TRIM(BF17) -> C | AL17: =TRIM(BG17) -> P | AM17: =TRIM(BH17) -> P | AN17: =TRIM(BI17) -> P | ... AZ17: =TRIM(BU17) -> P | BB17: P | BC17: P | BD17: C | BE17: C | BF17: C | BG17: P | BH17: P | BI17: P | BJ17: P | BK17: C | BL17: P | BM17: C | BN17: C | BO17: C | BP17: P | BQ17: P | BR17: P | BT17: C | BU17: P | BW17: 0.79166667 | BX17: P
C18: ='GRAND TOTALS'!C15 -> Scott | D18: =AT5 -> G | E18: =AT6 -> L | F18: =AT7 -> M | G18: =AT8 -> M | H18: =AT9 -> C | J18: =AT10 -> G | K18: =AT11 -> B | L18: =AT12 -> CN | M18: =AT13 -> D | N18: =AT14 -> H | O18: =AT15 -> K | P18: =AT16 -> G | Q18: =AT17 -> C | R18: =AT18 -> S | S18: =AT19 -> J | T18: =AT20 -> S | U18: =AT21 -> M | V18: =AT22 -> B | W18: =AT23 -> N | X18: =AT24 -> R | Y18: =AT25 -> P | Z18: =SUM(D41:Y41) -> 11 | AA18: =AT26 -> 49 | AC18: =Z18 -> 11 | AG18: =TRIM(BB18) -> S | AH18: =TRIM(BC18) -> S | AI18: =TRIM(BD18) -> S | AJ18: =TRIM(BE18) -> S | AK18: =TRIM(BF18) -> S | AL18: =TRIM(BG18) -> W | AM18: =TRIM(BH18) -> S | AN18: =TRIM(BI18) -> S | ... AZ18: =TRIM(BU18) -> S | BB18: S | BC18: S | BD18: S | BE18: S | BF18: S | BG18: W | BH18: S | BI18: S | BJ18: S | BK18: S | BL18: S | BM18: S | BN18: S | BO18: S | BP18: W | BQ18: S | BR18: S | BT18: S | BU18: S | BW18: 0.83333333 | BX18: S
C19: ='GRAND TOTALS'!C16 -> Michelle | D19: =AU5 -> O | E19: =AU6 -> L | F19: =AU7 -> I | G19: =AU8 -> M | H19: =AU9 -> M | J19: =AT11 -> B | K19: =AU11 -> B | L19: =AU12 -> CL | M19: =AU13 -> J | N19: =AU14 -> I | O19: =AU15 -> K | P19: =AU16 -> T | Q19: =AU17 -> P | R19: =AU18 -> W | S19: =AU19 -> N | T19: =AU20 -> S | U19: =AU21 -> T | V19: =AU22 -> B | W19: =AU23 -> N | X19: =AU24 -> R | Y19: =AU25 -> P | Z19: =SUM(D42:Y42) -> 10 | AA19: =AU26 -> 32 | AC19: =Z19 -> 10 | AG19: =TRIM(BB19) -> N | AH19: =TRIM(BC19) -> J | AI19: =TRIM(BD19) -> J | AJ19: =TRIM(BE19) -> J | AK19: =TRIM(BF19) -> N | AL19: =TRIM(BG19) -> J | AM19: =TRIM(BH19) -> J | AN19: =TRIM(BI19) -> J | ... AZ19: =TRIM(BU19) -> N | BB19: N | BC19: J | BD19: J | BE19: J | BF19: N | BG19: J | BH19: J | BI19: J | BJ19: J | BK19: N | BL19: N | BM19: J | BN19: J | BO19: J | BP19: N | BQ19: N | BR19: N | BT19: N | BU19: N | BW19: 0.875 | BX19: J
C20: ='GRAND TOTALS'!C17 -> Teri | D20: =AV5 -> G | E20: =AV6 -> L | F20: =AV7 -> M | G20: =AV8 -> F | H20: =AV9 -> M | J20: =AV10 -> G | K20: =AV11 -> B | L20: =AV12 -> CL | M20: =AV13 -> D | N20: =AV14 -> I | O20: =AV15 -> K | P20: =AV16 -> G | Q20: =AV17 -> P | R20: =AV18 -> S | S20: =AV19 -> N | T20: =AV20 -> A | U20: =AV21 -> T | V20: =AV22 -> B | W20: =AV23 -> L | X20: =AV24 -> R | Y20: =AV25 -> P | Z20: =SUM(D43:Y43) -> 12 | AA20: =AV26 -> 24 | AC20: =Z20 -> 12 | AG20: =TRIM(BB20) -> S | AH20: =TRIM(BC20) -> S | AI20: =TRIM(BD20) -> S | AJ20: =TRIM(BE20) -> S | AK20: =TRIM(BF20) -> A | AL20: =TRIM(BG20) -> S | AM20: =TRIM(BH20) -> S | AN20: =TRIM(BI20) -> S | ... AZ20: =TRIM(BU20) -> S | BB20: S | BC20: S | BD20: S | BE20: S | BF20: A | BG20: S | BH20: S | BI20: S | BJ20: S | BK20: S | BL20: S | BM20: S | BN20: S | BO20: S | BP20: S | BQ20: A | BR20: S | BT20: S | BU20: S | BW20: 0.91666667 | BX20: S
C21: ='GRAND TOTALS'!C18 -> Steve | D21: =AW5 -> G | E21: =AW6 -> T | F21: =AW7 -> M | G21: =AW8 -> M | H21: =AW9 -> M | J21: =AW10 -> G | K21: =AW11 -> B | L21: =AW12 -> CN | M21: =AW13 -> D | N21: =AW14 -> H | O21: =AW15 -> K | P21: =AW16 -> G | Q21: =AW17 -> P | R21: =AW18 -> S | S21: =AW19 -> N | T21: =AW20 -> S | U21: =AW21 -> T | V21: =AW22 -> D | W21: =AW23 -> L | X21: =AW24 -> D | Y21: =AW25 -> C | Z21: =SUM(D44:Y44) -> 10 | AA21: =AW26 -> 47 | AC21: =Z21 -> 10 | AG21: =TRIM(BB21) -> M | AH21: =TRIM(BC21) -> T | AI21: =TRIM(BD21) -> M | AJ21: =TRIM(BE21) -> M | AK21: =TRIM(BF21) -> M | AL21: =TRIM(BG21) -> T | AM21: =TRIM(BH21) -> M | AN21: =TRIM(BI21) -> M | ... AZ21: =TRIM(BU21) -> M | BB21: M | BC21: T | BD21: M | BE21: M | BF21: M | BG21: T | BH21: M | BI21: M | BJ21: M | BK21: T | BL21: M | BM21: T | BN21: M | BO21: M | BP21: T | BQ21: T | BR21: T | BT21: T | BU21: M | BW21: 0.95833333 | BX21: M
C22: ='GRAND TOTALS'!#REF! -> #REF! | D22: =AX5 | E22: =AX6 | F22: =AX7 | G22: =AX8 | H22: =AX9 | J22: =AX10 | K22: =AX11 | L22: =AX12 | M22: =AX13 | N22: =AX14 | O22: =AX15 | P22: =AX16 | Q22: =AX17 | R22: =AX18 | S22: =AX19 | T22: =AX20 | U22: =AX21 | V22: =AX22 | W22: =AX23 | X22: =AX24 | Y22: =AX25 | Z22: =SUM(D45:Y45) -> 0 | AA22: =AX26 | AC22: =Z22 -> 0 | AG22: =TRIM(BB22) -> D | AH22: =TRIM(BC22) -> B | AI22: =TRIM(BD22) -> D | AJ22: =TRIM(BE22) -> D | AK22: =TRIM(BF22) -> B | AL22: =TRIM(BG22) -> D | AM22: =TRIM(BH22) -> B | AN22: =TRIM(BI22) -> B | ... AZ22: =TRIM(BU22) -> D | BB22: D | BC22: B | BD22: D | BE22: D | BF22: B | BG22: D | BH22: B | BI22: B | BJ22: B | BK22: B | BL22: D | BM22: B | BN22: B | BO22: B | BP22: B | BQ22: B | BR22: D | BT22: B | BU22: D | BW22: 1 | BX22: B
C23: Jamie | D23: =AY5 -> G | E23: =AY6 -> L | F23: =AY7 -> M | G23: =AY8 -> M | H23: =AY9 -> C | J23: =AY10 -> A | K23: =AY11 -> B | L23: =AY12 -> CN | M23: =AY13 -> D | N23: =AY14 -> H | O23: =AY15 -> K | P23: =AY16 -> T | Q23: =AY17 -> C | R23: =AY18 -> S | S23: =AY19 -> N | T23: =AY20 -> S | U23: =AY21 -> T | V23: =AY22 -> B | W23: =AY23 -> L | X23: =AY24 -> R | Y23: =AY25 -> P | Z23: =SUM(D46:Y46) -> 10 | AA23: =AY26 -> 32 | AC23: =Z23 -> 10 | AG23: =TRIM(BB23) -> N | AH23: =TRIM(BC23) -> N | AI23: =TRIM(BD23) -> L | AJ23: =TRIM(BE23) -> L | AK23: =TRIM(BF23) -> L | AL23: =TRIM(BG23) -> N | AM23: =TRIM(BH23) -> N | AN23: =TRIM(BI23) -> N | ... AZ23: =TRIM(BU23) -> N | BB23: N | BC23: N | BD23: L | BE23: L | BF23: L | BG23: N | BH23: N | BI23: N | BJ23: N | BK23: L | BL23: L | BM23: N | BN23: N | BO23: N | BP23: N | BQ23: L | BR23: L | BT23: L | BU23: N | BW23: 1.0416667 | BX23: N
C24: Kelly | D24: =AZ5 -> G | E24: =AZ6 -> T | F24: =AZ7 -> M | G24: =AZ8 -> F | H24: =AZ9 -> C | J24: =AZ10 -> A | K24: =AZ11 -> B | L24: =AZ12 -> CN | M24: =AZ13 -> D | N24: =AZ14 -> I | O24: =AZ15 -> K | P24: =AZ16 -> T | Q24: =AZ17 -> P | R24: =AZ18 -> S | S24: =AZ19 -> N | T24: =AZ20 -> S | U24: =AZ21 -> M | V24: =AZ22 -> D | W24: =AZ23 -> N | X24: =AZ24 -> D | Y24: =AZ25 -> P | Z24: =SUM(D47:Y47) -> 12 | AA24: =AZ26 -> 43 | AC24: =Z24 -> 12 | AG24: =TRIM(BB24) -> R | AH24: =TRIM(BC24) -> D | AI24: =TRIM(BD24) -> R | AJ24: =TRIM(BE24) -> R | AK24: =TRIM(BF24) -> R | AL24: =TRIM(BG24) -> D | AM24: =TRIM(BH24) -> R | AN24: =TRIM(BI24) -> D | ... AZ24: =TRIM(BU24) -> D | BB24: R | BC24: D | BD24: R | BE24: R | BF24: R | BG24: D | BH24: R | BI24: D | BJ24: R | BK24: R | BL24: R | BM24: D | BN24: R | BO24: R | BP24: R | BQ24: R | BR24: D | BT24: R | BU24: D | BW24: 1.0833333 | BX24: R
AG25: =TRIM(BB25) -> P | AH25: =TRIM(BC25) -> P | AI25: =TRIM(BD25) -> P | AJ25: =TRIM(BE25) -> P | AK25: =TRIM(BF25) -> P | AL25: =TRIM(BG25) -> C | AM25: =TRIM(BH25) -> P | AN25: =TRIM(BI25) -> P | ... AZ25: =TRIM(BU25) -> P | BB25: P | BC25: P | BD25: P | BE25: P | BF25: P | BG25: C | BH25: P | BI25: P | BJ25: P | BK25: P | BL25: P | BM25: C | BN25: P | BO25: P | BP25: P | BQ25: P | BR25: C | BT25: P | BU25: P | BW25: 1.125 | BX25: P
G26: Correct Pick | N26: Upset Pick | AG26: =TRIM(BB26) -> 49 | AH26: =TRIM(BC26) -> 49 | AI26: =TRIM(BD26) -> 46 | AJ26: =TRIM(BE26) -> 46 | AK26: =TRIM(BF26) -> 45 | AL26: =TRIM(BG26) -> 36 | AM26: =TRIM(BH26) -> 41 | AN26: =TRIM(BI26) -> 36 | ... AZ26: =TRIM(BU26) -> 43 | BB26: 49 | BC26: 49 | BD26: 46 | BE26: 46 | BF26: 45 | BG26: 36 | BH26: 41 | BI26: 36 | BJ26: 46 | BK26: 52 | BL26: 28 | BM26: 42 | BN26: 41 | BO26: 49 | BP26: 32 | BQ26: 24 | BR26: 47 | BT26: 32 | BU26: 43 | BW26: Tiebreaker: | BX26: 46
C28: =C5 -> Fred | D28: =IF(D5=D$4,1,0) -> 1 | E28: =IF(E5=E$4,1,0) -> 1 | F28: =IF(F5=F$4,1,0) -> 0 | G28: =IF(G5=G$4,1,0) -> 0 | H28: =IF(H5=H$4,1,0) -> 0 | J28: =IF(J5=J$4,1,0) -> 0 | K28: =IF(K5=K$4,1,0) -> 1 | L28: =IF(L5=L$4,1,0) -> 1 | M28: =IF(M5=M$4,1,0) -> 1 | N28: =IF(N5=N$4,1,0) -> 0 | O28: =IF(O5=O$4,1,0) -> 1 | P28: =IF(P5=P$4,1,0) -> 1 | Q28: =IF(Q5=Q$4,1,0) -> 1 | ... Y28: =IF(Y5=Y$4,1,0) -> 0
C29: =C6 -> Joni | D29: =IF(D6=D$4,1,0) -> 1 | E29: =IF(E6=E$4,1,0) -> 1 | F29: =IF(F6=F$4,1,0) -> 0 | G29: =IF(G6=G$4,1,0) -> 0 | H29: =IF(H6=H$4,1,0) -> 0 | J29: =IF(J6=J$4,1,0) -> 0 | K29: =IF(K6=K$4,1,0) -> 1 | L29: =IF(L6=L$4,1,0) -> 1 | M29: =IF(M6=M$4,1,0) -> 1 | N29: =IF(N6=N$4,1,0) -> 1 | O29: =IF(O6=O$4,1,0) -> 1 | P29: =IF(P6=P$4,1,0) -> 0 | Q29: =IF(Q6=Q$4,1,0) -> 1 | ... Y29: =IF(Y6=Y$4,1,0) -> 0
C30: =C7 -> Tara | D30: =IF(D7=D$4,1,0) -> 1 | E30: =IF(E7=E$4,1,0) -> 1 | F30: =IF(F7=F$4,1,0) -> 1 | G30: =IF(G7=G$4,1,0) -> 1 | H30: =IF(H7=H$4,1,0) -> 1 | J30: =IF(J7=J$4,1,0) -> 0 | K30: =IF(K7=K$4,1,0) -> 1 | L30: =IF(L7=L$4,1,0) -> 0 | M30: =IF(M7=M$4,1,0) -> 1 | N30: =IF(N7=N$4,1,0) -> 0 | O30: =IF(O7=O$4,1,0) -> 1 | P30: =IF(P7=P$4,1,0) -> 0 | Q30: =IF(Q7=Q$4,1,0) -> 0 | ... Y30: =IF(Y7=Y$4,1,0) -> 0
C31: =C8 -> Roger | D31: =IF(D8=D$4,1,0) -> 1 | E31: =IF(E8=E$4,1,0) -> 1 | F31: =IF(F8=F$4,1,0) -> 1 | G31: =IF(G8=G$4,1,0) -> 1 | H31: =IF(H8=H$4,1,0) -> 1 | J31: =IF(J8=J$4,1,0) -> 0 | K31: =IF(K8=K$4,1,0) -> 1 | L31: =IF(L8=L$4,1,0) -> 0 | M31: =IF(M8=M$4,1,0) -> 1 | N31: =IF(N8=N$4,1,0) -> 0 | O31: =IF(O8=O$4,1,0) -> 1 | P31: =IF(P8=P$4,1,0) -> 0 | Q31: =IF(Q8=Q$4,1,0) -> 0 | ... Y31: =IF(Y8=Y$4,1,0) -> 0
C32: =C9 -> Jeanne | D32: =IF(D9=D$4,1,0) -> 0 | E32: =IF(E9=E$4,1,0) -> 1 | F32: =IF(F9=F$4,1,0) -> 1 | G32: =IF(G9=G$4,1,0) -> 1 | H32: =IF(H9=H$4,1,0) -> 1 | J32: =IF(J9=J$4,1,0) -> 1 | K32: =IF(K9=K$4,1,0) -> 0 | L32: =IF(L9=L$4,1,0) -> 0 | M32: =IF(M9=M$4,1,0) -> 0 | N32: =IF(N9=N$4,1,0) -> 0 | O32: =IF(O9=O$4,1,0) -> 1 | P32: =IF(P9=P$4,1,0) -> 0 | Q32: =IF(Q9=Q$4,1,0) -> 0 | ... Y32: =IF(Y9=Y$4,1,0) -> 0
C33: =C10 -> Jackie | D33: =IF(D10=D$4,1,0) -> 1 | E33: =IF(E10=E$4,1,0) -> 1 | F33: =IF(F10=F$4,1,0) -> 0 | G33: =IF(G10=G$4,1,0) -> 1 | H33: =IF(H10=H$4,1,0) -> 0 | J33: =IF(J10=J$4,1,0) -> 0 | K33: =IF(K10=K$4,1,0) -> 1 | L33: =IF(L10=L$4,1,0) -> 1 | M33: =IF(M10=M$4,1,0) -> 1 | N33: =IF(N10=N$4,1,0) -> 1 | O33: =IF(O10=O$4,1,0) -> 0 | P33: =IF(P10=P$4,1,0) -> 1 | Q33: =IF(Q10=Q$4,1,0) -> 1 | ... Y33: =IF(Y10=Y$4,1,0) -> 1
C34: =C11 -> Darla | D34: =IF(D11=D$4,1,0) -> 0 | E34: =IF(E11=E$4,1,0) -> 1 | F34: =IF(F11=F$4,1,0) -> 0 | G34: =IF(G11=G$4,1,0) -> 1 | H34: =IF(H11=H$4,1,0) -> 0 | J34: =IF(J11=J$4,1,0) -> 0 | K34: =IF(K11=K$4,1,0) -> 1 | L34: =IF(L11=L$4,1,0) -> 0 | M34: =IF(M11=M$4,1,0) -> 1 | N34: =IF(N11=N$4,1,0) -> 1 | O34: =IF(O11=O$4,1,0) -> 1 | P34: =IF(P11=P$4,1,0) -> 1 | Q34: =IF(Q11=Q$4,1,0) -> 1 | ... Y34: =IF(Y11=Y$4,1,0) -> 0
C35: =C12 -> Kieran | D35: =IF(D12=D$4,1,0) -> 0 | E35: =IF(E12=E$4,1,0) -> 0 | F35: =IF(F12=F$4,1,0) -> 0 | G35: =IF(G12=G$4,1,0) -> 0 | H35: =IF(H12=H$4,1,0) -> 0 | J35: =IF(J12=J$4,1,0) -> 0 | K35: =IF(K12=K$4,1,0) -> 1 | L35: =IF(L12=L$4,1,0) -> 0 | M35: =IF(M12=M$4,1,0) -> 0 | N35: =IF(N12=N$4,1,0) -> 0 | O35: =IF(O12=O$4,1,0) -> 1 | P35: =IF(P12=P$4,1,0) -> 0 | Q35: =IF(Q12=Q$4,1,0) -> 1 | ... Y35: =IF(Y12=Y$4,1,0) -> 0
C36: =C13 -> Kaidan | D36: =IF(D13=D$4,1,0) -> 1 | E36: =IF(E13=E$4,1,0) -> 1 | F36: =IF(F13=F$4,1,0) -> 0 | G36: =IF(G13=G$4,1,0) -> 0 | H36: =IF(H13=H$4,1,0) -> 1 | J36: =IF(J13=J$4,1,0) -> 0 | K36: =IF(K13=K$4,1,0) -> 1 | L36: =IF(L13=L$4,1,0) -> 0 | M36: =IF(M13=M$4,1,0) -> 1 | N36: =IF(N13=N$4,1,0) -> 1 | O36: =IF(O13=O$4,1,0) -> 1 | P36: =IF(P13=P$4,1,0) -> 1 | Q36: =IF(Q13=Q$4,1,0) -> 1 | ... Y36: =IF(Y13=Y$4,1,0) -> 0
C37: =C14 -> Jim | D37: =IF(D14=D$4,1,0) -> 1 | E37: =IF(E14=E$4,1,0) -> 1 | F37: =IF(F14=F$4,1,0) -> 1 | G37: =IF(G14=G$4,1,0) -> 0 | H37: =IF(H14=H$4,1,0) -> 0 | J37: =IF(J14=J$4,1,0) -> 0 | K37: =IF(K14=K$4,1,0) -> 1 | L37: =IF(L14=L$4,1,0) -> 1 | M37: =IF(M14=M$4,1,0) -> 1 | N37: =IF(N14=N$4,1,0) -> 1 | O37: =IF(O14=O$4,1,0) -> 1 | P37: =IF(P14=P$4,1,0) -> 0 | Q37: =IF(Q14=Q$4,1,0) -> 0 | ... Y37: =IF(Y14=Y$4,1,0) -> 0
C38: =C15 -> Lisa | D38: =IF(D15=D$4,1,0) -> 1 | E38: =IF(E15=E$4,1,0) -> 1 | F38: =IF(F15=F$4,1,0) -> 0 | G38: =IF(G15=G$4,1,0) -> 0 | H38: =IF(H15=H$4,1,0) -> 0 | J38: =IF(J15=J$4,1,0) -> 0 | K38: =IF(K15=K$4,1,0) -> 1 | L38: =IF(L15=L$4,1,0) -> 0 | M38: =IF(M15=M$4,1,0) -> 1 | N38: =IF(N15=N$4,1,0) -> 1 | O38: =IF(O15=O$4,1,0) -> 1 | P38: =IF(P15=P$4,1,0) -> 0 | Q38: =IF(Q15=Q$4,1,0) -> 1 | ... Y38: =IF(Y15=Y$4,1,0) -> 0
C39: =C16 -> Stuart | D39: =IF(D16=D$4,1,0) -> 1 | E39: =IF(E16=E$4,1,0) -> 1 | F39: =IF(F16=F$4,1,0) -> 1 | G39: =IF(G16=G$4,1,0) -> 0 | H39: =IF(H16=H$4,1,0) -> 1 | J39: =IF(J16=J$4,1,0) -> 0 | K39: =IF(K16=K$4,1,0) -> 1 | L39: =IF(L16=L$4,1,0) -> 0 | M39: =IF(M16=M$4,1,0) -> 1 | N39: =IF(N16=N$4,1,0) -> 0 | O39: =IF(O16=O$4,1,0) -> 1 | P39: =IF(P16=P$4,1,0) -> 0 | Q39: =IF(Q16=Q$4,1,0) -> 0 | ... Y39: =IF(Y16=Y$4,1,0) -> 1
... C45: =C22 -> #REF! | D45: =IF(D22=D$4,1,0) -> 0 | E45: =IF(E22=E$4,1,0) -> 0 | F45: =IF(F22=F$4,1,0) -> 0 | G45: =IF(G22=G$4,1,0) -> 0 | H45: =IF(H22=H$4,1,0) -> 0 | J45: =IF(J22=J$4,1,0) -> 0 | K45: =IF(K22=K$4,1,0) -> 0 | L45: =IF(L22=L$4,1,0) -> 0 | M45: =IF(M22=M$4,1,0) -> 0 | N45: =IF(N22=N$4,1,0) -> 0 | O45: =IF(O22=O$4,1,0) -> 0 | P45: =IF(P22=P$4,1,0) -> 0 | Q45: =IF(Q22=Q$4,1,0) -> 0 | ... Y45: =IF(Y22=Y$4,1,0) -> 0
D46: =IF(D23=D$4,1,0) -> 1 | E46: =IF(E23=E$4,1,0) -> 1 | F46: =IF(F23=F$4,1,0) -> 0 | G46: =IF(G23=G$4,1,0) -> 0 | H46: =IF(H23=H$4,1,0) -> 1 | J46: =IF(J23=J$4,1,0) -> 1 | K46: =IF(K23=K$4,1,0) -> 1 | L46: =IF(L23=L$4,1,0) -> 0 | M46: =IF(M23=M$4,1,0) -> 1 | N46: =IF(N23=N$4,1,0) -> 0 | O46: =IF(O23=O$4,1,0) -> 1 | P46: =IF(P23=P$4,1,0) -> 0 | Q46: =IF(Q23=Q$4,1,0) -> 0 | ... Y46: =IF(Y23=Y$4,1,0) -> 0
D47: =IF(D24=D$4,1,0) -> 1 | E47: =IF(E24=E$4,1,0) -> 0 | F47: =IF(F24=F$4,1,0) -> 0 | G47: =IF(G24=G$4,1,0) -> 1 | H47: =IF(H24=H$4,1,0) -> 1 | J47: =IF(J24=J$4,1,0) -> 1 | K47: =IF(K24=K$4,1,0) -> 1 | L47: =IF(L24=L$4,1,0) -> 0 | M47: =IF(M24=M$4,1,0) -> 1 | N47: =IF(N24=N$4,1,0) -> 1 | O47: =IF(O24=O$4,1,0) -> 1 | P47: =IF(P24=P$4,1,0) -> 0 | Q47: =IF(Q24=Q$4,1,0) -> 1 | ... Y47: =IF(Y24=Y$4,1,0) -> 0

Sheet Week4
E2: col | K2: wk | M2: No | P2: 4 | U2: pro
D3: Kentucky @ South Carolina | E3: Washington @ USC | F3: Florida @ Missouri | G3: Navy @ Air Force | H3: North Greenville @ UNC Pembroke | J3: Pittsburgh @ Cleveland | K3: Indianapolis v Washington | L3: New England @ Buffalo | M3: Jets @ Chicago | N3: Jacksonville @ Cincinnati | O3: Arizona @ Giants | P3: Rams @ Philadelphia | Q3: Green Bay @ Tampa Bay | R3: Tennessee @ Baltimore | S3: Dallas @ Houston | T3: Miami @ Minnesota | U3: Kansas City @ Las Vegas | V3: Denver @ San Francisco | W3: Chargers @ Seattle | X3: Detroit @ Carolina | Y3: Atlanta @ New Oreans | Z3: TOTAL | AA3: TIEBREAKER | AC3: GRAND TOTAL | AG3: =C5 -> Fred | AH3: =C6 -> Joni | AI3: =C7 -> Tara | AJ3: =C8 -> Roger | AK3: =C9 -> Jeanne | AL3: =C10 -> Jackie | AM3: =C11 -> Darla | AN3: =C12 -> Kieran | AO3: =C13 -> Kaidan | AP3: =C14 -> Jim | AQ3: =C15 -> Lisa | AR3: =C16 -> Stuart | AS3: =C17 -> Debbie | AT3: =C18 -> Scott | AU3: =C19 -> Michelle | AV3: =C20 -> Teri | AW3: =C21 -> Steve | AX3: =C22 -> 0 | AY3: =C23 -> Jamie | AZ3: =C24 -> Kelly | BB3: =C5 -> Fred | BC3: =C6 -> Joni | BD3: =C7 -> Tara | BE3: =C8 -> Roger | BF3: Jeanne | BG3: =C10 -> Jackie | BH3: =C11 -> Darla | BI3: =C12 -> Kieran | BJ3: =C13 -> Kaidan | BK3: =C14 -> Jim | BL3: =C15 -> Lisa | BM3: =C16 -> Stuart | BN3: =C17 -> Debbie | BO3: =C18 -> Scott | BP3: =C19 -> Michelle | BQ3: =C20 -> Teri | BR3: =C21 -> Steve | BS3: =C22 -> 0 | BT3: =C23 -> Jamie | BU3: =C24 -> Kelly
C4: Winners | D4: K | E4: U | F4: M | G4: A | H4: N | J4: C | K4: I | L4: N | M4: C | N4: J | O4: G | P4: R | Q4: G | R4: B | S4: D | T4: MN | U4: K | V4: S | W4: S | X4: C | Y4: A
C5: ='GRAND TOTALS'!C2 -> Fred | D5: =AG5 -> S | E5: =AG6 -> U | F5: =AG7 -> F | G5: =AG8 -> A | H5: =AG9 -> U | J5: =AG10 -> P | K5: =AG11 -> W | L5: =AG12 -> B | M5: =AG13 -> C | N5: =AG14 -> C | O5: =AG15 -> G | P5: =AG16 -> R | Q5: =AG17 -> T | R5: =AG18 -> B | S5: =AG19 -> H | T5: =AG20 -> MN | U5: =AG21 -> K | V5: =AG22 -> S | W5: =AG23 -> S | X5: =AG24 -> D | Y5: =AG25 -> A | Z5: =SUM(D28:Y28) -> 11 | AA5: =AG26 -> 32 | AC5: =Z5+'Week 3'!AC5 -> 21 | AG5: =TRIM(BB5) -> S | AH5: =TRIM(BC5) -> S | AI5: =TRIM(BD5) -> S | AJ5: =TRIM(BE5) -> K | AK5: =TRIM(BF5) -> S | AL5: =TRIM(BG5) -> S | AM5: =TRIM(BH5) -> S | AN5: =TRIM(BI5) -> S | ... AZ5: =TRIM(BU5) -> S | BB5: S | BC5: S | BD5: S | BE5: K | BF5: S | BG5: S | BH5: S | BI5: S | BJ5: K | BK5: S | BL5: S | BM5: S | BN5: K | BO5: S | BQ5: S | BR5: S | BT5: S | BU5: S | BV5: 0.041666667 | BW5: S
C6: ='GRAND TOTALS'!C3 -> Joni | D6: =AH5 -> S | E6: =AH6 -> U | F6: =AH7 -> M | G6: =AH8 -> A | H6: =AH9 -> U | J6: =AH10 -> C | K6: =AH11 -> I | L6: =AH12 -> B | M6: =AH13 -> C | N6: =AH14 -> C | O6: =AH15 -> A | P6: =AH16 -> P | Q6: =AH17 -> T | R6: =AH18 -> B | S6: =AH19 -> H | T6: =AH20 -> MN | U6: =AH21 -> K | V6: =AH22 -> S | W6: =AH23 -> S | X6: =AH24 -> C | Y6: =AH25 -> N | Z6: =SUM(D29:Y29) -> 12 | AA6: =AH26 -> 49 | AC6: =Z6+'Week 3'!AC6 -> 24 | AG6: =TRIM(BB6) -> U | AH6: =TRIM(BC6) -> U | AI6: =TRIM(BD6) -> U | AJ6: =TRIM(BE6) -> U | AK6: =TRIM(BF6) -> U | AL6: =TRIM(BG6) -> U | AM6: =TRIM(BH6) -> U | AN6: =TRIM(BI6) -> U | ... AZ6: =TRIM(BU6) -> U | BB6: U | BC6: U | BD6: U | BE6: U | BF6: U | BG6: U | BH6: U | BI6: U | BJ6: U | BK6: U | BL6: U | BM6: W | BN6: U | BO6: U | BQ6: U | BR6: U | BT6: U | BU6: U | BV6: 0.083333333 | BW6: U
C7: ='GRAND TOTALS'!C4 -> Tara | D7: =AI5 -> S | E7: =AI6 -> U | F7: =AI7 -> F | G7: =AI8 -> A | H7: =AI9 -> N | J7: =AI10 -> C | K7: =AI11 -> W | L7: =AI12 -> B | M7: =AI13 -> C | N7: =AI14 -> C | O7: =AI15 -> G | P7: =AI16 -> R | Q7: =AI17 -> G | R7: =AI18 -> B | S7: =AI19 -> H | T7: =AI20 -> MN | U7: =AI21 -> K | V7: =AI22 -> S | W7: =AI23 -> S | X7: =AI24 -> D | Y7: =AI25 -> N | Z7: =SUM(D30:Y30) -> 13 | AA7: =AI26 -> 43 | AC7: =Z7+'Week 3'!AC7 -> 25 | AG7: =TRIM(BB7) -> F | AH7: =TRIM(BC7) -> M | AI7: =TRIM(BD7) -> F | AJ7: =TRIM(BE7) -> F | AK7: =TRIM(BF7) -> M | AL7: =TRIM(BG7) -> M | AM7: =TRIM(BH7) -> F | AN7: =TRIM(BI7) -> F | ... AZ7: =TRIM(BU7) -> F | BB7: F | BC7: M | BD7: F | BE7: F | BF7: M | BG7: M | BH7: F | BI7: F | BJ7: F | BK7: F | BL7: F | BM7: F | BN7: F | BO7: F | BQ7: F | BR7: F | BT7: F | BU7: F | BV7: 0.125 | BW7: F
C8: ='GRAND TOTALS'!C5 -> Roger | D8: =AJ5 -> K | E8: =AJ6 -> U | F8: =AJ7 -> F | G8: =AJ8 -> A | H8: =AJ9 -> N | J8: =AJ10 -> P | K8: =AJ11 -> W | L8: =AJ12 -> B | M8: =AJ13 -> C | N8: =AJ14 -> J | O8: =AJ15 -> G | P8: =AJ16 -> R | Q8: =AJ17 -> G | R8: =AJ18 -> B | S8: =AJ19 -> D | T8: =AJ20 -> MN | U8: =AJ21 -> K | V8: =AJ22 -> S | W8: =AJ23 -> S | X8: =AJ24 -> D | Y8: =AJ25 -> A | Z8: =SUM(D31:Y31) -> 16 | AA8: =AJ26 -> 34 | AC8: =Z8+'Week 3'!AC8 -> 28 | AG8: =TRIM(BB8) -> A | AH8: =TRIM(BC8) -> A | AI8: =TRIM(BD8) -> A | AJ8: =TRIM(BE8) -> A | AK8: =TRIM(BF8) -> A | AL8: =TRIM(BG8) -> A | AM8: =TRIM(BH8) -> N | AN8: =TRIM(BI8) -> N | ... AZ8: =TRIM(BU8) -> N | BB8: A | BC8: A | BD8: A | BE8: A | BF8: A | BG8: A | BH8: N | BI8: N | BJ8: A | BK8: A | BL8: A | BM8: N | BN8: A | BO8: A | BQ8: N | BR8: A | BT8: A | BU8: N | BV8: 0.16666667 | BW8: A
C9: ='GRAND TOTALS'!C6 -> Jeanne | D9: =AK5 -> S | E9: =AK6 -> U | F9: =AK7 -> M | G9: =AK8 -> A | H9: =AK9 -> U | J9: =AK10 -> C | K9: =AK11 -> W | L9: =AK12 -> B | M9: =AK13 -> C | N9: =AK14 -> C | O9: =AK15 -> G | P9: =AK16 -> P | Q9: =AK17 -> T | R9: =AK18 -> B | S9: =AK19 -> H | T9: =AK20 -> MN | U9: =AK21 -> L | V9: =AK22 -> S | W9: =AK23 -> S | X9: =AK24 -> C | Y9: =AK25 -> N | Z9: =SUM(D32:Y32) -> 11 | AA9: =AK26 -> 45 | AC9: =Z9+'Week 3'!AC9 -> 20 | AG9: =TRIM(BB9) -> U | AH9: =TRIM(BC9) -> U | AI9: =TRIM(BD9) -> N | AJ9: =TRIM(BE9) -> N | AK9: =TRIM(BF9) -> U | AL9: =TRIM(BG9) -> U | AM9: =TRIM(BH9) -> U | AN9: =TRIM(BI9) -> U | ... AZ9: =TRIM(BU9) -> N | BB9: U | BC9: U | BD9: N | BE9: N | BF9: U | BG9: U | BH9: U | BI9: U | BJ9: U | BK9: U | BL9: N | BM9: U | BN9: N | BO9: N | BQ9: N | BR9: U | BT9: U | BU9: N | BV9: 0.20833333 | BW9: N
C10: ='GRAND TOTALS'!C7 -> Jackie | D10: =AL5 -> S | E10: =AL6 -> U | F10: =AL7 -> M | G10: =AL8 -> A | H10: =AL9 -> U | J10: =AL10 -> C | K10: =AL11 -> W | L10: =AL12 -> B | M10: =AL13 -> C | N10: =AL14 -> C | O10: =AL15 -> G | P10: =AL16 -> P | Q10: =AL17 -> T | R10: =AL18 -> B | S10: =AL19 -> H | T10: =AL20 -> MN | U10: =AL21 -> L | V10: =AL22 -> S | W10: =AL23 -> S | X10: =AL24 -> C | Y10: =AL25 -> N | Z10: =SUM(D33:Y33) -> 11 | AA10: =AL26 -> 36 | AC10: =Z10+'Week 3'!AC10 -> 25 | AG10: =TRIM(BB10) -> P | AH10: =TRIM(BC10) -> C | AI10: =TRIM(BD10) -> C | AJ10: =TRIM(BE10) -> P | AK10: =TRIM(BF10) -> C | AL10: =TRIM(BG10) -> C | AM10: =TRIM(BH10) -> P | AN10: =TRIM(BI10) -> P | ... AZ10: =TRIM(BU10) -> C | BB10: P | BC10: C | BD10: C | BE10: P | BF10: C | BG10: C | BH10: P | BI10: P | BJ10: P | BK10: C | BL10: P | BM10: P | BN10: P | BO10: P | BQ10: P | BR10: P | BT10: C | BU10: C | BV10: 0.5 | BW10: C
C11: ='GRAND TOTALS'!C8 -> Darla | D11: =AM5 -> S | E11: =AM6 -> U | F11: =AM7 -> F | G11: =AM8 -> N | H11: =AM9 -> U | J11: =AM10 -> P | K11: =AM11 -> I | L11: =AM12 -> B | M11: =AM13 -> J | N11: =AM14 -> J | O11: =AM15 -> A | P11: =AM16 -> P | Q11: =AM17 -> G | R11: =AM18 -> B | S11: =AM19 -> H | T11: =AM20 -> MN | U11: =AM21 -> K | V11: =AM22 -> D | W11: =AM23 -> S | X11: =AM24 -> D | Y11: =AM25 -> A | Z11: =SUM(D34:Y34) -> 9 | AA11: =AM26 -> 45 | AC11: =Z11+'Week 3'!AC11 -> 21 | AG11: =TRIM(BB11) -> W | AH11: =TRIM(BC11) -> I | AI11: =TRIM(BD11) -> W | AJ11: =TRIM(BE11) -> W | AK11: =TRIM(BF11) -> W | AL11: =TRIM(BG11) -> W | AM11: =TRIM(BH11) -> I | AN11: =TRIM(BI11) -> I | ... AZ11: =TRIM(BU11) -> W | BB11: W | BC11: I | BD11: W | BE11: W | BF11: W | BG11: W | BH11: I | BI11: I | BJ11: I | BK11: W | BL11: I | BM11: I | BN11: I | BO11: I | BQ11: I | BR11: I | BT11: I | BU11: W | BV11: 0.54166667 | BW11: W
C12: ='GRAND TOTALS'!C9 -> Kieran | D12: =AN5 -> S | E12: =AN6 -> U | F12: =AN7 -> F | G12: =AN8 -> N | H12: =AN9 -> U | J12: =AN10 -> P | K12: =AN11 -> I | L12: =AN12 -> B | M12: =AN13 -> J | N12: =AN14 -> J | O12: =AN15 -> A | P12: =AN16 -> R | Q12: =AN17 -> G | R12: =AN18 -> B | S12: =AN19 -> D | T12: =AN20 -> MN | U12: =AN21 -> L | V12: =AN22 -> S | W12: =AN23 -> S | X12: =AN24 -> C | Y12: =AN25 -> N | Z12: =SUM(D35:Y35) -> 11 | AA12: =AN26 -> 53 | AC12: =Z12+'Week 3'!AC12 -> 19 | AG12: =TRIM(BB12) -> B | AH12: =TRIM(BC12) -> B | AI12: =TRIM(BD12) -> B | AJ12: =TRIM(BE12) -> B | AK12: =TRIM(BF12) -> B | AL12: =TRIM(BG12) -> B | AM12: =TRIM(BH12) -> B | AN12: =TRIM(BI12) -> B | ... AZ12: =TRIM(BU12) -> B | BB12: B | BC12: B | BD12: B | BE12: B | BF12: B | BG12: B | BH12: B | BI12: B | BJ12: B | BK12: B | BL12: B | BM12: B | BN12: B | BO12: B | BQ12: B | BR12: B | BT12: B | BU12: B | BV12: 0.58333333 | BW12: B
C13: ='GRAND TOTALS'!C10 -> Kaidan | D13: =AO5 -> K | E13: =AO6 -> U | F13: =AO7 -> F | G13: =AO8 -> A | H13: =AO9 -> U | J13: =AO10 -> P | K13: =AO11 -> I | L13: =AO12 -> B | M13: =AO13 -> C | N13: =AO14 -> J | O13: =AO15 -> A | P13: =AO16 -> R | Q13: =AO17 -> T | R13: =AO18 -> B | S13: =AO19 -> D | T13: =AO20 -> MN | U13: =AO21 -> K | V13: =AO22 -> S | W13: =AO23 -> S | X13: =AO24 -> C | Y13: =AO25 -> N | Z13: =SUM(D36:Y36) -> 14 | AA13: =AO26 -> 48 | AC13: =Z13+'Week 3'!AC13 -> 27 | AG13: =TRIM(BB13) -> C | AH13: =TRIM(BC13) -> C | AI13: =TRIM(BD13) -> C | AJ13: =TRIM(BE13) -> C | AK13: =TRIM(BF13) -> C | AL13: =TRIM(BG13) -> C | AM13: =TRIM(BH13) -> J | AN13: =TRIM(BI13) -> J | ... AZ13: =TRIM(BU13) -> C | BB13: C | BC13: C | BD13: C | BE13: C | BF13: C | BG13: C | BH13: J | BI13: J | BJ13: C | BK13: C | BL13: C | BM13: C | BN13: C | BO13: C | BQ13: C | BR13: C | BT13: C | BU13: C | BV13: 0.625 | BW13: C
C14: ='GRAND TOTALS'!C11 -> Jim | D14: =AP5 -> S | E14: =AP6 -> U | F14: =AP7 -> F | G14: =AP8 -> A | H14: =AP9 -> U | J14: =AP10 -> C | K14: =AP11 -> W | L14: =AP12 -> B | M14: =AP13 -> C | N14: =AP14 -> C | O14: =AP15 -> A | P14: =AP16 -> R | Q14: =AP17 -> G | R14: =AP18 -> B | S14: =AP19 -> H | T14: =AP20 -> MN | U14: =AP21 -> K | V14: =AP22 -> D | W14: =AP23 -> S | X14: =AP24 -> D | Y14: =AP25 -> A | Z14: =SUM(D37:Y37) -> 11 | AA14: =AP26 -> 49 | AC14: =Z14+'Week 3'!AC14 -> 22 | AG14: =TRIM(BB14) -> C | AH14: =TRIM(BC14) -> C | AI14: =TRIM(BD14) -> C | AJ14: =TRIM(BE14) -> J | AK14: =TRIM(BF14) -> C | AL14: =TRIM(BG14) -> C | AM14: =TRIM(BH14) -> J | AN14: =TRIM(BI14) -> J | ... AZ14: =TRIM(BU14) -> J | BB14: C | BC14: C | BD14: C | BE14: J | BF14: C | BG14: C | BH14: J | BI14: J | BJ14: J | BK14: C | BL14: J | BM14: J | BN14: C | BO14: C | BQ14: J | BR14: C | BT14: C | BU14: J | BV14: 0.66666667 | BW14: C
C15: ='GRAND TOTALS'!C12 -> Lisa | D15: =AQ5 -> S | E15: =AQ6 -> U | F15: =AQ7 -> F | G15: =AQ8 -> A | H15: =AQ9 -> N | J15: =AQ10 -> P | K15: =AQ11 -> I | L15: =AQ12 -> B | M15: =AQ13 -> C | N15: =AQ14 -> J | O15: =AQ15 -> G | P15: =AQ16 -> P | Q15: =AQ17 -> G | R15: =AQ18 -> B | S15: =AQ19 -> H | T15: =AQ20 -> MN | U15: =AQ21 -> K | V15: =AQ22 -> S | W15: =AQ23 -> S | X15: =AQ24 -> D | Y15: =AQ25 -> N | Z15: =SUM(D38:Y38) -> 13 | AA15: =AQ26 -> 35 | AC15: =Z15+'Week 3'!AC15 -> 23 | AG15: =TRIM(BB15) -> G | AH15: =TRIM(BC15) -> A | AI15: =TRIM(BD15) -> G | AJ15: =TRIM(BE15) -> G | AK15: =TRIM(BF15) -> G | AL15: =TRIM(BG15) -> G | AM15: =TRIM(BH15) -> A | AN15: =TRIM(BI15) -> A | ... AZ15: =TRIM(BU15) -> A | BB15: G | BC15: A | BD15: G | BE15: G | BF15: G | BG15: G | BH15: A | BI15: A | BJ15: A | BK15: A | BL15: G | BM15: A | BN15: A | BO15: A | BQ15: A | BR15: A | BT15: A | BU15: A | BV15: 0.70833333 | BW15: G
C16: ='GRAND TOTALS'!C13 -> Stuart | D16: =AR5 -> S | E16: =AR6 -> W | F16: =AR7 -> F | G16: =AR8 -> N | H16: =AR9 -> U | J16: =AR10 -> P | K16: =AR11 -> I | L16: =AR12 -> B | M16: =AR13 -> C | N16: =AR14 -> J | O16: =AR15 -> A | P16: =AR16 -> R | Q16: =AR17 -> T | R16: =AR18 -> B | S16: =AR19 -> H | T16: =AR20 -> MN | U16: =AR21 -> K | V16: =AR22 -> S | W16: =AR23 -> S | X16: =AR24 -> D | Y16: =AR25 -> N | Z16: =SUM(D39:Y39) -> 9 | AA16: =AR26 -> 52 | AC16: =Z16+'Week 3'!AC16 -> 21 | AG16: =TRIM(BB16) -> R | AH16: =TRIM(BC16) -> P | AI16: =TRIM(BD16) -> R | AJ16: =TRIM(BE16) -> R | AK16: =TRIM(BF16) -> P | AL16: =TRIM(BG16) -> P | AM16: =TRIM(BH16) -> P | AN16: =TRIM(BI16) -> R | ... AZ16: =TRIM(BU16) -> P | BB16: R | BC16: P | BD16: R | BE16: R | BF16: P | BG16: P | BH16: P | BI16: R | BJ16: R | BK16: R | BL16: P | BM16: R | BN16: P | BO16: P | BQ16: R | BR16: R | BT16: R | BU16: P | BV16: 0.75 | BW16: R
C17: ='GRAND TOTALS'!C14 -> Debbie | D17: =AS5 -> K | E17: =AS6 -> U | F17: =AS7 -> F | G17: =AS8 -> A | H17: =AS9 -> N | J17: =AS10 -> P | K17: =AS11 -> I | L17: =AS12 -> B | M17: =AS13 -> C | N17: =AS14 -> C | O17: =AS15 -> A | P17: =AS16 -> P | Q17: =AS17 -> G | R17: =AS18 -> B | S17: =AS19 -> H | T17: =AS20 -> MN | U17: =AS21 -> K | V17: =AS22 -> S | W17: =AS23 -> S | X17: =AS24 -> D | Y17: =AS25 | Z17: =SUM(D40:Y40) -> 12 | AA17: =AS26 -> 48.5 | AC17: =Z17+'Week 3'!AC17 -> 25 | AG17: =TRIM(BB17) -> T | AH17: =TRIM(BC17) -> T | AI17: =TRIM(BD17) -> G | AJ17: =TRIM(BE17) -> G | AK17: =TRIM(BF17) -> T | AL17: =TRIM(BG17) -> T | AM17: =TRIM(BH17) -> G | AN17: =TRIM(BI17) -> G | ... AZ17: =TRIM(BU17) -> G | BB17: T | BC17: T | BD17: G | BE17: G | BF17: T | BG17: T | BH17: G | BI17: G | BJ17: T | BK17: G | BL17: G | BM17: T | BN17: G | BO17: G | BQ17: G | BR17: G | BT17: G | BU17: G | BV17: 0.79166667 | BW17: G
C18: ='GRAND TOTALS'!C15 -> Scott | D18: =AT5 -> S | E18: =AT6 -> U | F18: =AT7 -> F | G18: =AT8 -> A | H18: =AT9 -> N | J18: =AT10 -> P | K18: =AT11 -> I | L18: =AT12 -> B | M18: =AT13 -> C | N18: =AT14 -> C | O18: =AT15 -> A | P18: =AT16 -> P | Q18: =AT17 -> G | R18: =AT18 -> B | S18: =AT19 -> H | T18: =AT20 -> MN | U18: =AT21 -> K | V18: =AT22 -> S | W18: =AT23 -> S | X18: =AT24 -> D | Y18: =AT25 -> A | Z18: =SUM(D41:Y41) -> 12 | AA18: =AT26 -> 45 | AC18: =Z18+'Week 3'!AC18 -> 23 | AG18: =TRIM(BB18) -> B | AH18: =TRIM(BC18) -> B | AI18: =TRIM(BD18) -> B | AJ18: =TRIM(BE18) -> B | AK18: =TRIM(BF18) -> B | AL18: =TRIM(BG18) -> B | AM18: =TRIM(BH18) -> B | AN18: =TRIM(BI18) -> B | ... AZ18: =TRIM(BU18) -> B | BB18: B | BC18: B | BD18: B | BE18: B | BF18: B | BG18: B | BH18: B | BI18: B | BJ18: B | BK18: B | BL18: B | BM18: B | BN18: B | BO18: B | BQ18: B | BR18: B | BT18: B | BU18: B | BV18: 0.83333333 | BW18: B
C19: ='GRAND TOTALS'!C16 -> Michelle | D19: =AU5 | E19: =AU6 | F19: =AU7 | G19: =AU8 | H19: =AU9 | J19: =AU10 | K19: =AU11 | L19: =AU12 | M19: =AU13 | N19: =AU14 | O19: =AU15 | P19: =AU16 | Q19: =AU17 | R19: =AU18 | S19: =AU19 | T19: =AU20 | U19: =AU21 | V19: =AU22 | W19: =AU23 | X19: =AU24 | Y19: =AU25 | Z19: =SUM(D42:Y42) -> 0 | AA19: =AU26 | AC19: =Z19+'Week 3'!AC19 -> 10 | AG19: =TRIM(BB19) -> H | AH19: =TRIM(BC19) -> H | AI19: =TRIM(BD19) -> H | AJ19: =TRIM(BE19) -> D | AK19: =TRIM(BF19) -> H | AL19: =TRIM(BG19) -> H | AM19: =TRIM(BH19) -> H | AN19: =TRIM(BI19) -> D | ... AZ19: =TRIM(BU19) -> H | BB19: H | BC19: H | BD19: H | BE19: D | BF19: H | BG19: H | BH19: H | BI19: D | BJ19: D | BK19: H | BL19: H | BM19: H | BN19: H | BO19: H | BQ19: D | BR19: H | BT19: H | BU19: H | BV19: 0.875 | BW19: H
C20: ='GRAND TOTALS'!C17 -> Teri | D20: =AV5 -> S | E20: =AV6 -> U | F20: =AV7 -> F | G20: =AV8 -> N | H20: =AV9 -> N | J20: =AV10 -> P | K20: =AV11 -> I | L20: =AV12 -> B | M20: =AV13 -> C | N20: =AV14 -> J | O20: =AV15 -> A | P20: =AV16 -> R | Q20: =AV17 -> G | R20: =AV18 -> B | S20: =AV19 -> D | T20: =AV20 -> MN | U20: =AV21 -> K | V20: =AV22 -> S | W20: =AV23 -> S | X20: =AV24 -> D | Y20: =AV25 -> N | Z20: =SUM(D43:Y43) -> 13 | AA20: =AV26 -> 32 | AC20: =Z20+'Week 3'!AC20 -> 25 | AG20: =TRIM(BB20) -> MN | AH20: =TRIM(BC20) -> MN | AI20: =TRIM(BD20) -> MN | AJ20: =TRIM(BE20) -> MN | AK20: =TRIM(BF20) -> MN | AL20: =TRIM(BG20) -> MN | AM20: =TRIM(BH20) -> MN | AN20: =TRIM(BI20) -> MN | ... AZ20: =TRIM(BU20) -> MN | BB20: MN | BC20: MN | BD20: MN | BE20: MN | BF20: MN | BG20: MN | BH20: MN | BI20: MN | BJ20: MN | BK20: MN | BL20: MN | BM20: MN | BN20: MN | BO20: MN | BQ20: MN | BR20: MN | BT20: MN | BU20: MN | BV20: 0.91666667 | BW20: MN
C21: ='GRAND TOTALS'!C18 -> Steve | D21: =AW5 -> S | E21: =AW6 -> U | F21: =AW7 -> F | G21: =AW8 -> A | H21: =AW9 -> U | J21: =AW10 -> P | K21: =AW11 -> I | L21: =AW12 -> B | M21: =AW13 -> C | N21: =AW14 -> C | O21: =AW15 -> A | P21: =AW16 -> R | Q21: =AW17 -> G | R21: =AW18 -> B | S21: =AW19 -> H | T21: =AW20 -> MN | U21: =AW21 -> K | V21: =AW22 -> S | W21: =AW23 -> S | X21: =AW24 -> D | Y21: =AW25 -> N | Z21: =SUM(D44:Y44) -> 11 | AA21: =AW26 -> 47 | AC21: =Z21+'Week 3'!AC21 -> 21 | AG21: =TRIM(BB21) -> K | AH21: =TRIM(BC21) -> K | AI21: =TRIM(BD21) -> K | AJ21: =TRIM(BE21) -> K | AK21: =TRIM(BF21) -> L | AL21: =TRIM(BG21) -> L | AM21: =TRIM(BH21) -> K | AN21: =TRIM(BI21) -> L | ... AZ21: =TRIM(BU21) -> K | BB21: K | BC21: K | BD21: K | BE21: K | BF21: L | BG21: L | BH21: K | BI21: L | BJ21: K | BK21: K | BL21: K | BM21: K | BN21: K | BO21: K | BQ21: K | BR21: K | BT21: K | BU21: K | BV21: 0.95833333 | BW21: K
D22: =AX5 | E22: =AX6 | F22: =AX7 | G22: =AX8 | H22: =AX9 | J22: =AX10 | K22: =AX11 | L22: =AX12 | M22: =AX13 | N22: =AX14 | O22: =AX15 | P22: =AX16 | Q22: =AX17 | R22: =AX18 | S22: =AX19 | T22: =AX20 | U22: =AX21 | V22: =AX22 | W22: =AX23 | X22: =AX24 | Y22: =AX25 | Z22: =SUM(D45:Y45) -> 0 | AA22: =AX26 | AC22: =Z22+'Week 3'!AC22 -> 0 | AG22: =TRIM(BB22) -> S | AH22: =TRIM(BC22) -> S | AI22: =TRIM(BD22) -> S | AJ22: =TRIM(BE22) -> S | AK22: =TRIM(BF22) -> S | AL22: =TRIM(BG22) -> S | AM22: =TRIM(BH22) -> D | AN22: =TRIM(BI22) -> S | ... AZ22: =TRIM(BU22) -> D | BB22: S | BC22: S | BD22: S | BE22: S | BF22: S | BG22: S | BH22: D | BI22: S | BJ22: S | BK22: D | BL22: S | BM22: S | BN22: S | BO22: S | BQ22: S | BR22: S | BT22: S | BU22: D | BV22: 1 | BW22: S
C23: Jamie | D23: =AY5 -> S | E23: =AY6 -> U | F23: =AY7 -> F | G23: =AY8 -> A | H23: =AY9 -> U | J23: =AY10 -> C | K23: =AY11 -> I | L23: =AY12 -> B | M23: =AY13 -> C | N23: =AY14 -> C | O23: =AY15 -> A | P23: =AY16 -> R | Q23: =AY17 -> G | R23: =AY18 -> B | S23: =AY19 -> H | T23: =AY20 -> MN | U23: =AY21 -> K | V23: =AY22 -> S | W23: =AY23 -> S | X23: =AY24 -> D | Y23: =AY25 -> N | Z23: =SUM(D46:Y46) -> 12 | AA23: =AY26 -> 49 | AC23: =Z23+'Week 3'!AC23 -> 22 | AG23: =TRIM(BB23) -> S | AH23: =TRIM(BC23) -> S | AI23: =TRIM(BD23) -> S | AJ23: =TRIM(BE23) -> S | AK23: =TRIM(BF23) -> S | AL23: =TRIM(BG23) -> S | AM23: =TRIM(BH23) -> S | AN23: =TRIM(BI23) -> S | ... AZ23: =TRIM(BU23) -> S | BB23: S | BC23: S | BD23: S | BE23: S | BF23: S | BG23: S | BH23: S | BI23: S | BJ23: S | BK23: S | BL23: S | BM23: S | BN23: S | BO23: S | BQ23: S | BR23: S | BT23: S | BU23: S | BV23: 1.0416667 | BW23: S
C24: Kelly | D24: =AZ5 -> S | E24: =AZ6 -> U | F24: =AZ7 -> F | G24: =AZ8 -> N | H24: =AZ9 -> N | J24: =AZ10 -> C | K24: =AZ11 -> W | L24: =AZ12 -> B | M24: =AZ13 -> C | N24: =AZ14 -> J | O24: =AZ15 -> A | P24: =AZ16 -> P | Q24: =AZ17 -> G | R24: =AZ18 -> B | S24: =AZ19 -> H | T24: =AZ20 -> MN | U24: =AZ21 -> K | V24: =AZ22 -> D | W24: =AZ23 -> S | X24: =AZ24 -> D | Y24: =AZ25 -> N | Z24: =SUM(D47:Y47) -> 10 | AA24: =AZ26 -> 43 | AC24: =Z24+'Week 3'!AC24 -> 22 | AG24: =TRIM(BB24) -> D | AH24: =TRIM(BC24) -> C | AI24: =TRIM(BD24) -> D | AJ24: =TRIM(BE24) -> D | AK24: =TRIM(BF24) -> C | AL24: =TRIM(BG24) -> C | AM24: =TRIM(BH24) -> D | AN24: =TRIM(BI24) -> C | ... AZ24: =TRIM(BU24) -> D | BB24: D | BC24: C | BD24: D | BE24: D | BF24: C | BG24: C | BH24: D | BI24: C | BJ24: C | BK24: D | BL24: D | BM24: D | BN24: D | BO24: D | BQ24: D | BR24: D | BT24: D | BU24: D | BV24: 1.0833333 | BW24: D
AG25: =TRIM(BB25) -> A | AH25: =TRIM(BC25) -> N | AI25: N | AJ25: =TRIM(BE25) -> A | AK25: =TRIM(BF25) -> N | AL25: =TRIM(BG25) -> N | AM25: =TRIM(BH25) -> A | AN25: =TRIM(BI25) -> N | AO25: =TRIM(BJ25) -> N | AP25: =TRIM(BK25) -> A | AQ25: =TRIM(BL25) -> N | ... AZ25: =TRIM(BU25) -> N | BB25: A | BC25: N | BD25: n | BE25: A | BF25: N | BG25: N | BH25: A | BI25: N | BJ25: N | BK25: A | BL25: N | BM25: N | BO25: A | BQ25: N | BR25: N | BT25: N | BU25: N | BV25: 1.125 | BW25: L
G26: Correct Pick | N26: Upset Pick | AG26: =TRIM(BB26) -> 32 | AH26: =TRIM(BC26) -> 49 | AI26: =TRIM(BD26) -> 43 | AJ26: =TRIM(BE26) -> 34 | AK26: =TRIM(BF26) -> 45 | AL26: =TRIM(BG26) -> 36 | AM26: =TRIM(BH26) -> 45 | AN26: =TRIM(BI26) -> 53 | ... AZ26: =TRIM(BU26) -> 43 | BB26: 32 | BC26: 49 | BD26: 43 | BE26: 34 | BF26: 45 | BG26: 36 | BH26: 45 | BI26: 53 | BJ26: 48 | BK26: 49 | BL26: 35 | BM26: 52 | BN26: 48.5 | BO26: 45 | BQ26: 32 | BR26: 47 | BT26: 49 | BU26: 43 | BV26: Tiebreaker: | BW26: 43
C28: =C5 -> Fred | D28: =IF(D5=D$4,1,0) -> 0 | E28: =IF(E5=E$4,1,0) -> 1 | F28: =IF(F5=F$4,1,0) -> 0 | G28: =IF(G5=G$4,1,0) -> 1 | H28: =IF(H5=H$4,1,0) -> 0 | J28: =IF(J5=J$4,1,0) -> 0 | K28: =IF(K5=K$4,1,0) -> 0 | L28: =IF(L5=L$4,1,0) -> 0 | M28: =IF(M5=M$4,1,0) -> 1 | N28: =IF(N5=N$4,1,0) -> 0 | O28: =IF(O5=O$4,1,0) -> 1 | P28: =IF(P5=P$4,1,0) -> 1 | Q28: =IF(Q5=Q$4,1,0) -> 0 | ... Y28: =IF(Y5=Y$4,1,0) -> 1
C29: =C6 -> Joni | D29: =IF(D6=D$4,1,0) -> 0 | E29: =IF(E6=E$4,1,0) -> 1 | F29: =IF(F6=F$4,1,0) -> 1 | G29: =IF(G6=G$4,1,0) -> 1 | H29: =IF(H6=H$4,1,0) -> 0 | J29: =IF(J6=J$4,1,0) -> 1 | K29: =IF(K6=K$4,1,0) -> 1 | L29: =IF(L6=L$4,1,0) -> 0 | M29: =IF(M6=M$4,1,0) -> 1 | N29: =IF(N6=N$4,1,0) -> 0 | O29: =IF(O6=O$4,1,0) -> 0 | P29: =IF(P6=P$4,1,0) -> 0 | Q29: =IF(Q6=Q$4,1,0) -> 0 | ... Y29: =IF(Y6=Y$4,1,0) -> 0
C30: =C7 -> Tara | D30: =IF(D7=D$4,1,0) -> 0 | E30: =IF(E7=E$4,1,0) -> 1 | F30: =IF(F7=F$4,1,0) -> 0 | G30: =IF(G7=G$4,1,0) -> 1 | H30: =IF(H7=H$4,1,0) -> 1 | J30: =IF(J7=J$4,1,0) -> 1 | K30: =IF(K7=K$4,1,0) -> 0 | L30: =IF(L7=L$4,1,0) -> 0 | M30: =IF(M7=M$4,1,0) -> 1 | N30: =IF(N7=N$4,1,0) -> 0 | O30: =IF(O7=O$4,1,0) -> 1 | P30: =IF(P7=P$4,1,0) -> 1 | Q30: =IF(Q7=Q$4,1,0) -> 1 | ... Y30: =IF(Y7=Y$4,1,0) -> 0
C31: =C8 -> Roger | D31: =IF(D8=D$4,1,0) -> 1 | E31: =IF(E8=E$4,1,0) -> 1 | F31: =IF(F8=F$4,1,0) -> 0 | G31: =IF(G8=G$4,1,0) -> 1 | H31: =IF(H8=H$4,1,0) -> 1 | J31: =IF(J8=J$4,1,0) -> 0 | K31: =IF(K8=K$4,1,0) -> 0 | L31: =IF(L8=L$4,1,0) -> 0 | M31: =IF(M8=M$4,1,0) -> 1 | N31: =IF(N8=N$4,1,0) -> 1 | O31: =IF(O8=O$4,1,0) -> 1 | P31: =IF(P8=P$4,1,0) -> 1 | Q31: =IF(Q8=Q$4,1,0) -> 1 | ... Y31: =IF(Y8=Y$4,1,0) -> 1
C32: =C9 -> Jeanne | D32: =IF(D9=D$4,1,0) -> 0 | E32: =IF(E9=E$4,1,0) -> 1 | F32: =IF(F9=F$4,1,0) -> 1 | G32: =IF(G9=G$4,1,0) -> 1 | H32: =IF(H9=H$4,1,0) -> 0 | J32: =IF(J9=J$4,1,0) -> 1 | K32: =IF(K9=K$4,1,0) -> 0 | L32: =IF(L9=L$4,1,0) -> 0 | M32: =IF(M9=M$4,1,0) -> 1 | N32: =IF(N9=N$4,1,0) -> 0 | O32: =IF(O9=O$4,1,0) -> 1 | P32: =IF(P9=P$4,1,0) -> 0 | Q32: =IF(Q9=Q$4,1,0) -> 0 | ... Y32: =IF(Y9=Y$4,1,0) -> 0
C33: =C10 -> Jackie | D33: =IF(D10=D$4,1,0) -> 0 | E33: =IF(E10=E$4,1,0) -> 1 | F33: =IF(F10=F$4,1,0) -> 1 | G33: =IF(G10=G$4,1,0) -> 1 | H33: =IF(H10=H$4,1,0) -> 0 | J33: =IF(J10=J$4,1,0) -> 1 | K33: =IF(K10=K$4,1,0) -> 0 | L33: =IF(L10=L$4,1,0) -> 0 | M33: =IF(M10=M$4,1,0) -> 1 | N33: =IF(N10=N$4,1,0) -> 0 | O33: =IF(O10=O$4,1,0) -> 1 | P33: =IF(P10=P$4,1,0) -> 0 | Q33: =IF(Q10=Q$4,1,0) -> 0 | ... Y33: =IF(Y10=Y$4,1,0) -> 0
C34: =C11 -> Darla | D34: =IF(D11=D$4,1,0) -> 0 | E34: =IF(E11=E$4,1,0) -> 1 | F34: =IF(F11=F$4,1,0) -> 0 | G34: =IF(G11=G$4,1,0) -> 0 | H34: =IF(H11=H$4,1,0) -> 0 | J34: =IF(J11=J$4,1,0) -> 0 | K34: =IF(K11=K$4,1,0) -> 1 | L34: =IF(L11=L$4,1,0) -> 0 | M34: =IF(M11=M$4,1,0) -> 0 | N34: =IF(N11=N$4,1,0) -> 1 | O34: =IF(O11=O$4,1,0) -> 0 | P34: =IF(P11=P$4,1,0) -> 0 | Q34: =IF(Q11=Q$4,1,0) -> 1 | ... Y34: =IF(Y11=Y$4,1,0) -> 1
C35: =C12 -> Kieran | D35: =IF(D12=D$4,1,0) -> 0 | E35: =IF(E12=E$4,1,0) -> 1 | F35: =IF(F12=F$4,1,0) -> 0 | G35: =IF(G12=G$4,1,0) -> 0 | H35: =IF(H12=H$4,1,0) -> 0 | J35: =IF(J12=J$4,1,0) -> 0 | K35: =IF(K12=K$4,1,0) -> 1 | L35: =IF(L12=L$4,1,0) -> 0 | M35: =IF(M12=M$4,1,0) -> 0 | N35: =IF(N12=N$4,1,0) -> 1 | O35: =IF(O12=O$4,1,0) -> 0 | P35: =IF(P12=P$4,1,0) -> 1 | Q35: =IF(Q12=Q$4,1,0) -> 1 | ... Y35: =IF(Y12=Y$4,1,0) -> 0
