Workbook

Sheet suicide
F2: Gary's
D4: Joni | F4: Fred
I5: Left
B6: week 1 | D6: Jacksonville | F6: Chargers
B7: week 2 | D7: Green Bay | I7: San Francisco
B8: week 3 | D8: Buffalo | I8: Pittsburgh
B9: week 4 | D9: Vikings | I9: Chicago
B10: week 5 | D10: Lions | I10: New England
B11: week 6 | D11: Houston Texans | I11: Cincinnati
B12: week 7 | I12: Denver
B13: week 8 | I13: Rams
B14: week 9 | I14: Kansas City
B15: week 10 | I15: Seattle
B16: week 11 | I16: Baltimore
B17: week 12 | I17: Carolina
B18: week 13 | I18: Cleveland
B19: week 14
B20: week 15
B21: week 16
B22: week 17
B23: week 18

Sheet GRAND TOTALS
C1: week | D1: 1 | E1: 2 | F1: 3 | G1: 4 | H1: 5 | I1: 6 | J1: 7 | K1: 8 | L1: 9 | M1: 10 | N1: 11 | O1: 12 | P1: 13 | Q1: 14 | R1: 15 | S1: 16 | T1: 17 | U1: 18 | V1: total | X1: ave
B2: x | C2: Fred | F2: ='Week 3'!Z5 -> 10 | G2: =Week4!Z5 -> 11 | H2: ='Week 5'!Z5 -> 10 | I2: ='Week 6'!Z5 -> 7 | J2: ='Week 7'!Z5 -> 12 | K2: ='Week 8'!Z5 -> 14 | L2: ='Week 9'!Z5 -> 0 | M2: ='Week 10'!Z5 -> 0 | V2: =SUM(D2:U2) -> 64 | W2: 12 | X2: =V2/$Z$2 -> 10.666667 | Z2: 6
B3: x | C3: Joni | F3: ='Week 3'!Z6 -> 12 | G3: =Week4!Z6 -> 12 | H3: ='Week 5'!Z6 -> 6 | I3: ='Week 6'!Z6 -> 7 | J3: ='Week 7'!Z6 -> 10 | K3: ='Week 8'!Z6 -> 12 | L3: ='Week 9'!Z6 -> 0 | M3: ='Week 10'!Z6 -> 0 | V3: =SUM(D3:U3) -> 59 | W3: 16 | X3: =V3/$Z$2 -> 9.8333333
B4: x | C4: Tara | F4: ='Week 3'!Z7 -> 12 | G4: =Week4!Z7 -> 13 | H4: ='Week 5'!Z7 -> 11 | I4: ='Week 6'!Z7 -> 8 | J4: ='Week 7'!Z7 -> 13 | K4: ='Week 8'!Z7 -> 15 | L4: ='Week 9'!Z7 -> 0 | M4: ='Week 10'!Z7 -> 0 | V4: =SUM(D4:U4) -> 72 | W4: 2 | X4: =V4/$Z$2 -> 12
B5: x | C5: Roger | F5: ='Week 3'!Z8 -> 12 | G5: =Week4!Z8 -> 16 | H5: ='Week 5'!Z8 -> 13 | I5: ='Week 6'!Z8 -> 10 | J5: ='Week 7'!Z8 -> 9 | K5: ='Week 8'!Z8 -> 14 | L5: ='Week 9'!Z8 -> 0 | M5: ='Week 10'!Z8 -> 0 | V5: =SUM(D5:U5) -> 74 | W5: 1 | X5: =V5/$Z$2 -> 12.333333
B6: x | C6: Jeanne | F6: ='Week 3'!Z9 -> 9 | G6: =Week4!Z9 -> 11 | H6: ='Week 5'!Z9 -> 13 | I6: ='Week 6'!Z9 -> 8 | J6: ='Week 7'!Z9 -> 9 | K6: ='Week 8'!Z9 -> 11 | L6: ='Week 9'!Z9 -> 0 | M6: ='Week 10'!Z9 -> 0 | V6: =SUM(D6:U6) -> 61 | W6: 14 | X6: =V6/$Z$2 -> 10.166667
B7: x | C7: Jackie | F7: ='Week 3'!Z10 -> 14 | G7: =Week4!Z10 -> 11 | H7: ='Week 5'!Z10 -> 6 | I7: ='Week 6'!Z10 -> 10 | J7: ='Week 7'!Z10 -> 9 | K7: ='Week 8'!Z10 -> 5 | L7: ='Week 9'!Z10 -> 0 | M7: ='Week 10'!Z10 -> 0 | V7: =SUM(D7:U7) -> 55 | W7: 19 | X7: =V7/$Z$2 -> 9.1666667
B8: x | C8: Darla | F8: ='Week 3'!Z11 -> 12 | G8: =Week4!Z11 -> 9 | H8: ='Week 5'!Z11 -> 9 | I8: ='Week 6'!Z11 -> 10 | J8: ='Week 7'!Z11 -> 12 | K8: ='Week 8'!Z11 -> 12 | L8: ='Week 9'!Z11 -> 0 | M8: ='Week 10'!Z11 -> 0 | V8: =SUM(D8:U8) -> 64 | W8: 12 | X8: =V8/$Z$2 -> 10.666667
B9: x | C9: Kieran | F9: ='Week 3'!Z12 -> 8 | G9: =Week4!Z12 -> 11 | H9: ='Week 5'!Z12 -> 13 | I9: ='Week 6'!Z12 -> 8 | J9: ='Week 7'!Z12 -> 7 | K9: ='Week 8'!Z12 -> 13 | L9: ='Week 9'!Z12 -> 0 | M9: ='Week 10'!Z12 -> 0 | V9: =SUM(D9:U9) -> 60 | W9: 17 | X9: =V9/$Z$2 -> 10
B10: x | C10: Kaidan | F10: ='Week 3'!Z13 -> 13 | G10: =Week4!Z13 -> 14 | H10: ='Week 5'!Z13 -> 11 | I10: ='Week 6'!Z13 -> 10 | J10: ='Week 7'!Z13 -> 6 | K10: ='Week 8'!Z13 -> 15 | L10: ='Week 9'!Z13 -> 0 | M10: ='Week 10'!Z13 -> 0 | V10: =SUM(D10:U10) -> 69 | W10: 5 | X10: =V10/$Z$2 -> 11.5
B11: x | C11: Jim | F11: ='Week 3'!Z14 -> 11 | G11: =Week4!Z14 -> 11 | H11: ='Week 5'!Z14 -> 12 | I11: ='Week 6'!Z14 -> 9 | J11: ='Week 7'!Z14 -> 12 | K11: ='Week 8'!Z14 -> 14 | L11: ='Week 9'!Z14 -> 0 | M11: ='Week 10'!Z14 -> 0 | V11: =SUM(D11:U11) -> 69 | W11: 5 | X11: =V11/$Z$2 -> 11.5
B12: x | C12: Lisa | F12: ='Week 3'!Z15 -> 10 | G12: =Week4!Z15 -> 13 | H12: ='Week 5'!Z15 -> 12 | I12: ='Week 6'!Z15 -> 8 | J12: ='Week 7'!Z15 -> 10 | K12: ='Week 8'!Z15 -> 12 | L12: ='Week 9'!Z15 -> 0 | M12: ='Week 10'!Z15 -> 0 | V12: =SUM(D12:U12) -> 65 | W12: 10 | X12: =V12/$Z$2 -> 10.833333
B13: x | C13: Stuart | F13: ='Week 3'!Z16 -> 12 | G13: =Week4!Z16 -> 9 | H13: ='Week 5'!Z16 -> 8 | I13: ='Week 6'!Z16 -> 9 | J13: ='Week 7'!Z16 -> 9 | K13: ='Week 8'!Z16 -> 13 | L13: ='Week 9'!Z16 -> 0 | M13: ='Week 10'!Z16 -> 0 | V13: =SUM(D13:U13) -> 60 | W13: 15 | X13: =V13/$Z$2 -> 10
B14: x | C14: Debbie | F14: ='Week 3'!Z17 -> 13 | G14: =Week4!Z17 -> 12 | H14: ='Week 5'!Z17 -> 11 | I14: ='Week 6'!Z17 -> 10 | J14: ='Week 7'!Z17 -> 10 | K14: ='Week 8'!Z17 -> 13 | L14: ='Week 9'!Z17 -> 0 | M14: ='Week 10'!Z17 -> 0 | V14: =SUM(D14:U14) -> 69 | W14: 5 | X14: =V14/$Z$2 -> 11.5
C15: Scott | F15: ='Week 3'!Z18 -> 11 | G15: =Week4!Z18 -> 12 | H15: ='Week 5'!Z18 -> 12 | I15: ='Week 6'!Z18 -> 10 | J15: ='Week 7'!Z18 -> 11 | K15: ='Week 8'!Z18 -> 13 | L15: ='Week 9'!Z18 -> 0 | M15: ='Week 10'!Z18 -> 0 | V15: =SUM(D15:U15) -> 69 | W15: 5 | X15: =V15/$Z$2 -> 11.5
C16: Michelle | F16: ='Week 3'!Z19 -> 10 | G16: 11 | H16: ='Week 5'!Z19 -> 11 | I16: ='Week 6'!Z19 -> 8 | J16: ='Week 7'!Z19 -> 10 | K16: ='Week 8'!Z19 -> 9 | L16: ='Week 9'!Z19 -> 0 | M16: ='Week 10'!Z19 -> 0 | V16: =SUM(D16:U16) -> 59 | W16: 16 | X16: =V16/$Z$2 -> 9.8333333
C17: Teri | F17: ='Week 3'!Z20 -> 12 | G17: =Week4!Z20 -> 13 | H17: ='Week 5'!Z20 -> 10 | I17: ='Week 6'!Z20 -> 9 | J17: ='Week 7'!Z20 -> 11 | K17: ='Week 8'!Z20 -> 15 | L17: ='Week 9'!Z20 -> 0 | M17: ='Week 10'!Z20 -> 0 | V17: =SUM(D17:U17) -> 70 | W17: 3 | X17: =V17/$Z$2 -> 11.666667
B18: x | C18: Steve | F18: ='Week 3'!Z21 -> 10 | G18: =Week4!Z21 -> 11 | H18: ='Week 5'!Z21 -> 10 | I18: ='Week 6'!Z21 -> 10 | J18: ='Week 7'!Z21 -> 11 | K18: ='Week 8'!Z21 -> 14 | L18: ='Week 9'!Z21 -> 0 | M18: ='Week 10'!Z21 -> 0 | V18: =SUM(D18:U18) -> 66 | W18: 9 | X18: =V18/$Z$2 -> 11
B19: x | C19: Jamie | F19: ='Week 3'!Z23 -> 10 | G19: =Week4!Z23 -> 12 | H19: ='Week 5'!Z23 -> 11 | I19: ='Week 6'!Z23 -> 8 | J19: ='Week 7'!Z23 -> 14 | K19: ='Week 8'!Z22 -> 15 | L19: ='Week 9'!Z22 -> 0 | M19: ='Week 10'!Z22 -> 0 | V19: =SUM(D19:U19) -> 70 | W19: 3 | X19: =V19/$Z$2 -> 11.666667
B20: x | C20: Kelly | F20: ='Week 3'!Z24 -> 12 | G20: =Week4!Z24 -> 10 | H20: ='Week 5'!Z24 -> 9 | I20: ='Week 6'!Z24 -> 10 | J20: ='Week 7'!Z24 -> 10 | K20: ='Week 8'!Z23 -> 14 | L20: ='Week 9'!Z23 -> 0 | M20: ='Week 10'!Z23 -> 0 | V20: =SUM(D20:U20) -> 65 | W20: 10 | X20: =V20/$Z$2 -> 10.833333
D21: =COUNT(D2:D20) -> 0 | E21: =COUNT(E2:E20) -> 0 | F21: =COUNT(F2:F20) -> 19 | G21: =COUNT(G2:G20) -> 19 | H21: =COUNT(H2:H20) -> 19 | I21: =COUNT(I2:I20) -> 19 | J21: =COUNT(J2:J20) -> 19 | K21: =COUNT(K2:K20) -> 19 | ... M21: =COUNT(M2:M20) -> 19 | V21: =SUM(D21:U22) -> 152
F25: Tough Luck | K25: Weeks missed | R25: FEE | S25: weekly | T25: tough | U25: Final | V25: TOTAL | X25: TOTAL
R26: OWED | S26: winners | T26: luck | U26: POT | V26: WON | X26: POINTS
F27: Weekly winner | K27: Lost Tiebreaker | P27: x | Q27: =C2 -> Fred | T27: 4 | V27: =S27+T27+U27-R27 -> 4 | X27: =V2 -> 64 | Y27: =W2 -> 12
P28: x | Q28: =C3 -> Joni | V28: =S28+T28+U28-R28 -> 0 | X28: =V3 -> 59 | Y28: =W3 -> 16
P29: V | Q29: =C4 -> Tara | V29: =S29+T29+U29-R29 -> 0 | X29: =V4 -> 72 | Y29: =W4 -> 2
D30: Score for a missed week is one less than lowest score for that week. | P30: V | Q30: =C5 -> Roger | S30: 15 | V30: =S30+T30+U30-R30 -> 15 | X30: =V5 -> 74 | Y30: =W5 -> 1
D31: Weekly Winner wins $15 | I31: Weekly Tough Luck wins $4 | P31: v | Q31: =C6 -> Jeanne | T31: 4 | V31: =S31+T31+U31-R31 -> 4 | X31: =V6 -> 61 | Y31: =W6 -> 14
P32: v | Q32: =C7 -> Jackie | S32: 15 | T32: 8 | V32: =S32+T32+U32-R32 -> 23 | X32: =V7 -> 55 | Y32: =W7 -> 19
P33: c | Q33: =C8 -> Darla | S33: 7.5 | V33: =S33+T33+U33-R33 -> 7.5 | X33: =V8 -> 64 | Y33: =W8 -> 12
C34: FINAL | D34: Final payouts- | P34: v | Q34: =C9 -> Kieran | V34: =S34+T34+U34-R34 -> 0 | X34: =V9 -> 60 | Y34: =W9 -> 17
C35: =V21*0.3 -> 45.6 | D35: 30% of pot for 1st. | P35: v | Q35: =C10 -> Kaidan | S35: 15 | T35: 4 | V35: =S35+T35+U35-R35 -> 19 | X35: =V10 -> 69 | Y35: =W10 -> 5
C36: =V21*0.2 -> 30.4 | D36: 20% of pot for 2nd. | P36: v | Q36: =C11 -> Jim | V36: =S36+T36+U36-R36 -> 0 | X36: =V11 -> 69 | Y36: 5
C37: =V21*0.15 -> 22.8 | D37: 15% of pot for 3rd. | P37: v | Q37: =C12 -> Lisa | V37: =S37+T37+U37-R37 -> 0 | X37: =V12 -> 65 | Y37: =W12 -> 10
C38: =V21*0.11 -> 16.72 | D38: 11% of pot for 4th | Q38: =C13 -> Stuart | R38: 32 | T38: 4 | V38: =S38+T38+U38-R38 -> -28 | X38: =V13 -> 60 | Y38: =W13 -> 15
C39: =V21*0.09 -> 13.68 | D39: 9% of pot for 5th. | Q39: =C14 -> Debbie | R39: 32 | V39: =S39+T39+U39-R39 -> -32 | X39: =V14 -> 69 | Y39: 4
C40: =V21*0.07 -> 10.64 | D40: 7% of pot for 6th. | P40: C | Q40: =C15 -> Scott | R40: 32 | S40: 15 | V40: =S40+T40+U40-R40 -> -17 | X40: =V15 -> 69 | Y40: 6
P41: v | Q41: =C16 -> Michelle | V41: =S41+T41+U41-R41 -> 0 | X41: =V16 -> 59 | Y41: =W16 -> 16
C42: =V21*0.08 -> 12.16 | D42: 8% of pot for LAST | P42: v | Q42: =C17 -> Teri | V42: =S42+T42+U42-R42 -> 0 | X42: =V17 -> 70 | Y42: =W17 -> 3
P43: c | Q43: =C18 -> Steve | V43: =S43+T43+U43-R43 -> 0 | X43: =V18 -> 66 | Y43: =W18 -> 9
Q44: =C19 -> Jamie | S44: 15 | V44: =S44+T44+U44-R44 -> 15 | X44: =V19 -> 70 | Y44: =W19 -> 3
P45: c | Q45: =C20 -> Kelly | S45: 7.5 | V45: =S45+T45+U45-R45 -> 7.5 | X45: =V20 -> 65 | Y45: =W20 -> 10
P46: v | Q46: totals | R46: =SUM(R27:R43) -> 96 | S46: =SUM(S27:S45) -> 90 | T46: =SUM(T27:T45) -> 24 | U46: =SUM(U27:U43) -> 0 | V46: =SUM(V27:V43) -> -4.5 | W46: =SUM(W27:W43) -> 0 | X46: =SUM(X27:X43) -> 1105
S47: =S46/S48 -> 15 | T47: =T46/S48 -> 4
S48: 6 | T48: 1 | V48: =V46-T46-S46 -> -118.5
V49: =R46-P45 -> #VALUE!

Sheet Week 3
E2: col | K2: wk | M2: No | P2: 3 | U2: pro
D3: Oklahoma @ Georgia | E3: Texas A&M @ LSU | F3: Iowa @ Michigan | G3: Miss @ Florida | H3: Curry College @ Maine Maritime | J3: Atlanta @ Green Bay | K3: Los Angeles Chargers @ Buffalo | L3: Carolina @ Cleveland | M3: New York Jets @ Detroit | N3: Houston @ Indianapolis | O3: Kansas City @ Miami | P3: Tennessee @ New York Giants | Q3: Cincinnati @ Pittsburgh | R3: Seattle @ Washington | S3: New England @ Jacksonville | T3: Arizona @ San Francisco | U3: Minnesota @ Tampa Bay | V3: Baltimore v Dallas | W3: Las Vegas @ New Orleans | X3: Los Angeles Rams @ Denver | Y3: Philadelphia @ Chicago | Z3: TOTAL | AA3: TIEBREAKER | AC3: GRAND TOTAL | AG3: =C5 -> Fred | AH3: =C6 -> Joni | AI3: =C7 -> Tara | AJ3: =C8 -> Roger | AK3: =C9 -> Jeanne | AL3: =C10 -> Jackie | AM3: =C11 -> Darla | AN3: =C12 -> Kieran | AO3: =C13 -> Kaidan | AP3: =C14 -> Jim | AQ3: =C15 -> Lisa | AR3: =C16 -> Stuart | AS3: =C17 -> Debbie | AT3: =C18 -> Scott | AU3: =C19 -> Michelle | AV3: =C20 -> Teri | AW3: =C21 -> Steve | AX3: =C22 -> #REF! | AY3: =C23 -> Jamie | AZ3: =C24 -> Kelly | BB3: =C5 -> Fred | BC3: =C6 -> Joni | BD3: =C7 -> Tara | BE3: =C8 -> Roger | BF3: Jeanne | BG3: =C10 -> Jackie | BH3: =C11 -> Darla | BI3: =C12 -> Kieran | BJ3: =C13 -> Kaidan | BK3: =C14 -> Jim | BL3: =C15 -> Lisa | BM3: =C16 -> Stuart | BN3: =C17 -> Debbie | BO3: =C18 -> Scott | BP3: =C19 -> Michelle | BQ3: =C20 -> Teri | BR3: =C21 -> Steve | BS3: =C22 -> #REF! | BT3: =C23 -> Jamie | BU3: =C24 -> Kelly
C4: Winners | D4: G | E4: L | F4: I | G4: F | H4: C | J4: A | K4: B | L4: CL | M4: D | N4: I | O4: K | P4: G | Q4: P | R4: W | S4: J | T4: S | U4: M | V4: B | W4: L | X4: D | Y4: C
C5: ='GRAND TOTALS'!C2 -> Fred | D5: =AG5 -> G | E5: =AG6 -> L | F5: =AG7 -> M | G5: =AG8 -> M | H5: =AG9 -> M | J5: =AG10 -> G | K5: =AG11 -> B | L5: =AG12 -> CL | M5: =AG13 -> D | N5: =AG14 -> H | O5: =AG15 -> K | P5: =AG16 -> G | Q5: =AG17 -> P | R5: =AG18 -> S | S5: =AG19 -> N | T5: =AG20 -> S | U5: =AG21 -> M | V5: =AG22 -> D | W5: =AG23 -> N | X5: =AG24 -> R | Y5: =AG25 -> P | Z5: =SUM(D28:Y28) -> 10 | AA5: =AG26 -> 49 | AC5: =Z5 -> 10 | AG5: =TRIM(BB5) -> G | AH5: =TRIM(BC5) -> G | AI5: =TRIM(BD5) -> G | AJ5: =TRIM(BE5) -> G | AK5: =TRIM(BF5) -> O | AL5: =TRIM(BG5) -> G | AM5: =TRIM(BH5) -> O | AN5: =TRIM(BI5) | ... AZ5: =TRIM(BU5) -> G | BB5: G | BC5: G | BD5: G | BE5: G | BF5: O | BG5: G | BH5: O | BJ5: G | BK5: G | BL5: G | BM5: G | BN5: G | BO5: G | BP5: O | BQ5: G | BR5: G | BT5: G | BU5: G | BW5: 0.041666667 | BX5: G
C6: ='GRAND TOTALS'!C3 -> Joni | D6: =AH5 -> G | E6: =AH6 -> L | F6: =AH7 -> M | G6: =AH8 -> M | H6: =AH9 -> M | J6: =AH10 -> G | K6: =AH11 -> B | L6: =AH12 -> CL | M6: =AH13 -> D | N6: =AH14 -> I | O6: =AH15 -> K | P6: =AH16 -> T | Q6: =AH17 -> P | R6: =AH18 -> S | S6: =AH19 -> J | T6: =AH20 -> S | U6: =AH21 -> T | V6: =AH22 -> B | W6: =AH23 -> N | X6: =AH24 -> D | Y6: =AH25 -> P | Z6: =SUM(D29:Y29) -> 12 | AA6: =AH26 -> 49 | AC6: =Z6 -> 12 | AG6: =TRIM(BB6) -> L | AH6: =TRIM(BC6) -> L | AI6: =TRIM(BD6) -> L | AJ6: =TRIM(BE6) -> L | AK6: =TRIM(BF6) -> L | AL6: =TRIM(BG6) -> L | AM6: =TRIM(BH6) -> L | AN6: =TRIM(BI6) | ... AZ6: =TRIM(BU6) -> T | BB6: L | BC6: L | BD6: L | BE6: L | BF6: L | BG6: L | BH6: L | BJ6: L | BK6: L | BL6: L | BM6: L | BN6: L | BO6: L | BP6: L | BQ6: L | BR6: T | BT6: L | BU6: T | BW6: 0.083333333 | BX6: L
C7: ='GRAND TOTALS'!C4 -> Tara | D7: =AI5 -> G | E7: =AI6 -> L | F7: =AI7 -> I | G7: =AI8 -> F | H7: =AI9 -> C | J7: =AI10 -> G | K7: =AI11 -> B | L7: =AI12 -> CN | M7: =AI13 -> D | N7: =AI14 -> H | O7: =AI15 -> K | P7: =AI16 -> T | Q7: =AI17 -> C | R7: =AI18 -> S | S7: =AI19 -> J | T7: =AI20 -> S | U7: =AI21 -> M | V7: =AI22 -> D | W7: =AI23 -> L | X7: =AI24 -> R | Y7: =AI25 -> P | Z7: =SUM(D30:Y30) -> 12 | AA7: =AI26 -> 46 | AC7: =Z7 -> 12 | AG7: =TRIM(BB7) -> M | AH7: =TRIM(BC7) -> M | AI7: =TRIM(BD7) -> I | AJ7: =TRIM(BE7) -> I | AK7: =TRIM(BF7) -> I | AL7: =TRIM(BG7) -> M | AM7: =TRIM(BH7) -> M | AN7: =TRIM(BI7) | ... AZ7: =TRIM(BU7) -> M | BB7: M | BC7: M | BD7: I | BE7: I | BF7: I | BG7: M | BH7: M | BJ7: M | BK7: I | BL7: M | BM7: I | BN7: M | BO7: M | BP7: I | BQ7: M | BR7: M | BT7: M | BU7: M | BW7: 0.125 | BX7: M
C8: ='GRAND TOTALS'!C5 -> Roger | D8: =AJ5 -> G | E8: =AJ6 -> L | F8: =AJ7 -> I | G8: =AJ8 -> F | H8: =AJ9 -> C | J8: =AJ10 -> G | K8: =AJ11 -> B | L8: =AJ12 -> CN | M8: =AJ13 -> D | N8: =AJ14 -> H | O8: =AJ15 -> K | P8: =AJ16 -> T | Q8: =AJ17 -> C | R8: =AJ18 -> S | S8: =AJ19 -> J | T8: =AJ20 -> S | U8: =AJ21 -> M | V8: =AJ22 -> D | W8: =AJ23 -> L | X8: =AJ24 -> R | Y8: =AJ25 -> P | Z8: =SUM(D31:Y31) -> 12 | AA8: =AJ26 -> 46 | AC8: =Z8 -> 12 | AG8: =TRIM(BB8) -> M | AH8: =TRIM(BC8) -> M | AI8: =TRIM(BD8) -> F | AJ8: =TRIM(BE8) -> F | AK8: =TRIM(BF8) -> F | AL8: =TRIM(BG8) -> F | AM8: =TRIM(BH8) -> F | AN8: =TRIM(BI8) | ... AZ8: =TRIM(BU8) -> F | BB8: M | BC8: M | BD8: F | BE8: F | BF8: F | BG8: F | BH8: F | BJ8: M | BK8: M | BL8: M | BM8: M | BN8: F | BO8: M | BP8: M | BQ8: F | BR8: M | BT8: M | BU8: F | BW8: 0.16666667 | BX8: M
C9: ='GRAND TOTALS'!C6 -> Jeanne | D9: =AK5 -> O | E9: =AK6 -> L | F9: =AK7 -> I | G9: =AK8 -> F | H9: =AK9 -> C | J9: =AK10 -> A | K9: =AK11 -> C | L9: =AK12 -> CN | M9: =AK13 -> J | N9: =AK14 -> H | O9: =AK15 -> K | P9: =AK16 -> T | Q9: =AK17 -> C | R9: =AK18 -> S | S9: =AK19 -> N | T9: =AK20 -> A | U9: =AK21 -> M | V9: =AK22 -> B | W9: =AK23 -> L | X9: =AK24 -> R | Y9: =AK25 -> P | Z9: =SUM(D32:Y32) -> 9 | AA9: =AK26 -> 45 | AC9: =Z9 -> 9 | AG9: =TRIM(BB9) -> M | AH9: =TRIM(BC9) -> M | AI9: =TRIM(BD9) -> C | AJ9: =TRIM(BE9) -> C | AK9: =TRIM(BF9) -> C | AL9: =TRIM(BG9) -> M | AM9: =TRIM(BH9) -> M | AN9: =TRIM(BI9) | ... AZ9: =TRIM(BU9) -> C | BB9: M | BC9: M | BD9: C | BE9: C | BF9: C | BG9: M | BH9: M | BJ9: C | BK9: M | BL9: M | BM9: C | BN9: C | BO9: C | BP9: M | BQ9: M | BR9: M | BT9: C | BU9: C | BW9: 0.20833333 | BX9: C
C10: ='GRAND TOTALS'!C7 -> Jackie | D10: =AL5 -> G | E10: =AL6 -> L | F10: =AL7 -> M | G10: =AL8 -> F | H10: =AL9 -> M | J10: =AL10 -> G | K10: =AL11 -> B | L10: =AL12 -> CL | M10: =AL13 -> D | N10: =AL14 -> I | O10: =AL15 -> M | P10: =AL16 -> G | Q10: =AL17 -> P | R10: =AL18 -> W | S10: =AL19 -> J | T10: =AL20 -> S | U10: =AL21 -> T | V10: =AL22 -> D | W10: =AL23 -> N | X10: =AL24 -> D | Y10: =AL25 -> C | Z10: =SUM(D33:Y33) -> 14 | AA10: =AL26 -> 36 | AC10: =Z10 -> 14 | AG10: =TRIM(BB10) -> G | AH10: =TRIM(BC10) -> G | AI10: =TRIM(BD10) -> G | AJ10: =TRIM(BE10) -> G | AK10: =TRIM(BF10) -> A | AL10: =TRIM(BG10) -> G | AM10: =TRIM(BH10) -> G | AN10: =TRIM(BI10) | ... AZ10: =TRIM(BU10) -> A | BB10: G | BC10: G | BD10: G | BE10: G | BF10: A | BG10: G | BH10: G | BJ10: G | BK10: G | BL10: G | BM10: G | BN10: G | BO10: G | BP10: A | BQ10: G | BR10: G | BT10: A | BU10: A | BW10: 0.5 | BX10: G
C11: ='GRAND TOTALS'!C8 -> Darla | D11: =AM5 -> O | E11: =AM6 -> L | F11: =AM7 -> M | G11: =AM8 -> F | H11: =AM9 -> M | J11: =AM10 -> G | K11: =AM11 -> B | L11: =AM12 -> CN | M11: =AM13 -> D | N11: =AM14 -> I | O11: =AM15 -> K | P11: =AM16 -> G | Q11: =AM17 -> P | R11: =AM18 -> S | S11: =AM19 -> J | T11: =AM20 -> S | U11: =AM21 -> M | V11: =AM22 -> B | W11: =AM23 -> N | X11: =AM24 -> R | Y11: =AM25 -> P | Z11: =SUM(D34:Y34) -> 12 | AA11: =AM26 -> 41 | AC11: =Z11 -> 12 | AG11: =TRIM(BB11) -> B | AH11: =TRIM(BC11) -> B | AI11: =TRIM(BD11) -> B | AJ11: =TRIM(BE11) -> B | AK11: =TRIM(BF11) -> C | AL11: =TRIM(BG11) -> B | AM11: =TRIM(BH11) -> B | AN11: =TRIM(BI11) -> B | ... AZ11: =TRIM(BU11) -> B | BB11: B | BC11: B | BD11: B | BE11: B | BF11: C | BG11: B | BH11: B | BI11: B | BJ11: B | BK11: B | BL11: B | BM11: B | BN11: B | BO11: B | BP11: B | BQ11: B | BR11: B | BT11: B | BU11: B | BW11: 0.54166667 | BX11: B
C12: ='GRAND TOTALS'!C9 -> Kieran | D12: =AN5 | E12: =AN6 | F12: =AN7 | G12: =AN8 | H12: =AN9 | J12: =AN10 | K12: =AN11 -> B | L12: =AN12 -> CN | M12: =AN13 -> J | N12: =AN14 -> H | O12: =AN15 -> K | P12: =AN16 -> T | Q12: =AN17 -> P | R12: =AN18 -> S | S12: =AN19 -> J | T12: =AN20 -> S | U12: =AN21 -> M | V12: =AN22 -> B | W12: =AN23 -> N | X12: =AN24 -> D | Y12: =AN25 -> P | Z12: =SUM(D35:Y35) -> 8 | AA12: =AN26 -> 36 | AC12: =Z12 -> 8 | AG12: =TRIM(BB12) -> CL | AH12: =TRIM(BC12) -> CL | AI12: =TRIM(BD12) -> CN | AJ12: =TRIM(BE12) -> CN | AK12: =TRIM(BF12) -> CN | AL12: =TRIM(BG12) -> CL | AM12: =TRIM(BH12) -> CN | AN12: =TRIM(BI12) -> CN | ... AZ12: =TRIM(BU12) -> CN | BB12: CL | BC12: CL | BD12: CN | BE12: CN | BF12: CN | BG12: CL | BH12: CN | BI12: CN | BJ12: CN | BK12: CL | BL12: CN | BM12: CN | BN12: CN | BO12: CN | BP12: CL | BQ12: CL | BR12: CN | BT12: CN | BU12: CN | BW12: 0.58333333 | BX12: CN
C13: ='GRAND TOTALS'!C10 -> Kaidan | D13: =AO5 -> G | E13: =AO6 -> L | F13: =AO7 -> M | G13: =AO8 -> M | H13: =AO9 -> C | J13: =AO10 -> G | K13: =AO11 -> B | L13: =AO12 -> CN | M13: =AO13 -> D | N13: =AO14 -> I | O13: =AO15 -> K | P13: =AO16 -> G | Q13: =AO17 -> P | R13: =AO18 -> S | S13: =AO19 -> J | T13: =AO20 -> S | U13: =AO21 -> M | V13: =AO22 -> B | W13: =AO23 -> N | X13: =AO24 -> R | Y13: =AO25 -> P | Z13: =SUM(D36:Y36) -> 13 | AA13: =AO26 -> 46 | AC13: =Z13 -> 13 | AG13: =TRIM(BB13) -> D | AH13: =TRIM(BC13) -> D | AI13: =TRIM(BD13) -> D | AJ13: =TRIM(BE13) -> D | AK13: =TRIM(BF13) -> J | AL13: =TRIM(BG13) -> D | AM13: =TRIM(BH13) -> D | AN13: =TRIM(BI13) -> J | ... AZ13: =TRIM(BU13) -> D | BB13: D | BC13: D | BD13: D | BE13: D | BF13: J | BG13: D | BH13: D | BI13: J | BJ13: D | BK13: D | BL13: D | BM13: D | BN13: D | BO13: D | BP13: J | BQ13: D | BR13: D | BT13: D | BU13: D | BW13: 0.625 | BX13: D
C14: ='GRAND TOTALS'!C11 -> Jim | D14: =AP5 -> G | E14: =AP6 -> L | F14: =AP7 -> I | G14: =AP8 -> M | H14: =AP9 -> M | J14: =AP10 -> G | K14: =AP11 -> B | L14: =AP12 -> CL | M14: =AP13 -> D | N14: =AP14 -> I | O14: =AP15 -> K | P14: =AP16 -> T | Q14: =AP17 -> C | R14: =AP18 -> S | S14: =AP19 -> N | T14: =AP20 -> S | U14: =AP21 -> T | V14: =AP22 -> B | W14: =AP23 -> L | X14: =AP24 -> R | Y14: =AP25 -> P | Z14: =SUM(D37:Y37) -> 11 | AA14: =AP26 -> 52 | AC14: =Z14 -> 11 | AG14: =TRIM(BB14) -> H | AH14: =TRIM(BC14) -> I | AI14: =TRIM(BD14) -> H | AJ14: =TRIM(BE14) -> H | AK14: =TRIM(BF14) -> H | AL14: =TRIM(BG14) -> I | AM14: =TRIM(BH14) -> I | AN14: =TRIM(BI14) -> H | ... AZ14: =TRIM(BU14) -> I | BB14: H | BC14: I | BD14: H | BE14: H | BF14: H | BG14: I | BH14: I | BI14: H | BJ14: I | BK14: I | BL14: I | BM14: H | BN14: I | BO14: H | BP14: I | BQ14: I | BR14: H | BT14: H | BU14: I | BW14: 0.66666667 | BX14: I
C15: ='GRAND TOTALS'!C12 -> Lisa | D15: =AQ5 -> G | E15: =AQ6 -> L | F15: =AQ7 -> M | G15: =AQ8 -> M | H15: =AQ9 -> M | J15: =AQ10 -> G | K15: =AQ11 -> B | L15: =AQ12 -> CN | M15: =AQ13 -> D | N15: =AQ14 -> I | O15: =AQ15 -> K | P15: =AQ16 -> T | Q15: =AQ17 -> P | R15: =AQ18 -> S | S15: =AQ19 -> N | T15: =AQ20 -> S | U15: =AQ21 -> M | V15: =AQ22 -> D | W15: =AQ23 -> L | X15: =AQ24 -> R | Y15: =AQ25 -> P | Z15: =SUM(D38:Y38) -> 10 | AA15: =AQ26 -> 28 | AC15: =Z15 -> 10 | AG15: =TRIM(BB15) -> K | AH15: =TRIM(BC15) -> K | AI15: =TRIM(BD15) -> K | AJ15: =TRIM(BE15) -> K | AK15: =TRIM(BF15) -> K | AL15: =TRIM(BG15) -> M | AM15: =TRIM(BH15) -> K | AN15: =TRIM(BI15) -> K | ... AZ15: =TRIM(BU15) -> K | BB15: K | BC15: K | BD15: K | BE15: K | BF15: K | BG15: M | BH15: K | BI15: K | BJ15: K | BK15: K | BL15: K | BM15: K | BN15: K | BO15: K | BP15: K | BQ15: K | BR15: K | BT15: K | BU15: K | BW15: 0.70833333 | BX15: K
C16: ='GRAND TOTALS'!C13 -> Stuart | D16: =AR5 -> G | E16: =AR6 -> L | F16: =AR7 -> I | G16: =AR8 -> M | H16: =AR9 -> C | J16: =AR10 -> G | K16: =AR11 -> B | L16: =AR12 -> CN | M16: =AR13 -> D | N16: =AR14 -> H | O16: =AR15 -> K | P16: =AR16 -> T | Q16: =AR17 -> C | R16: =AR18 -> S | S16: =AR19 -> J | T16: =AR20 -> S | U16: =AR21 -> T | V16: =AR22 -> B | W16: =AR23 -> N | X16: =AR24 -> D | Y16: =AR25 -> C | Z16: =SUM(D39:Y39) -> 12 | AA16: =AR26 -> 42 | AC16: =Z16 -> 12 | AG16: =TRIM(BB16) -> G | AH16: =TRIM(BC16) -> T | AI16: =TRIM(BD16) -> T | AJ16: =TRIM(BE16) -> T | AK16: =TRIM(BF16) -> T | AL16: =TRIM(BG16) -> G | AM16: =TRIM(BH16) -> G | AN16: =TRIM(BI16) -> T | ... AZ16: =TRIM(BU16) -> T | BB16: G | BC16: T | BD16: T | BE16: T | BF16: T | BG16: G | BH16: G | BI16: T | BJ16: G | BK16: T | BL16: T | BM16: T | BN16: G | BO16: G | BP16: T | BQ16: G | BR16: G | BT16: T | BU16: T | BW16: 0.75 | BX16: G
C17: ='GRAND TOTALS'!C14 -> Debbie | D17: =AS5 -> G | E17: =AS6 -> L | F17: =AS7 -> M | G17: =AS8 -> F | H17: =AS9 -> C | J17: =AS10 -> G | K17: =AS11 -> B | L17: =AS12 -> CN | M17: =AS13 -> D | N17: =AS14 -> I | O17: =AS15 -> K | P17: =AS16 -> G | Q17: =AS17 -> C | R17: =AS18 -> S | S17: =AS19 -> J | T17: =AS20 -> S | U17: =AS21 -> M | V17: =AS22 -> B | W17: =AS23 -> N | X17: =AS24 -> R | Y17: =AS25 -> P | Z17: =SUM(D40:Y40) -> 13 | AA17: =AS26 -> 41 | AC17: =Z17 -> 13 | AG17: =TRIM(BB17) -> P | AH17: =TRIM(BC17) -> P | AI17: =TRIM(BD17) -> C | AJ17: =TRIM(BE17) -> C | AK17: =TRIM(BF17) -> C | AL17: =TRIM(BG17) -> P | AM17: =TRIM(BH17) -> P | AN17: =TRIM(BI17) -> P | ... AZ17: =TRIM(BU17) -> P | BB17: P | BC17: P | BD17: C | BE17: C | BF17: C | BG17: P | BH17: P | BI17: P | BJ17: P | BK17: C | BL17: P | BM17: C | BN17: C | BO17: C | BP17: P | BQ17: P | BR17: P | BT17: C | BU17: P | BW17: 0.79166667 | BX17: P
C18: ='GRAND TOTALS'!C15 -> Scott | D18: =AT5 -> G | E18: =AT6 -> L | F18: =AT7 -> M | G18: =AT8 -> M | H18: =AT9 -> C | J18: =AT10 -> G | K18: =AT11 -> B | L18: =AT12 -> CN | M18: =AT13 -> D | N18: =AT14 -> H | O18: =AT15 -> K | P18: =AT16 -> G | Q18: =AT17 -> C | R18: =AT18 -> S | S18: =AT19 -> J | T18: =AT20 -> S | U18: =AT21 -> M | V18: =AT22 -> B | W18: =AT23 -> N | X18: =AT24 -> R | Y18: =AT25 -> P | Z18: =SUM(D41:Y41) -> 11 | AA18: =AT26 -> 49 | AC18: =Z18 -> 11 | AG18: =TRIM(BB18) -> S | AH18: =TRIM(BC18) -> S | AI18: =TRIM(BD18) -> S | AJ18: =TRIM(BE18) -> S | AK18: =TRIM(BF18) -> S | AL18: =TRIM(BG18) -> W | AM18: =TRIM(BH18) -> S | AN18: =TRIM(BI18) -> S | ... AZ18: =TRIM(BU18) -> S | BB18: S | BC18: S | BD18: S | BE18: S | BF18: S | BG18: W | BH18: S | BI18: S | BJ18: S | BK18: S | BL18: S | BM18: S | BN18: S | BO18: S | BP18: W | BQ18: S | BR18: S | BT18: S | BU18: S | BW18: 0.83333333 | BX18: S
C19: ='GRAND TOTALS'!C16 -> Michelle | D19: =AU5 -> O | E19: =AU6 -> L | F19: =AU7 -> I | G19: =AU8 -> M | H19: =AU9 -> M | J19: =AT11 -> B | K19: =AU11 -> B | L19: =AU12 -> CL | M19: =AU13 -> J | N19: =AU14 -> I | O19: =AU15 -> K | P19: =AU16 -> T | Q19: =AU17 -> P | R19: =AU18 -> W | S19: =AU19 -> N | T19: =AU20 -> S | U19: =AU21 -> T | V19: =AU22 -> B | W19: =AU23 -> N | X19: =AU24 -> R | Y19: =AU25 -> P | Z19: =SUM(D42:Y42) -> 10 | AA19: =AU26 -> 32 | AC19: =Z19 -> 10 | AG19: =TRIM(BB19) -> N | AH19: =TRIM(BC19) -> J | AI19: =TRIM(BD19) -> J | AJ19: =TRIM(BE19) -> J | AK19: =TRIM(BF19) -> N | AL19: =TRIM(BG19) -> J | AM19: =TRIM(BH19) -> J | AN19: =TRIM(BI19) -> J | ... AZ19: =TRIM(BU19) -> N | BB19: N | BC19: J | BD19: J | BE19: J | BF19: N | BG19: J | BH19: J | BI19: J | BJ19: J | BK19: N | BL19: N | BM19: J | BN19: J | BO19: J | BP19: N | BQ19: N | BR19: N | BT19: N | BU19: N | BW19: 0.875 | BX19: J
C20: ='GRAND TOTALS'!C17 -> Teri | D20: =AV5 -> G | E20: =AV6 -> L | F20: =AV7 -> M | G20: =AV8 -> F | H20: =AV9 -> M | J20: =AV10 -> G | K20: =AV11 -> B | L20: =AV12 -> CL | M20: =AV13 -> D | N20: =AV14 -> I | O20: =AV15 -> K | P20: =AV16 -> G | Q20: =AV17 -> P | R20: =AV18 -> S | S20: =AV19 -> N | T20: =AV20 -> A | U20: =AV21 -> T | V20: =AV22 -> B | W20: =AV23 -> L | X20: =AV24 -> R | Y20: =AV25 -> P | Z20: =SUM(D43:Y43) -> 12 | AA20: =AV26 -> 24 | AC20: =Z20 -> 12 | AG20: =TRIM(BB20) -> S | AH20: =TRIM(BC20) -> S | AI20: =TRIM(BD20) -> S | AJ20: =TRIM(BE20) -> S | AK20: =TRIM(BF20) -> A | AL20: =TRIM(BG20) -> S | AM20: =TRIM(BH20) -> S | AN20: =TRIM(BI20) -> S | ... AZ20: =TRIM(BU20) -> S | BB20: S | BC20: S | BD20: S | BE20: S | BF20: A | BG20: S | BH20: S | BI20: S | BJ20: S | BK20: S | BL20: S | BM20: S | BN20: S | BO20: S | BP20: S | BQ20: A | BR20: S | BT20: S | BU20: S | BW20: 0.91666667 | BX20: S
C21: ='GRAND TOTALS'!C18 -> Steve | D21: =AW5 -> G | E21: =AW6 -> T | F21: =AW7 -> M | G21: =AW8 -> M | H21: =AW9 -> M | J21: =AW10 -> G | K21: =AW11 -> B | L21: =AW12 -> CN | M21: =AW13 -> D | N21: =AW14 -> H | O21: =AW15 -> K | P21: =AW16 -> G | Q21: =AW17 -> P | R21: =AW18 -> S | S21: =AW19 -> N | T21: =AW20 -> S | U21: =AW21 -> T | V21: =AW22 -> D | W21: =AW23 -> L | X21: =AW24 -> D | Y21: =AW25 -> C | Z21: =SUM(D44:Y44) -> 10 | AA21: =AW26 -> 47 | AC21: =Z21 -> 10 | AG21: =TRIM(BB21) -> M | AH21: =TRIM(BC21) -> T | AI21: =TRIM(BD21) -> M | AJ21: =TRIM(BE21) -> M | AK21: =TRIM(BF21) -> M | AL21: =TRIM(BG21) -> T | AM21: =TRIM(BH21) -> M | AN21: =TRIM(BI21) -> M | ... AZ21: =TRIM(BU21) -> M | BB21: M | BC21: T | BD21: M | BE21: M | BF21: M | BG21: T | BH21: M | BI21: M | BJ21: M | BK21: T | BL21: M | BM21: T | BN21: M | BO21: M | BP21: T | BQ21: T | BR21: T | BT21: T | BU21: M | BW21: 0.95833333 | BX21: M
C22: ='GRAND TOTALS'!#REF! -> #REF! | D22: =AX5 | E22: =AX6 | F22: =AX7 | G22: =AX8 | H22: =AX9 | J22: =AX10 | K22: =AX11 | L22: =AX12 | M22: =AX13 | N22: =AX14 | O22: =AX15 | P22: =AX16 | Q22: =AX17 | R22: =AX18 | S22: =AX19 | T22: =AX20 | U22: =AX21 | V22: =AX22 | W22: =AX23 | X22: =AX24 | Y22: =AX25 | Z22: =SUM(D45:Y45) -> 0 | AA22: =AX26 | AC22: =Z22 -> 0 | AG22: =TRIM(BB22) -> D | AH22: =TRIM(BC22) -> B | AI22: =TRIM(BD22) -> D | AJ22: =TRIM(BE22) -> D | AK22: =TRIM(BF22) -> B | AL22: =TRIM(BG22) -> D | AM22: =TRIM(BH22) -> B | AN22: =TRIM(BI22) -> B | ... AZ22: =TRIM(BU22) -> D | BB22: D | BC22: B | BD22: D | BE22: D | BF22: B | BG22: D | BH22: B | BI22: B | BJ22: B | BK22: B | BL22: D | BM22: B | BN22: B | BO22: B | BP22: B | BQ22: B | BR22: D | BT22: B | BU22: D | BW22: 1 | BX22: B
C23: Jamie | D23: =AY5 -> G | E23: =AY6 -> L | F23: =AY7 -> M | G23: =AY8 -> M | H23: =AY9 -> C | J23: =AY10 -> A | K23: =AY11 -> B | L23: =AY12 -> CN | M23: =AY13 -> D | N23: =AY14 -> H | O23: =AY15 -> K | P23: =AY16 -> T | Q23: =AY17 -> C | R23: =AY18 -> S | S23: =AY19 -> N | T23: =AY20 -> S | U23: =AY21 -> T | V23: =AY22 -> B | W23: =AY23 -> L | X23: =AY24 -> R | Y23: =AY25 -> P | Z23: =SUM(D46:Y46) -> 10 | AA23: =AY26 -> 32 | AC23: =Z23 -> 10 | AG23: =TRIM(BB23) -> N | AH23: =TRIM(BC23) -> N | AI23: =TRIM(BD23) -> L | AJ23: =TRIM(BE23) -> L | AK23: =TRIM(BF23) -> L | AL23: =TRIM(BG23) -> N | AM23: =TRIM(BH23) -> N | AN23: =TRIM(BI23) -> N | ... AZ23: =TRIM(BU23) -> N | BB23: N | BC23: N | BD23: L | BE23: L | BF23: L | BG23: N | BH23: N | BI23: N | BJ23: N | BK23: L | BL23: L | BM23: N | BN23: N | BO23: N | BP23: N | BQ23: L | BR23: L | BT23: L | BU23: N | BW23: 1.0416667 | BX23: N
C24: Kelly | D24: =AZ5 -> G | E24: =AZ6 -> T | F24: =AZ7 -> M | G24: =AZ8 -> F | H24: =AZ9 -> C | J24: =AZ10 -> A | K24: =AZ11 -> B | L24: =AZ12 -> CN | M24: =AZ13 -> D | N24: =AZ14 -> I | O24: =AZ15 -> K | P24: =AZ16 -> T | Q24: =AZ17 -> P | R24: =AZ18 -> S | S24: =AZ19 -> N | T24: =AZ20 -> S | U24: =AZ21 -> M | V24: =AZ22 -> D | W24: =AZ23 -> N | X24: =AZ24 -> D | Y24: =AZ25 -> P | Z24: =SUM(D47:Y47) -> 12 | AA24: =AZ26 -> 43 | AC24: =Z24 -> 12 | AG24: =TRIM(BB24) -> R | AH24: =TRIM(BC24) -> D | AI24: =TRIM(BD24) -> R | AJ24: =TRIM(BE24) -> R | AK24: =TRIM(BF24) -> R | AL24: =TRIM(BG24) -> D | AM24: =TRIM(BH24) -> R | AN24: =TRIM(BI24) -> D | ... AZ24: =TRIM(BU24) -> D | BB24: R | BC24: D | BD24: R | BE24: R | BF24: R | BG24: D | BH24: R | BI24: D | BJ24: R | BK24: R | BL24: R | BM24: D | BN24: R | BO24: R | BP24: R | BQ24: R | BR24: D | BT24: R | BU24: D | BW24: 1.0833333 | BX24: R
AG25: =TRIM(BB25) -> P | AH25: =TRIM(BC25) -> P | AI25: =TRIM(BD25) -> P | AJ25: =TRIM(BE25) -> P | AK25: =TRIM(BF25) -> P | AL25: =TRIM(BG25) -> C | AM25: =TRIM(BH25) -> P | AN25: =TRIM(BI25) -> P | ... AZ25: =TRIM(BU25) -> P | BB25: P | BC25: P | BD25: P | BE25: P | BF25: P | BG25: C | BH25: P | BI25: P | BJ25: P | BK25: P | BL25: P | BM25: C | BN25: P | BO25: P | BP25: P | BQ25: P | BR25: C | BT25: P | BU25: P | BW25: 1.125 | BX25: P
G26: Correct Pick | N26: Upset Pick | AG26: =TRIM(BB26) -> 49 | AH26: =TRIM(BC26) -> 49 | AI26: =TRIM(BD26) -> 46 | AJ26: =TRIM(BE26) -> 46 | AK26: =TRIM(BF26) -> 45 | AL26: =TRIM(BG26) -> 36 | AM26: =TRIM(BH26) -> 41 | AN26: =TRIM(BI26) -> 36 | ... AZ26: =TRIM(BU26) -> 43 | BB26: 49 | BC26: 49 | BD26: 46 | BE26: 46 | BF26: 45 | BG26: 36 | BH26: 41 | BI26: 36 | BJ26: 46 | BK26: 52 | BL26: 28 | BM26: 42 | BN26: 41 | BO26: 49 | BP26: 32 | BQ26: 24 | BR26: 47 | BT26: 32 | BU26: 43 | BW26: Tiebreaker: | BX26: 46
C28: =C5 -> Fred | D28: =IF(D5=D$4,1,0) -> 1 | E28: =IF(E5=E$4,1,0) -> 1 | F28: =IF(F5=F$4,1,0) -> 0 | G28: =IF(G5=G$4,1,0) -> 0 | H28: =IF(H5=H$4,1,0) -> 0 | J28: =IF(J5=J$4,1,0) -> 0 | K28: =IF(K5=K$4,1,0) -> 1 | L28: =IF(L5=L$4,1,0) -> 1 | M28: =IF(M5=M$4,1,0) -> 1 | N28: =IF(N5=N$4,1,0) -> 0 | O28: =IF(O5=O$4,1,0) -> 1 | P28: =IF(P5=P$4,1,0) -> 1 | Q28: =IF(Q5=Q$4,1,0) -> 1 | ... Y28: =IF(Y5=Y$4,1,0) -> 0
C29: =C6 -> Joni | D29: =IF(D6=D$4,1,0) -> 1 | E29: =IF(E6=E$4,1,0) -> 1 | F29: =IF(F6=F$4,1,0) -> 0 | G29: =IF(G6=G$4,1,0) -> 0 | H29: =IF(H6=H$4,1,0) -> 0 | J29: =IF(J6=J$4,1,0) -> 0 | K29: =IF(K6=K$4,1,0) -> 1 | L29: =IF(L6=L$4,1,0) -> 1 | M29: =IF(M6=M$4,1,0) -> 1 | N29: =IF(N6=N$4,1,0) -> 1 | O29: =IF(O6=O$4,1,0) -> 1 | P29: =IF(P6=P$4,1,0) -> 0 | Q29: =IF(Q6=Q$4,1,0) -> 1 | ... Y29: =IF(Y6=Y$4,1,0) -> 0
C30: =C7 -> Tara | D30: =IF(D7=D$4,1,0) -> 1 | E30: =IF(E7=E$4,1,0) -> 1 | F30: =IF(F7=F$4,1,0) -> 1 | G30: =IF(G7=G$4,1,0) -> 1 | H30: =IF(H7=H$4,1,0) -> 1 | J30: =IF(J7=J$4,1,0) -> 0 | K30: =IF(K7=K$4,1,0) -> 1 | L30: =IF(L7=L$4,1,0) -> 0 | M30: =IF(M7=M$4,1,0) -> 1 | N30: =IF(N7=N$4,1,0) -> 0 | O30: =IF(O7=O$4,1,0) -> 1 | P30: =IF(P7=P$4,1,0) -> 0 | Q30: =IF(Q7=Q$4,1,0) -> 0 | ... Y30: =IF(Y7=Y$4,1,0) -> 0
C31: =C8 -> Roger | D31: =IF(D8=D$4,1,0) -> 1 | E31: =IF(E8=E$4,1,0) -> 1 | F31: =IF(F8=F$4,1,0) -> 1 | G31: =IF(G8=G$4,1,0) -> 1 | H31: =IF(H8=H$4,1,0) -> 1 | J31: =IF(J8=J$4,1,0) -> 0 | K31: =IF(K8=K$4,1,0) -> 1 | L31: =IF(L8=L$4,1,0) -> 0 | M31: =IF(M8=M$4,1,0) -> 1 | N31: =IF(N8=N$4,1,0) -> 0 | O31: =IF(O8=O$4,1,0) -> 1 | P31: =IF(P8=P$4,1,0) -> 0 | Q31: =IF(Q8=Q$4,1,0) -> 0 | ... Y31: =IF(Y8=Y$4,1,0) -> 0
C32: =C9 -> Jeanne | D32: =IF(D9=D$4,1,0) -> 0 | E32: =IF(E9=E$4,1,0) -> 1 | F32: =IF(F9=F$4,1,0) -> 1 | G32: =IF(G9=G$4,1,0) -> 1 | H32: =IF(H9=H$4,1,0) -> 1 | J32: =IF(J9=J$4,1,0) -> 1 | K32: =IF(K9=K$4,1,0) -> 0 | L32: =IF(L9=L$4,1,0) -> 0 | M32: =IF(M9=M$4,1,0) -> 0 | N32: =IF(N9=N$4,1,0) -> 0 | O32: =IF(O9=O$4,1,0) -> 1 | P32: =IF(P9=P$4,1,0) -> 0 | Q32: =IF(Q9=Q$4,1,0) -> 0 | ... Y32: =IF(Y9=Y$4,1,0) -> 0
C33: =C10 -> Jackie | D33: =IF(D10=D$4,1,0) -> 1 | E33: =IF(E10=E$4,1,0) -> 1 | F33: =IF(F10=F$4,1,0) -> 0 | G33: =IF(G10=G$4,1,0) -> 1 | H33: =IF(H10=H$4,1,0) -> 0 | J33: =IF(J10=J$4,1,0) -> 0 | K33: =IF(K10=K$4,1,0) -> 1 | L33: =IF(L10=L$4,1,0) -> 1 | M33: =IF(M10=M$4,1,0) -> 1 | N33: =IF(N10=N$4,1,0) -> 1 | O33: =IF(O10=O$4,1,0) -> 0 | P33: =IF(P10=P$4,1,0) -> 1 | Q33: =IF(Q10=Q$4,1,0) -> 1 | ... Y33: =IF(Y10=Y$4,1,0) -> 1
C34: =C11 -> Darla | D34: =IF(D11=D$4,1,0) -> 0 | E34: =IF(E11=E$4,1,0) -> 1 | F34: =IF(F11=F$4,1,0) -> 0 | G34: =IF(G11=G$4,1,0) -> 1 | H34: =IF(H11=H$4,1,0) -> 0 | J34: =IF(J11=J$4,1,0) -> 0 | K34: =IF(K11=K$4,1,0) -> 1 | L34: =IF(L11=L$4,1,0) -> 0 | M34: =IF(M11=M$4,1,0) -> 1 | N34: =IF(N11=N$4,1,0) -> 1 | O34: =IF(O11=O$4,1,0) -> 1 | P34: =IF(P11=P$4,1,0) -> 1 | Q34: =IF(Q11=Q$4,1,0) -> 1 | ... Y34: =IF(Y11=Y$4,1,0) -> 0
C35: =C12 -> Kieran | D35: =IF(D12=D$4,1,0) -> 0 | E35: =IF(E12=E$4,1,0) -> 0 | F35: =IF(F12=F$4,1,0) -> 0 | G35: =IF(G12=G$4,1,0) -> 0 | H35: =IF(H12=H$4,1,0) -> 0 | J35: =IF(J12=J$4,1,0) -> 0 | K35: =IF(K12=K$4,1,0) -> 1 | L35: =IF(L12=L$4,1,0) -> 0 | M35: =IF(M12=M$4,1,0) -> 0 | N35: =IF(N12=N$4,1,0) -> 0 | O35: =IF(O12=O$4,1,0) -> 1 | P35: =IF(P12=P$4,1,0) -> 0 | Q35: =IF(Q12=Q$4,1,0) -> 1 | ... Y35: =IF(Y12=Y$4,1,0) -> 0
C36: =C13 -> Kaidan | D36: =IF(D13=D$4,1,0) -> 1 | E36: =IF(E13=E$4,1,0) -> 1 | F36: =IF(F13=F$4,1,0) -> 0 | G36: =IF(G13=G$4,1,0) -> 0 | H36: =IF(H13=H$4,1,0) -> 1 | J36: =IF(J13=J$4,1,0) -> 0 | K36: =IF(K13=K$4,1,0) -> 1 | L36: =IF(L13=L$4,1,0) -> 0 | M36: =IF(M13=M$4,1,0) -> 1 | N36: =IF(N13=N$4,1,0) -> 1 | O36: =IF(O13=O$4,1,0) -> 1 | P36: =IF(P13=P$4,1,0) -> 1 | Q36: =IF(Q13=Q$4,1,0) -> 1 | ... Y36: =IF(Y13=Y$4,1,0) -> 0
C37: =C14 -> Jim | D37: =IF(D14=D$4,1,0) -> 1 | E37: =IF(E14=E$4,1,0) -> 1 | F37: =IF(F14=F$4,1,0) -> 1 | G37: =IF(G14=G$4,1,0) -> 0 | H37: =IF(H14=H$4,1,0) -> 0 | J37: =IF(J14=J$4,1,0) -> 0 | K37: =IF(K14=K$4,1,0) -> 1 | L37: =IF(L14=L$4,1,0) -> 1 | M37: =IF(M14=M$4,1,0) -> 1 | N37: =IF(N14=N$4,1,0) -> 1 | O37: =IF(O14=O$4,1,0) -> 1 | P37: =IF(P14=P$4,1,0) -> 0 | Q37: =IF(Q14=Q$4,1,0) -> 0 | ... Y37: =IF(Y14=Y$4,1,0) -> 0
C38: =C15 -> Lisa | D38: =IF(D15=D$4,1,0) -> 1 | E38: =IF(E15=E$4,1,0) -> 1 | F38: =IF(F15=F$4,1,0) -> 0 | G38: =IF(G15=G$4,1,0) -> 0 | H38: =IF(H15=H$4,1,0) -> 0 | J38: =IF(J15=J$4,1,0) -> 0 | K38: =IF(K15=K$4,1,0) -> 1 | L38: =IF(L15=L$4,1,0) -> 0 | M38: =IF(M15=M$4,1,0) -> 1 | N38: =IF(N15=N$4,1,0) -> 1 | O38: =IF(O15=O$4,1,0) -> 1 | P38: =IF(P15=P$4,1,0) -> 0 | Q38: =IF(Q15=Q$4,1,0) -> 1 | ... Y38: =IF(Y15=Y$4,1,0) -> 0
C39: =C16 -> Stuart | D39: =IF(D16=D$4,1,0) -> 1 | E39: =IF(E16=E$4,1,0) -> 1 | F39: =IF(F16=F$4,1,0) -> 1 | G39: =IF(G16=G$4,1,0) -> 0 | H39: =IF(H16=H$4,1,0) -> 1 | J39: =IF(J16=J$4,1,0) -> 0 | K39: =IF(K16=K$4,1,0) -> 1 | L39: =IF(L16=L$4,1,0) -> 0 | M39: =IF(M16=M$4,1,0) -> 1 | N39: =IF(N16=N$4,1,0) -> 0 | O39: =IF(O16=O$4,1,0) -> 1 | P39: =IF(P16=P$4,1,0) -> 0 | Q39: =IF(Q16=Q$4,1,0) -> 0 | ... Y39: =IF(Y16=Y$4,1,0) -> 1
... C45: =C22 -> #REF! | D45: =IF(D22=D$4,1,0) -> 0 | E45: =IF(E22=E$4,1,0) -> 0 | F45: =IF(F22=F$4,1,0) -> 0 | G45: =IF(G22=G$4,1,0) -> 0 | H45: =IF(H22=H$4,1,0) -> 0 | J45: =IF(J22=J$4,1,0) -> 0 | K45: =IF(K22=K$4,1,0) -> 0 | L45: =IF(L22=L$4,1,0) -> 0 | M45: =IF(M22=M$4,1,0) -> 0 | N45: =IF(N22=N$4,1,0) -> 0 | O45: =IF(O22=O$4,1,0) -> 0 | P45: =IF(P22=P$4,1,0) -> 0 | Q45: =IF(Q22=Q$4,1,0) -> 0 | ... Y45: =IF(Y22=Y$4,1,0) -> 0
D46: =IF(D23=D$4,1,0) -> 1 | E46: =IF(E23=E$4,1,0) -> 1 | F46: =IF(F23=F$4,1,0) -> 0 | G46: =IF(G23=G$4,1,0) -> 0 | H46: =IF(H23=H$4,1,0) -> 1 | J46: =IF(J23=J$4,1,0) -> 1 | K46: =IF(K23=K$4,1,0) -> 1 | L46: =IF(L23=L$4,1,0) -> 0 | M46: =IF(M23=M$4,1,0) -> 1 | N46: =IF(N23=N$4,1,0) -> 0 | O46: =IF(O23=O$4,1,0) -> 1 | P46: =IF(P23=P$4,1,0) -> 0 | Q46: =IF(Q23=Q$4,1,0) -> 0 | ... Y46: =IF(Y23=Y$4,1,0) -> 0
D47: =IF(D24=D$4,1,0) -> 1 | E47: =IF(E24=E$4,1,0) -> 0 | F47: =IF(F24=F$4,1,0) -> 0 | G47: =IF(G24=G$4,1,0) -> 1 | H47: =IF(H24=H$4,1,0) -> 1 | J47: =IF(J24=J$4,1,0) -> 1 | K47: =IF(K24=K$4,1,0) -> 1 | L47: =IF(L24=L$4,1,0) -> 0 | M47: =IF(M24=M$4,1,0) -> 1 | N47: =IF(N24=N$4,1,0) -> 1 | O47: =IF(O24=O$4,1,0) -> 1 | P47: =IF(P24=P$4,1,0) -> 0 | Q47: =IF(Q24=Q$4,1,0) -> 1 | ... Y47: =IF(Y24=Y$4,1,0) -> 0

Sheet Week4
E2: col | K2: wk | M2: No | P2: 4 | U2: pro
D3: Kentucky @ South Carolina | E3: Washington @ USC | F3: Florida @ Missouri | G3: Navy @ Air Force | H3: North Greenville @ UNC Pembroke | J3: Pittsburgh @ Cleveland | K3: Indianapolis v Washington | L3: New England @ Buffalo | M3: Jets @ Chicago | N3: Jacksonville @ Cincinnati | O3: Arizona @ Giants | P3: Rams @ Philadelphia | Q3: Green Bay @ Tampa Bay | R3: Tennessee @ Baltimore | S3: Dallas @ Houston | T3: Miami @ Minnesota | U3: Kansas City @ Las Vegas | V3: Denver @ San Francisco | W3: Chargers @ Seattle | X3: Detroit @ Carolina | Y3: Atlanta @ New Oreans | Z3: TOTAL | AA3: TIEBREAKER | AC3: GRAND TOTAL | AG3: =C5 -> Fred | AH3: =C6 -> Joni | AI3: =C7 -> Tara | AJ3: =C8 -> Roger | AK3: =C9 -> Jeanne | AL3: =C10 -> Jackie | AM3: =C11 -> Darla | AN3: =C12 -> Kieran | AO3: =C13 -> Kaidan | AP3: =C14 -> Jim | AQ3: =C15 -> Lisa | AR3: =C16 -> Stuart | AS3: =C17 -> Debbie | AT3: =C18 -> Scott | AU3: =C19 -> Michelle | AV3: =C20 -> Teri | AW3: =C21 -> Steve | AX3: =C22 -> 0 | AY3: =C23 -> Jamie | AZ3: =C24 -> Kelly | BB3: =C5 -> Fred | BC3: =C6 -> Joni | BD3: =C7 -> Tara | BE3: =C8 -> Roger | BF3: Jeanne | BG3: =C10 -> Jackie | BH3: =C11 -> Darla | BI3: =C12 -> Kieran | BJ3: =C13 -> Kaidan | BK3: =C14 -> Jim | BL3: =C15 -> Lisa | BM3: =C16 -> Stuart | BN3: =C17 -> Debbie | BO3: =C18 -> Scott | BP3: =C19 -> Michelle | BQ3: =C20 -> Teri | BR3: =C21 -> Steve | BS3: =C22 -> 0 | BT3: =C23 -> Jamie | BU3: =C24 -> Kelly
C4: Winners | D4: K | E4: U | F4: M | G4: A | H4: N | J4: C | K4: I | L4: N | M4: C | N4: J | O4: G | P4: R | Q4: G | R4: B | S4: D | T4: MN | U4: K | V4: S | W4: S | X4: C | Y4: A
C5: ='GRAND TOTALS'!C2 -> Fred | D5: =AG5 -> S | E5: =AG6 -> U | F5: =AG7 -> F | G5: =AG8 -> A | H5: =AG9 -> U | J5: =AG10 -> P | K5: =AG11 -> W | L5: =AG12 -> B | M5: =AG13 -> C | N5: =AG14 -> C | O5: =AG15 -> G | P5: =AG16 -> R | Q5: =AG17 -> T | R5: =AG18 -> B | S5: =AG19 -> H | T5: =AG20 -> MN | U5: =AG21 -> K | V5: =AG22 -> S | W5: =AG23 -> S | X5: =AG24 -> D | Y5: =AG25 -> A | Z5: =SUM(D28:Y28) -> 11 | AA5: =AG26 -> 32 | AC5: =Z5+'Week 3'!AC5 -> 21 | AG5: =TRIM(BB5) -> S | AH5: =TRIM(BC5) -> S | AI5: =TRIM(BD5) -> S | AJ5: =TRIM(BE5) -> K | AK5: =TRIM(BF5) -> S | AL5: =TRIM(BG5) -> S | AM5: =TRIM(BH5) -> S | AN5: =TRIM(BI5) -> S | ... AZ5: =TRIM(BU5) -> S | BB5: S | BC5: S | BD5: S | BE5: K | BF5: S | BG5: S | BH5: S | BI5: S | BJ5: K | BK5: S | BL5: S | BM5: S | BN5: K | BO5: S | BQ5: S | BR5: S | BT5: S | BU5: S | BV5: 0.041666667 | BW5: S
C6: ='GRAND TOTALS'!C3 -> Joni | D6: =AH5 -> S | E6: =AH6 -> U | F6: =AH7 -> M | G6: =AH8 -> A | H6: =AH9 -> U | J6: =AH10 -> C | K6: =AH11 -> I | L6: =AH12 -> B | M6: =AH13 -> C | N6: =AH14 -> C | O6: =AH15 -> A | P6: =AH16 -> P | Q6: =AH17 -> T | R6: =AH18 -> B | S6: =AH19 -> H | T6: =AH20 -> MN | U6: =AH21 -> K | V6: =AH22 -> S | W6: =AH23 -> S | X6: =AH24 -> C | Y6: =AH25 -> N | Z6: =SUM(D29:Y29) -> 12 | AA6: =AH26 -> 49 | AC6: =Z6+'Week 3'!AC6 -> 24 | AG6: =TRIM(BB6) -> U | AH6: =TRIM(BC6) -> U | AI6: =TRIM(BD6) -> U | AJ6: =TRIM(BE6) -> U | AK6: =TRIM(BF6) -> U | AL6: =TRIM(BG6) -> U | AM6: =TRIM(BH6) -> U | AN6: =TRIM(BI6) -> U | ... AZ6: =TRIM(BU6) -> U | BB6: U | BC6: U | BD6: U | BE6: U | BF6: U | BG6: U | BH6: U | BI6: U | BJ6: U | BK6: U | BL6: U | BM6: W | BN6: U | BO6: U | BQ6: U | BR6: U | BT6: U | BU6: U | BV6: 0.083333333 | BW6: U
C7: ='GRAND TOTALS'!C4 -> Tara | D7: =AI5 -> S | E7: =AI6 -> U | F7: =AI7 -> F | G7: =AI8 -> A | H7: =AI9 -> N | J7: =AI10 -> C | K7: =AI11 -> W | L7: =AI12 -> B | M7: =AI13 -> C | N7: =AI14 -> C | O7: =AI15 -> G | P7: =AI16 -> R | Q7: =AI17 -> G | R7: =AI18 -> B | S7: =AI19 -> H | T7: =AI20 -> MN | U7: =AI21 -> K | V7: =AI22 -> S | W7: =AI23 -> S | X7: =AI24 -> D | Y7: =AI25 -> N | Z7: =SUM(D30:Y30) -> 13 | AA7: =AI26 -> 43 | AC7: =Z7+'Week 3'!AC7 -> 25 | AG7: =TRIM(BB7) -> F | AH7: =TRIM(BC7) -> M | AI7: =TRIM(BD7) -> F | AJ7: =TRIM(BE7) -> F | AK7: =TRIM(BF7) -> M | AL7: =TRIM(BG7) -> M | AM7: =TRIM(BH7) -> F | AN7: =TRIM(BI7) -> F | ... AZ7: =TRIM(BU7) -> F | BB7: F | BC7: M | BD7: F | BE7: F | BF7: M | BG7: M | BH7: F | BI7: F | BJ7: F | BK7: F | BL7: F | BM7: F | BN7: F | BO7: F | BQ7: F | BR7: F | BT7: F | BU7: F | BV7: 0.125 | BW7: F
C8: ='GRAND TOTALS'!C5 -> Roger | D8: =AJ5 -> K | E8: =AJ6 -> U | F8: =AJ7 -> F | G8: =AJ8 -> A | H8: =AJ9 -> N | J8: =AJ10 -> P | K8: =AJ11 -> W | L8: =AJ12 -> B | M8: =AJ13 -> C | N8: =AJ14 -> J | O8: =AJ15 -> G | P8: =AJ16 -> R | Q8: =AJ17 -> G | R8: =AJ18 -> B | S8: =AJ19 -> D | T8: =AJ20 -> MN | U8: =AJ21 -> K | V8: =AJ22 -> S | W8: =AJ23 -> S | X8: =AJ24 -> D | Y8: =AJ25 -> A | Z8: =SUM(D31:Y31) -> 16 | AA8: =AJ26 -> 34 | AC8: =Z8+'Week 3'!AC8 -> 28 | AG8: =TRIM(BB8) -> A | AH8: =TRIM(BC8) -> A | AI8: =TRIM(BD8) -> A | AJ8: =TRIM(BE8) -> A | AK8: =TRIM(BF8) -> A | AL8: =TRIM(BG8) -> A | AM8: =TRIM(BH8) -> N | AN8: =TRIM(BI8) -> N | ... AZ8: =TRIM(BU8) -> N | BB8: A | BC8: A | BD8: A | BE8: A | BF8: A | BG8: A | BH8: N | BI8: N | BJ8: A | BK8: A | BL8: A | BM8: N | BN8: A | BO8: A | BQ8: N | BR8: A | BT8: A | BU8: N | BV8: 0.16666667 | BW8: A
C9: ='GRAND TOTALS'!C6 -> Jeanne | D9: =AK5 -> S | E9: =AK6 -> U | F9: =AK7 -> M | G9: =AK8 -> A | H9: =AK9 -> U | J9: =AK10 -> C | K9: =AK11 -> W | L9: =AK12 -> B | M9: =AK13 -> C | N9: =AK14 -> C | O9: =AK15 -> G | P9: =AK16 -> P | Q9: =AK17 -> T | R9: =AK18 -> B | S9: =AK19 -> H | T9: =AK20 -> MN | U9: =AK21 -> L | V9: =AK22 -> S | W9: =AK23 -> S | X9: =AK24 -> C | Y9: =AK25 -> N | Z9: =SUM(D32:Y32) -> 11 | AA9: =AK26 -> 45 | AC9: =Z9+'Week 3'!AC9 -> 20 | AG9: =TRIM(BB9) -> U | AH9: =TRIM(BC9) -> U | AI9: =TRIM(BD9) -> N | AJ9: =TRIM(BE9) -> N | AK9: =TRIM(BF9) -> U | AL9: =TRIM(BG9) -> U | AM9: =TRIM(BH9) -> U | AN9: =TRIM(BI9) -> U | ... AZ9: =TRIM(BU9) -> N | BB9: U | BC9: U | BD9: N | BE9: N | BF9: U | BG9: U | BH9: U | BI9: U | BJ9: U | BK9: U | BL9: N | BM9: U | BN9: N | BO9: N | BQ9: N | BR9: U | BT9: U | BU9: N | BV9: 0.20833333 | BW9: N
C10: ='GRAND TOTALS'!C7 -> Jackie | D10: =AL5 -> S | E10: =AL6 -> U | F10: =AL7 -> M | G10: =AL8 -> A | H10: =AL9 -> U | J10: =AL10 -> C | K10: =AL11 -> W | L10: =AL12 -> B | M10: =AL13 -> C | N10: =AL14 -> C | O10: =AL15 -> G | P10: =AL16 -> P | Q10: =AL17 -> T | R10: =AL18 -> B | S10: =AL19 -> H | T10: =AL20 -> MN | U10: =AL21 -> L | V10: =AL22 -> S | W10: =AL23 -> S | X10: =AL24 -> C | Y10: =AL25 -> N | Z10: =SUM(D33:Y33) -> 11 | AA10: =AL26 -> 36 | AC10: =Z10+'Week 3'!AC10 -> 25 | AG10: =TRIM(BB10) -> P | AH10: =TRIM(BC10) -> C | AI10: =TRIM(BD10) -> C | AJ10: =TRIM(BE10) -> P | AK10: =TRIM(BF10) -> C | AL10: =TRIM(BG10) -> C | AM10: =TRIM(BH10) -> P | AN10: =TRIM(BI10) -> P | ... AZ10: =TRIM(BU10) -> C | BB10: P | BC10: C | BD10: C | BE10: P | BF10: C | BG10: C | BH10: P | BI10: P | BJ10: P | BK10: C | BL10: P | BM10: P | BN10: P | BO10: P | BQ10: P | BR10: P | BT10: C | BU10: C | BV10: 0.5 | BW10: C
C11: ='GRAND TOTALS'!C8 -> Darla | D11: =AM5 -> S | E11: =AM6 -> U | F11: =AM7 -> F | G11: =AM8 -> N | H11: =AM9 -> U | J11: =AM10 -> P | K11: =AM11 -> I | L11: =AM12 -> B | M11: =AM13 -> J | N11: =AM14 -> J | O11: =AM15 -> A | P11: =AM16 -> P | Q11: =AM17 -> G | R11: =AM18 -> B | S11: =AM19 -> H | T11: =AM20 -> MN | U11: =AM21 -> K | V11: =AM22 -> D | W11: =AM23 -> S | X11: =AM24 -> D | Y11: =AM25 -> A | Z11: =SUM(D34:Y34) -> 9 | AA11: =AM26 -> 45 | AC11: =Z11+'Week 3'!AC11 -> 21 | AG11: =TRIM(BB11) -> W | AH11: =TRIM(BC11) -> I | AI11: =TRIM(BD11) -> W | AJ11: =TRIM(BE11) -> W | AK11: =TRIM(BF11) -> W | AL11: =TRIM(BG11) -> W | AM11: =TRIM(BH11) -> I | AN11: =TRIM(BI11) -> I | ... AZ11: =TRIM(BU11) -> W | BB11: W | BC11: I | BD11: W | BE11: W | BF11: W | BG11: W | BH11: I | BI11: I | BJ11: I | BK11: W | BL11: I | BM11: I | BN11: I | BO11: I | BQ11: I | BR11: I | BT11: I | BU11: W | BV11: 0.54166667 | BW11: W
C12: ='GRAND TOTALS'!C9 -> Kieran | D12: =AN5 -> S | E12: =AN6 -> U | F12: =AN7 -> F | G12: =AN8 -> N | H12: =AN9 -> U | J12: =AN10 -> P | K12: =AN11 -> I | L12: =AN12 -> B | M12: =AN13 -> J | N12: =AN14 -> J | O12: =AN15 -> A | P12: =AN16 -> R | Q12: =AN17 -> G | R12: =AN18 -> B | S12: =AN19 -> D | T12: =AN20 -> MN | U12: =AN21 -> L | V12: =AN22 -> S | W12: =AN23 -> S | X12: =AN24 -> C | Y12: =AN25 -> N | Z12: =SUM(D35:Y35) -> 11 | AA12: =AN26 -> 53 | AC12: =Z12+'Week 3'!AC12 -> 19 | AG12: =TRIM(BB12) -> B | AH12: =TRIM(BC12) -> B | AI12: =TRIM(BD12) -> B | AJ12: =TRIM(BE12) -> B | AK12: =TRIM(BF12) -> B | AL12: =TRIM(BG12) -> B | AM12: =TRIM(BH12) -> B | AN12: =TRIM(BI12) -> B | ... AZ12: =TRIM(BU12) -> B | BB12: B | BC12: B | BD12: B | BE12: B | BF12: B | BG12: B | BH12: B | BI12: B | BJ12: B | BK12: B | BL12: B | BM12: B | BN12: B | BO12: B | BQ12: B | BR12: B | BT12: B | BU12: B | BV12: 0.58333333 | BW12: B
C13: ='GRAND TOTALS'!C10 -> Kaidan | D13: =AO5 -> K | E13: =AO6 -> U | F13: =AO7 -> F | G13: =AO8 -> A | H13: =AO9 -> U | J13: =AO10 -> P | K13: =AO11 -> I | L13: =AO12 -> B | M13: =AO13 -> C | N13: =AO14 -> J | O13: =AO15 -> A | P13: =AO16 -> R | Q13: =AO17 -> T | R13: =AO18 -> B | S13: =AO19 -> D | T13: =AO20 -> MN | U13: =AO21 -> K | V13: =AO22 -> S | W13: =AO23 -> S | X13: =AO24 -> C | Y13: =AO25 -> N | Z13: =SUM(D36:Y36) -> 14 | AA13: =AO26 -> 48 | AC13: =Z13+'Week 3'!AC13 -> 27 | AG13: =TRIM(BB13) -> C | AH13: =TRIM(BC13) -> C | AI13: =TRIM(BD13) -> C | AJ13: =TRIM(BE13) -> C | AK13: =TRIM(BF13) -> C | AL13: =TRIM(BG13) -> C | AM13: =TRIM(BH13) -> J | AN13: =TRIM(BI13) -> J | ... AZ13: =TRIM(BU13) -> C | BB13: C | BC13: C | BD13: C | BE13: C | BF13: C | BG13: C | BH13: J | BI13: J | BJ13: C | BK13: C | BL13: C | BM13: C | BN13: C | BO13: C | BQ13: C | BR13: C | BT13: C | BU13: C | BV13: 0.625 | BW13: C
C14: ='GRAND TOTALS'!C11 -> Jim | D14: =AP5 -> S | E14: =AP6 -> U | F14: =AP7 -> F | G14: =AP8 -> A | H14: =AP9 -> U | J14: =AP10 -> C | K14: =AP11 -> W | L14: =AP12 -> B | M14: =AP13 -> C | N14: =AP14 -> C | O14: =AP15 -> A | P14: =AP16 -> R | Q14: =AP17 -> G | R14: =AP18 -> B | S14: =AP19 -> H | T14: =AP20 -> MN | U14: =AP21 -> K | V14: =AP22 -> D | W14: =AP23 -> S | X14: =AP24 -> D | Y14: =AP25 -> A | Z14: =SUM(D37:Y37) -> 11 | AA14: =AP26 -> 49 | AC14: =Z14+'Week 3'!AC14 -> 22 | AG14: =TRIM(BB14) -> C | AH14: =TRIM(BC14) -> C | AI14: =TRIM(BD14) -> C | AJ14: =TRIM(BE14) -> J | AK14: =TRIM(BF14) -> C | AL14: =TRIM(BG14) -> C | AM14: =TRIM(BH14) -> J | AN14: =TRIM(BI14) -> J | ... AZ14: =TRIM(BU14) -> J | BB14: C | BC14: C | BD14: C | BE14: J | BF14: C | BG14: C | BH14: J | BI14: J | BJ14: J | BK14: C | BL14: J | BM14: J | BN14: C | BO14: C | BQ14: J | BR14: C | BT14: C | BU14: J | BV14: 0.66666667 | BW14: C
C15: ='GRAND TOTALS'!C12 -> Lisa | D15: =AQ5 -> S | E15: =AQ6 -> U | F15: =AQ7 -> F | G15: =AQ8 -> A | H15: =AQ9 -> N | J15: =AQ10 -> P | K15: =AQ11 -> I | L15: =AQ12 -> B | M15: =AQ13 -> C | N15: =AQ14 -> J | O15: =AQ15 -> G | P15: =AQ16 -> P | Q15: =AQ17 -> G | R15: =AQ18 -> B | S15: =AQ19 -> H | T15: =AQ20 -> MN | U15: =AQ21 -> K | V15: =AQ22 -> S | W15: =AQ23 -> S | X15: =AQ24 -> D | Y15: =AQ25 -> N | Z15: =SUM(D38:Y38) -> 13 | AA15: =AQ26 -> 35 | AC15: =Z15+'Week 3'!AC15 -> 23 | AG15: =TRIM(BB15) -> G | AH15: =TRIM(BC15) -> A | AI15: =TRIM(BD15) -> G | AJ15: =TRIM(BE15) -> G | AK15: =TRIM(BF15) -> G | AL15: =TRIM(BG15) -> G | AM15: =TRIM(BH15) -> A | AN15: =TRIM(BI15) -> A | ... AZ15: =TRIM(BU15) -> A | BB15: G | BC15: A | BD15: G | BE15: G | BF15: G | BG15: G | BH15: A | BI15: A | BJ15: A | BK15: A | BL15: G | BM15: A | BN15: A | BO15: A | BQ15: A | BR15: A | BT15: A | BU15: A | BV15: 0.70833333 | BW15: G
C16: ='GRAND TOTALS'!C13 -> Stuart | D16: =AR5 -> S | E16: =AR6 -> W | F16: =AR7 -> F | G16: =AR8 -> N | H16: =AR9 -> U | J16: =AR10 -> P | K16: =AR11 -> I | L16: =AR12 -> B | M16: =AR13 -> C | N16: =AR14 -> J | O16: =AR15 -> A | P16: =AR16 -> R | Q16: =AR17 -> T | R16: =AR18 -> B | S16: =AR19 -> H | T16: =AR20 -> MN | U16: =AR21 -> K | V16: =AR22 -> S | W16: =AR23 -> S | X16: =AR24 -> D | Y16: =AR25 -> N | Z16: =SUM(D39:Y39) -> 9 | AA16: =AR26 -> 52 | AC16: =Z16+'Week 3'!AC16 -> 21 | AG16: =TRIM(BB16) -> R | AH16: =TRIM(BC16) -> P | AI16: =TRIM(BD16) -> R | AJ16: =TRIM(BE16) -> R | AK16: =TRIM(BF16) -> P | AL16: =TRIM(BG16) -> P | AM16: =TRIM(BH16) -> P | AN16: =TRIM(BI16) -> R | ... AZ16: =TRIM(BU16) -> P | BB16: R | BC16: P | BD16: R | BE16: R | BF16: P | BG16: P | BH16: P | BI16: R | BJ16: R | BK16: R | BL16: P | BM16: R | BN16: P | BO16: P | BQ16: R | BR16: R | BT16: R | BU16: P | BV16: 0.75 | BW16: R
C17: ='GRAND TOTALS'!C14 -> Debbie | D17: =AS5 -> K | E17: =AS6 -> U | F17: =AS7 -> F | G17: =AS8 -> A | H17: =AS9 -> N | J17: =AS10 -> P | K17: =AS11 -> I | L17: =AS12 -> B | M17: =AS13 -> C | N17: =AS14 -> C | O17: =AS15 -> A | P17: =AS16 -> P | Q17: =AS17 -> G | R17: =AS18 -> B | S17: =AS19 -> H | T17: =AS20 -> MN | U17: =AS21 -> K | V17: =AS22 -> S | W17: =AS23 -> S | X17: =AS24 -> D | Y17: =AS25 | Z17: =SUM(D40:Y40) -> 12 | AA17: =AS26 -> 48.5 | AC17: =Z17+'Week 3'!AC17 -> 25 | AG17: =TRIM(BB17) -> T | AH17: =TRIM(BC17) -> T | AI17: =TRIM(BD17) -> G | AJ17: =TRIM(BE17) -> G | AK17: =TRIM(BF17) -> T | AL17: =TRIM(BG17) -> T | AM17: =TRIM(BH17) -> G | AN17: =TRIM(BI17) -> G | ... AZ17: =TRIM(BU17) -> G | BB17: T | BC17: T | BD17: G | BE17: G | BF17: T | BG17: T | BH17: G | BI17: G | BJ17: T | BK17: G | BL17: G | BM17: T | BN17: G | BO17: G | BQ17: G | BR17: G | BT17: G | BU17: G | BV17: 0.79166667 | BW17: G
C18: ='GRAND TOTALS'!C15 -> Scott | D18: =AT5 -> S | E18: =AT6 -> U | F18: =AT7 -> F | G18: =AT8 -> A | H18: =AT9 -> N | J18: =AT10 -> P | K18: =AT11 -> I | L18: =AT12 -> B | M18: =AT13 -> C | N18: =AT14 -> C | O18: =AT15 -> A | P18: =AT16 -> P | Q18: =AT17 -> G | R18: =AT18 -> B | S18: =AT19 -> H | T18: =AT20 -> MN | U18: =AT21 -> K | V18: =AT22 -> S | W18: =AT23 -> S | X18: =AT24 -> D | Y18: =AT25 -> A | Z18: =SUM(D41:Y41) -> 12 | AA18: =AT26 -> 45 | AC18: =Z18+'Week 3'!AC18 -> 23 | AG18: =TRIM(BB18) -> B | AH18: =TRIM(BC18) -> B | AI18: =TRIM(BD18) -> B | AJ18: =TRIM(BE18) -> B | AK18: =TRIM(BF18) -> B | AL18: =TRIM(BG18) -> B | AM18: =TRIM(BH18) -> B | AN18: =TRIM(BI18) -> B | ... AZ18: =TRIM(BU18) -> B | BB18: B | BC18: B | BD18: B | BE18: B | BF18: B | BG18: B | BH18: B | BI18: B | BJ18: B | BK18: B | BL18: B | BM18: B | BN18: B | BO18: B | BQ18: B | BR18: B | BT18: B | BU18: B | BV18: 0.83333333 | BW18: B
C19: ='GRAND TOTALS'!C16 -> Michelle | D19: =AU5 | E19: =AU6 | F19: =AU7 | G19: =AU8 | H19: =AU9 | J19: =AU10 | K19: =AU11 | L19: =AU12 | M19: =AU13 | N19: =AU14 | O19: =AU15 | P19: =AU16 | Q19: =AU17 | R19: =AU18 | S19: =AU19 | T19: =AU20 | U19: =AU21 | V19: =AU22 | W19: =AU23 | X19: =AU24 | Y19: =AU25 | Z19: =SUM(D42:Y42) -> 0 | AA19: =AU26 | AC19: =Z19+'Week 3'!AC19 -> 10 | AG19: =TRIM(BB19) -> H | AH19: =TRIM(BC19) -> H | AI19: =TRIM(BD19) -> H | AJ19: =TRIM(BE19) -> D | AK19: =TRIM(BF19) -> H | AL19: =TRIM(BG19) -> H | AM19: =TRIM(BH19) -> H | AN19: =TRIM(BI19) -> D | ... AZ19: =TRIM(BU19) -> H | BB19: H | BC19: H | BD19: H | BE19: D | BF19: H | BG19: H | BH19: H | BI19: D | BJ19: D | BK19: H | BL19: H | BM19: H | BN19: H | BO19: H | BQ19: D | BR19: H | BT19: H | BU19: H | BV19: 0.875 | BW19: H
C20: ='GRAND TOTALS'!C17 -> Teri | D20: =AV5 -> S | E20: =AV6 -> U | F20: =AV7 -> F | G20: =AV8 -> N | H20: =AV9 -> N | J20: =AV10 -> P | K20: =AV11 -> I | L20: =AV12 -> B | M20: =AV13 -> C | N20: =AV14 -> J | O20: =AV15 -> A | P20: =AV16 -> R | Q20: =AV17 -> G | R20: =AV18 -> B | S20: =AV19 -> D | T20: =AV20 -> MN | U20: =AV21 -> K | V20: =AV22 -> S | W20: =AV23 -> S | X20: =AV24 -> D | Y20: =AV25 -> N | Z20: =SUM(D43:Y43) -> 13 | AA20: =AV26 -> 32 | AC20: =Z20+'Week 3'!AC20 -> 25 | AG20: =TRIM(BB20) -> MN | AH20: =TRIM(BC20) -> MN | AI20: =TRIM(BD20) -> MN | AJ20: =TRIM(BE20) -> MN | AK20: =TRIM(BF20) -> MN | AL20: =TRIM(BG20) -> MN | AM20: =TRIM(BH20) -> MN | AN20: =TRIM(BI20) -> MN | ... AZ20: =TRIM(BU20) -> MN | BB20: MN | BC20: MN | BD20: MN | BE20: MN | BF20: MN | BG20: MN | BH20: MN | BI20: MN | BJ20: MN | BK20: MN | BL20: MN | BM20: MN | BN20: MN | BO20: MN | BQ20: MN | BR20: MN | BT20: MN | BU20: MN | BV20: 0.91666667 | BW20: MN
C21: ='GRAND TOTALS'!C18 -> Steve | D21: =AW5 -> S | E21: =AW6 -> U | F21: =AW7 -> F | G21: =AW8 -> A | H21: =AW9 -> U | J21: =AW10 -> P | K21: =AW11 -> I | L21: =AW12 -> B | M21: =AW13 -> C | N21: =AW14 -> C | O21: =AW15 -> A | P21: =AW16 -> R | Q21: =AW17 -> G | R21: =AW18 -> B | S21: =AW19 -> H | T21: =AW20 -> MN | U21: =AW21 -> K | V21: =AW22 -> S | W21: =AW23 -> S | X21: =AW24 -> D | Y21: =AW25 -> N | Z21: =SUM(D44:Y44) -> 11 | AA21: =AW26 -> 47 | AC21: =Z21+'Week 3'!AC21 -> 21 | AG21: =TRIM(BB21) -> K | AH21: =TRIM(BC21) -> K | AI21: =TRIM(BD21) -> K | AJ21: =TRIM(BE21) -> K | AK21: =TRIM(BF21) -> L | AL21: =TRIM(BG21) -> L | AM21: =TRIM(BH21) -> K | AN21: =TRIM(BI21) -> L | ... AZ21: =TRIM(BU21) -> K | BB21: K | BC21: K | BD21: K | BE21: K | BF21: L | BG21: L | BH21: K | BI21: L | BJ21: K | BK21: K | BL21: K | BM21: K | BN21: K | BO21: K | BQ21: K | BR21: K | BT21: K | BU21: K | BV21: 0.95833333 | BW21: K
D22: =AX5 | E22: =AX6 | F22: =AX7 | G22: =AX8 | H22: =AX9 | J22: =AX10 | K22: =AX11 | L22: =AX12 | M22: =AX13 | N22: =AX14 | O22: =AX15 | P22: =AX16 | Q22: =AX17 | R22: =AX18 | S22: =AX19 | T22: =AX20 | U22: =AX21 | V22: =AX22 | W22: =AX23 | X22: =AX24 | Y22: =AX25 | Z22: =SUM(D45:Y45) -> 0 | AA22: =AX26 | AC22: =Z22+'Week 3'!AC22 -> 0 | AG22: =TRIM(BB22) -> S | AH22: =TRIM(BC22) -> S | AI22: =TRIM(BD22) -> S | AJ22: =TRIM(BE22) -> S | AK22: =TRIM(BF22) -> S | AL22: =TRIM(BG22) -> S | AM22: =TRIM(BH22) -> D | AN22: =TRIM(BI22) -> S | ... AZ22: =TRIM(BU22) -> D | BB22: S | BC22: S | BD22: S | BE22: S | BF22: S | BG22: S | BH22: D | BI22: S | BJ22: S | BK22: D | BL22: S | BM22: S | BN22: S | BO22: S | BQ22: S | BR22: S | BT22: S | BU22: D | BV22: 1 | BW22: S
C23: Jamie | D23: =AY5 -> S | E23: =AY6 -> U | F23: =AY7 -> F | G23: =AY8 -> A | H23: =AY9 -> U | J23: =AY10 -> C | K23: =AY11 -> I | L23: =AY12 -> B | M23: =AY13 -> C | N23: =AY14 -> C | O23: =AY15 -> A | P23: =AY16 -> R | Q23: =AY17 -> G | R23: =AY18 -> B | S23: =AY19 -> H | T23: =AY20 -> MN | U23: =AY21 -> K | V23: =AY22 -> S | W23: =AY23 -> S | X23: =AY24 -> D | Y23: =AY25 -> N | Z23: =SUM(D46:Y46) -> 12 | AA23: =AY26 -> 49 | AC23: =Z23+'Week 3'!AC23 -> 22 | AG23: =TRIM(BB23) -> S | AH23: =TRIM(BC23) -> S | AI23: =TRIM(BD23) -> S | AJ23: =TRIM(BE23) -> S | AK23: =TRIM(BF23) -> S | AL23: =TRIM(BG23) -> S | AM23: =TRIM(BH23) -> S | AN23: =TRIM(BI23) -> S | ... AZ23: =TRIM(BU23) -> S | BB23: S | BC23: S | BD23: S | BE23: S | BF23: S | BG23: S | BH23: S | BI23: S | BJ23: S | BK23: S | BL23: S | BM23: S | BN23: S | BO23: S | BQ23: S | BR23: S | BT23: S | BU23: S | BV23: 1.0416667 | BW23: S
C24: Kelly | D24: =AZ5 -> S | E24: =AZ6 -> U | F24: =AZ7 -> F | G24: =AZ8 -> N | H24: =AZ9 -> N | J24: =AZ10 -> C | K24: =AZ11 -> W | L24: =AZ12 -> B | M24: =AZ13 -> C | N24: =AZ14 -> J | O24: =AZ15 -> A | P24: =AZ16 -> P | Q24: =AZ17 -> G | R24: =AZ18 -> B | S24: =AZ19 -> H | T24: =AZ20 -> MN | U24: =AZ21 -> K | V24: =AZ22 -> D | W24: =AZ23 -> S | X24: =AZ24 -> D | Y24: =AZ25 -> N | Z24: =SUM(D47:Y47) -> 10 | AA24: =AZ26 -> 43 | AC24: =Z24+'Week 3'!AC24 -> 22 | AG24: =TRIM(BB24) -> D | AH24: =TRIM(BC24) -> C | AI24: =TRIM(BD24) -> D | AJ24: =TRIM(BE24) -> D | AK24: =TRIM(BF24) -> C | AL24: =TRIM(BG24) -> C | AM24: =TRIM(BH24) -> D | AN24: =TRIM(BI24) -> C | ... AZ24: =TRIM(BU24) -> D | BB24: D | BC24: C | BD24: D | BE24: D | BF24: C | BG24: C | BH24: D | BI24: C | BJ24: C | BK24: D | BL24: D | BM24: D | BN24: D | BO24: D | BQ24: D | BR24: D | BT24: D | BU24: D | BV24: 1.0833333 | BW24: D
AG25: =TRIM(BB25) -> A | AH25: =TRIM(BC25) -> N | AI25: N | AJ25: =TRIM(BE25) -> A | AK25: =TRIM(BF25) -> N | AL25: =TRIM(BG25) -> N | AM25: =TRIM(BH25) -> A | AN25: =TRIM(BI25) -> N | AO25: =TRIM(BJ25) -> N | AP25: =TRIM(BK25) -> A | AQ25: =TRIM(BL25) -> N | ... AZ25: =TRIM(BU25) -> N | BB25: A | BC25: N | BD25: n | BE25: A | BF25: N | BG25: N | BH25: A | BI25: N | BJ25: N | BK25: A | BL25: N | BM25: N | BO25: A | BQ25: N | BR25: N | BT25: N | BU25: N | BV25: 1.125 | BW25: L
G26: Correct Pick | N26: Upset Pick | AG26: =TRIM(BB26) -> 32 | AH26: =TRIM(BC26) -> 49 | AI26: =TRIM(BD26) -> 43 | AJ26: =TRIM(BE26) -> 34 | AK26: =TRIM(BF26) -> 45 | AL26: =TRIM(BG26) -> 36 | AM26: =TRIM(BH26) -> 45 | AN26: =TRIM(BI26) -> 53 | ... AZ26: =TRIM(BU26) -> 43 | BB26: 32 | BC26: 49 | BD26: 43 | BE26: 34 | BF26: 45 | BG26: 36 | BH26: 45 | BI26: 53 | BJ26: 48 | BK26: 49 | BL26: 35 | BM26: 52 | BN26: 48.5 | BO26: 45 | BQ26: 32 | BR26: 47 | BT26: 49 | BU26: 43 | BV26: Tiebreaker: | BW26: 43
C28: =C5 -> Fred | D28: =IF(D5=D$4,1,0) -> 0 | E28: =IF(E5=E$4,1,0) -> 1 | F28: =IF(F5=F$4,1,0) -> 0 | G28: =IF(G5=G$4,1,0) -> 1 | H28: =IF(H5=H$4,1,0) -> 0 | J28: =IF(J5=J$4,1,0) -> 0 | K28: =IF(K5=K$4,1,0) -> 0 | L28: =IF(L5=L$4,1,0) -> 0 | M28: =IF(M5=M$4,1,0) -> 1 | N28: =IF(N5=N$4,1,0) -> 0 | O28: =IF(O5=O$4,1,0) -> 1 | P28: =IF(P5=P$4,1,0) -> 1 | Q28: =IF(Q5=Q$4,1,0) -> 0 | ... Y28: =IF(Y5=Y$4,1,0) -> 1
C29: =C6 -> Joni | D29: =IF(D6=D$4,1,0) -> 0 | E29: =IF(E6=E$4,1,0) -> 1 | F29: =IF(F6=F$4,1,0) -> 1 | G29: =IF(G6=G$4,1,0) -> 1 | H29: =IF(H6=H$4,1,0) -> 0 | J29: =IF(J6=J$4,1,0) -> 1 | K29: =IF(K6=K$4,1,0) -> 1 | L29: =IF(L6=L$4,1,0) -> 0 | M29: =IF(M6=M$4,1,0) -> 1 | N29: =IF(N6=N$4,1,0) -> 0 | O29: =IF(O6=O$4,1,0) -> 0 | P29: =IF(P6=P$4,1,0) -> 0 | Q29: =IF(Q6=Q$4,1,0) -> 0 | ... Y29: =IF(Y6=Y$4,1,0) -> 0
C30: =C7 -> Tara | D30: =IF(D7=D$4,1,0) -> 0 | E30: =IF(E7=E$4,1,0) -> 1 | F30: =IF(F7=F$4,1,0) -> 0 | G30: =IF(G7=G$4,1,0) -> 1 | H30: =IF(H7=H$4,1,0) -> 1 | J30: =IF(J7=J$4,1,0) -> 1 | K30: =IF(K7=K$4,1,0) -> 0 | L30: =IF(L7=L$4,1,0) -> 0 | M30: =IF(M7=M$4,1,0) -> 1 | N30: =IF(N7=N$4,1,0) -> 0 | O30: =IF(O7=O$4,1,0) -> 1 | P30: =IF(P7=P$4,1,0) -> 1 | Q30: =IF(Q7=Q$4,1,0) -> 1 | ... Y30: =IF(Y7=Y$4,1,0) -> 0
C31: =C8 -> Roger | D31: =IF(D8=D$4,1,0) -> 1 | E31: =IF(E8=E$4,1,0) -> 1 | F31: =IF(F8=F$4,1,0) -> 0 | G31: =IF(G8=G$4,1,0) -> 1 | H31: =IF(H8=H$4,1,0) -> 1 | J31: =IF(J8=J$4,1,0) -> 0 | K31: =IF(K8=K$4,1,0) -> 0 | L31: =IF(L8=L$4,1,0) -> 0 | M31: =IF(M8=M$4,1,0) -> 1 | N31: =IF(N8=N$4,1,0) -> 1 | O31: =IF(O8=O$4,1,0) -> 1 | P31: =IF(P8=P$4,1,0) -> 1 | Q31: =IF(Q8=Q$4,1,0) -> 1 | ... Y31: =IF(Y8=Y$4,1,0) -> 1
C32: =C9 -> Jeanne | D32: =IF(D9=D$4,1,0) -> 0 | E32: =IF(E9=E$4,1,0) -> 1 | F32: =IF(F9=F$4,1,0) -> 1 | G32: =IF(G9=G$4,1,0) -> 1 | H32: =IF(H9=H$4,1,0) -> 0 | J32: =IF(J9=J$4,1,0) -> 1 | K32: =IF(K9=K$4,1,0) -> 0 | L32: =IF(L9=L$4,1,0) -> 0 | M32: =IF(M9=M$4,1,0) -> 1 | N32: =IF(N9=N$4,1,0) -> 0 | O32: =IF(O9=O$4,1,0) -> 1 | P32: =IF(P9=P$4,1,0) -> 0 | Q32: =IF(Q9=Q$4,1,0) -> 0 | ... Y32: =IF(Y9=Y$4,1,0) -> 0
C33: =C10 -> Jackie | D33: =IF(D10=D$4,1,0) -> 0 | E33: =IF(E10=E$4,1,0) -> 1 | F33: =IF(F10=F$4,1,0) -> 1 | G33: =IF(G10=G$4,1,0) -> 1 | H33: =IF(H10=H$4,1,0) -> 0 | J33: =IF(J10=J$4,1,0) -> 1 | K33: =IF(K10=K$4,1,0) -> 0 | L33: =IF(L10=L$4,1,0) -> 0 | M33: =IF(M10=M$4,1,0) -> 1 | N33: =IF(N10=N$4,1,0) -> 0 | O33: =IF(O10=O$4,1,0) -> 1 | P33: =IF(P10=P$4,1,0) -> 0 | Q33: =IF(Q10=Q$4,1,0) -> 0 | ... Y33: =IF(Y10=Y$4,1,0) -> 0
C34: =C11 -> Darla | D34: =IF(D11=D$4,1,0) -> 0 | E34: =IF(E11=E$4,1,0) -> 1 | F34: =IF(F11=F$4,1,0) -> 0 | G34: =IF(G11=G$4,1,0) -> 0 | H34: =IF(H11=H$4,1,0) -> 0 | J34: =IF(J11=J$4,1,0) -> 0 | K34: =IF(K11=K$4,1,0) -> 1 | L34: =IF(L11=L$4,1,0) -> 0 | M34: =IF(M11=M$4,1,0) -> 0 | N34: =IF(N11=N$4,1,0) -> 1 | O34: =IF(O11=O$4,1,0) -> 0 | P34: =IF(P11=P$4,1,0) -> 0 | Q34: =IF(Q11=Q$4,1,0) -> 1 | ... Y34: =IF(Y11=Y$4,1,0) -> 1
C35: =C12 -> Kieran | D35: =IF(D12=D$4,1,0) -> 0 | E35: =IF(E12=E$4,1,0) -> 1 | F35: =IF(F12=F$4,1,0) -> 0 | G35: =IF(G12=G$4,1,0) -> 0 | H35: =IF(H12=H$4,1,0) -> 0 | J35: =IF(J12=J$4,1,0) -> 0 | K35: =IF(K12=K$4,1,0) -> 1 | L35: =IF(L12=L$4,1,0) -> 0 | M35: =IF(M12=M$4,1,0) -> 0 | N35: =IF(N12=N$4,1,0) -> 1 | O35: =IF(O12=O$4,1,0) -> 0 | P35: =IF(P12=P$4,1,0) -> 1 | Q35: =IF(Q12=Q$4,1,0) -> 1 | ... Y35: =IF(Y12=Y$4,1,0) -> 0
C36: =C13 -> Kaidan | D36: =IF(D13=D$4,1,0) -> 1 | E36: =IF(E13=E$4,1,0) -> 1 | F36: =IF(F13=F$4,1,0) -> 0 | G36: =IF(G13=G$4,1,0) -> 1 | H36: =IF(H13=H$4,1,0) -> 0 | J36: =IF(J13=J$4,1,0) -> 0 | K36: =IF(K13=K$4,1,0) -> 1 | L36: =IF(L13=L$4,1,0) -> 0 | M36: =IF(M13=M$4,1,0) -> 1 | N36: =IF(N13=N$4,1,0) -> 1 | O36: =IF(O13=O$4,1,0) -> 0 | P36: =IF(P13=P$4,1,0) -> 1 | Q36: =IF(Q13=Q$4,1,0) -> 0 | ... Y36: =IF(Y13=Y$4,1,0) -> 0
C37: =C14 -> Jim | D37: =IF(D14=D$4,1,0) -> 0 | E37: =IF(E14=E$4,1,0) -> 1 | F37: =IF(F14=F$4,1,0) -> 0 | G37: =IF(G14=G$4,1,0) -> 1 | H37: =IF(H14=H$4,1,0) -> 0 | J37: =IF(J14=J$4,1,0) -> 1 | K37: =IF(K14=K$4,1,0) -> 0 | L37: =IF(L14=L$4,1,0) -> 0 | M37: =IF(M14=M$4,1,0) -> 1 | N37: =IF(N14=N$4,1,0) -> 0 | O37: =IF(O14=O$4,1,0) -> 0 | P37: =IF(P14=P$4,1,0) -> 1 | Q37: =IF(Q14=Q$4,1,0) -> 1 | ... Y37: =IF(Y14=Y$4,1,0) -> 1
C38: =C15 -> Lisa | D38: =IF(D15=D$4,1,0) -> 0 | E38: =IF(E15=E$4,1,0) -> 1 | F38: =IF(F15=F$4,1,0) -> 0 | G38: =IF(G15=G$4,1,0) -> 1 | H38: =IF(H15=H$4,1,0) -> 1 | J38: =IF(J15=J$4,1,0) -> 0 | K38: =IF(K15=K$4,1,0) -> 1 | L38: =IF(L15=L$4,1,0) -> 0 | M38: =IF(M15=M$4,1,0) -> 1 | N38: =IF(N15=N$4,1,0) -> 1 | O38: =IF(O15=O$4,1,0) -> 1 | P38: =IF(P15=P$4,1,0) -> 0 | Q38: =IF(Q15=Q$4,1,0) -> 1 | ... Y38: =IF(Y15=Y$4,1,0) -> 0
C39: =C16 -> Stuart | D39: =IF(D16=D$4,1,0) -> 0 | E39: =IF(E16=E$4,1,0) -> 0 | F39: =IF(F16=F$4,1,0) -> 0 | G39: =IF(G16=G$4,1,0) -> 0 | H39: =IF(H16=H$4,1,0) -> 0 | J39: =IF(J16=J$4,1,0) -> 0 | K39: =IF(K16=K$4,1,0) -> 1 | L39: =IF(L16=L$4,1,0) -> 0 | M39: =IF(M16=M$4,1,0) -> 1 | N39: =IF(N16=N$4,1,0) -> 1 | O39: =IF(O16=O$4,1,0) -> 0 | P39: =IF(P16=P$4,1,0) -> 1 | Q39: =IF(Q16=Q$4,1,0) -> 0 | ... Y39: =IF(Y16=Y$4,1,0) -> 0
... C45: =C22 -> 0 | D45: =IF(D22=D$4,1,0) -> 0 | E45: =IF(E22=E$4,1,0) -> 0 | F45: =IF(F22=F$4,1,0) -> 0 | G45: =IF(G22=G$4,1,0) -> 0 | H45: =IF(H22=H$4,1,0) -> 0 | J45: =IF(J22=J$4,1,0) -> 0 | K45: =IF(K22=K$4,1,0) -> 0 | L45: =IF(L22=L$4,1,0) -> 0 | M45: =IF(M22=M$4,1,0) -> 0 | N45: =IF(N22=N$4,1,0) -> 0 | O45: =IF(O22=O$4,1,0) -> 0 | P45: =IF(P22=P$4,1,0) -> 0 | Q45: =IF(Q22=Q$4,1,0) -> 0 | ... Y45: =IF(Y22=Y$4,1,0) -> 0
D46: =IF(D23=D$4,1,0) -> 0 | E46: =IF(E23=E$4,1,0) -> 1 | F46: =IF(F23=F$4,1,0) -> 0 | G46: =IF(G23=G$4,1,0) -> 1 | H46: =IF(H23=H$4,1,0) -> 0 | J46: =IF(J23=J$4,1,0) -> 1 | K46: =IF(K23=K$4,1,0) -> 1 | L46: =IF(L23=L$4,1,0) -> 0 | M46: =IF(M23=M$4,1,0) -> 1 | N46: =IF(N23=N$4,1,0) -> 0 | O46: =IF(O23=O$4,1,0) -> 0 | P46: =IF(P23=P$4,1,0) -> 1 | Q46: =IF(Q23=Q$4,1,0) -> 1 | ... Y46: =IF(Y23=Y$4,1,0) -> 0
D47: =IF(D24=D$4,1,0) -> 0 | E47: =IF(E24=E$4,1,0) -> 1 | F47: =IF(F24=F$4,1,0) -> 0 | G47: =IF(G24=G$4,1,0) -> 0 | H47: =IF(H24=H$4,1,0) -> 1 | J47: =IF(J24=J$4,1,0) -> 1 | K47: =IF(K24=K$4,1,0) -> 0 | L47: =IF(L24=L$4,1,0) -> 0 | M47: =IF(M24=M$4,1,0) -> 1 | N47: =IF(N24=N$4,1,0) -> 1 | O47: =IF(O24=O$4,1,0) -> 0 | P47: =IF(P24=P$4,1,0) -> 0 | Q47: =IF(Q24=Q$4,1,0) -> 1 | ... Y47: =IF(Y24=Y$4,1,0) -> 0

Sheet Week 5
E2: col | K2: wk | M2: No | P2: 5 | U2: pro
D3: Georgia @ Alabama | E3: LSU @ Kentucky | F3: UCLA @ Oregon | G3: Boise State @ Fresno State | H3: Albright @ Widener | J3: Tampa Bay @ Dallas | K3: Philadelphia vs Jacksonville | L3: Houston @ Tennessee | M3: Cincinnati @ Miami | N3: Las Vegas @ New England | O3: Minnesota @ New Orleans | P3: Cleveland @ Jets | Q3: Indianapolis @ Pittsburgh | R3: Giants @ Washington | S3: Denver @ Chargers | T3: Chicago @ Green Bay | U3: Detroit @ Arizona | V3: San Francisco @ Seattle | W3: Baltimore @ Atlanta | Y3: Buffalo @ Rams | Z3: TOTAL | AA3: TIEBREAKER | AC3: GRAND TOTAL | AG3: =C5 -> Fred | AH3: =C6 -> Joni | AI3: =C7 -> Tara | AJ3: =C8 -> Roger | AK3: =C9 -> Jeanne | AL3: =C10 -> Jackie | AM3: =C11 -> Darla | AN3: =C12 -> Kieran | AO3: =C13 -> Kaidan | AP3: =C14 -> Jim | AQ3: =C15 -> Lisa | AR3: =C16 -> Stuart | AS3: =C17 -> Debbie | AT3: =C18 -> Scott | AU3: =C19 -> Michelle | AV3: =C20 -> Teri | AW3: =C21 -> Steve | AX3: =C22 -> #REF! | AY3: =C23 -> Jamie | AZ3: =C24 -> Kelly | BB3: =C5 -> Fred | BC3: =C6 -> Joni | BD3: =C7 -> Tara | BE3: =C8 -> Roger | BF3: Jeanne | BG3: =C10 -> Jackie | BH3: =C11 -> Darla | BI3: =C12 -> Kieran | BJ3: =C13 -> Kaidan | BK3: =C14 -> Jim | BL3: =C15 -> Lisa | BM3: =C16 -> Stuart | BN3: =C17 -> Debbie | BO3: =C18 -> Scott | BP3: =C19 -> Michelle | BQ3: =C20 -> Teri | BR3: =C21 -> Steve | BS3: =C22 -> #REF! | BT3: =C23 -> Jamie | BU3: =C24 -> Kelly
C4: Winners | D4: g | E4: K | F4: U | G4: B | H4: A | J4: T | K4: J | L4: H | M4: C | N4: N | O4: M | P4: J | Q4: P | R4: X | S4: D | T4: G | U4: D | V4: SF | W4: B | X4: . | Y4: B
C5: ='GRAND TOTALS'!C2 -> Fred | D5: =AG5 -> A | E5: =AG6 -> L | F5: =AG7 -> O | G5: =AG8 -> B | H5: =AG9 -> W | J5: =AG10 -> D | K5: =AG11 -> J | L5: =AG12 -> H | M5: =AG13 -> C | N5: =AG14 -> N | O5: =AG15 -> M | P5: =AG16 -> J | Q5: =AG17 -> P | R5: =AG18 -> G | S5: =AG19 -> C | T5: =AG20 -> C | U5: =AG21 -> D | V5: =AG22 -> SE | W5: =AG23 -> A | X5: =AG24 | Y5: =AG25 -> B | Z5: =SUM(D28:Y28) -> 10 | AA5: =AG26 -> 52 | AC5: =Z5+Week4!AC5 -> 31 | AG5: =TRIM(BB5) -> A | AH5: =TRIM(BC5) -> A | AI5: =TRIM(BD5) -> A | AJ5: =TRIM(BE5) -> G | AK5: =TRIM(BF5) -> G | AL5: =TRIM(BG5) -> A | AM5: =TRIM(BH5) -> A | AN5: =TRIM(BI5) -> G | ... AZ5: =TRIM(BU5) -> A | BB5: A | BC5: A | BD5: A | BE5: G | BF5: G | BG5: A | BH5: A | BI5: G | BJ5: A | BK5: G | BL5: G | BM5: A | BN5: A | BO5: A | BP5: A | BQ5: A | BR5: A | BT5: G | BU5: A | BV5: 0.041666667 | BW5: A
C6: ='GRAND TOTALS'!C3 -> Joni | D6: =AH5 -> A | E6: =AH6 -> K | F6: =AH7 -> O | G6: =AH8 -> F | H6: =AH9 -> W | J6: =AH10 -> D | K6: =AH11 -> P | L6: =AH12 -> H | M6: =AH13 -> C | N6: =AH14 -> L | O6: =AH15 -> M | P6: =AH16 -> C | Q6: =AH17 -> P | R6: =AH18 -> W | S6: =AH19 -> C | T6: =AH20 -> C | U6: =AH21 -> D | V6: =AH22 -> SE | W6: =AH23 -> A | X6: =AH24 | Y6: =AH25 -> R | Z6: =SUM(D29:Y29) -> 6 | AA6: =AH26 -> 49 | AC6: =Z6+Week4!AC6 -> 30 | AG6: =TRIM(BB6) -> L | AH6: =TRIM(BC6) -> K | AI6: =TRIM(BD6) -> L | AJ6: =TRIM(BE6) -> L | AK6: =TRIM(BF6) -> L | AL6: =TRIM(BG6) -> K | AM6: =TRIM(BH6) -> L | AN6: =TRIM(BI6) -> L | ... AZ6: =TRIM(BU6) -> L | BB6: L | BC6: K | BD6: L | BE6: L | BF6: L | BG6: K | BH6: L | BI6: L | BJ6: L | BK6: L | BL6: L | BM6: L | BN6: L | BO6: L | BP6: L | BQ6: L | BR6: L | BT6: L | BU6: L | BV6: 0.083333333 | BW6: L
C7: ='GRAND TOTALS'!C4 -> Tara | D7: =AI5 -> A | E7: =AI6 -> L | F7: =AI7 -> O | G7: =AI8 -> B | H7: =AI9 -> W | J7: =AI10 -> D | K7: =AI11 -> J | L7: =AI12 -> H | M7: =AI13 -> C | N7: =AI14 -> N | O7: =AI15 -> M | P7: =AI16 -> J | Q7: =AI17 -> P | R7: =AI18 -> W | S7: =AI19 -> D | T7: =AI20 -> G | U7: =AI21 -> D | V7: =AI22 -> SE | W7: =AI23 -> A | X7: =AI24 | Y7: =AI25 -> R | Z7: =SUM(D30:Y30) -> 11 | AA7: =AI26 -> 43 | AC7: =Z7+Week4!AC7 -> 36 | AG7: =TRIM(BB7) -> O | AH7: =TRIM(BC7) -> O | AI7: =TRIM(BD7) -> O | AJ7: =TRIM(BE7) -> O | AK7: =TRIM(BF7) -> U | AL7: =TRIM(BG7) -> O | AM7: =TRIM(BH7) -> O | AN7: =TRIM(BI7) -> O | ... AZ7: =TRIM(BU7) -> O | BB7: O | BC7: O | BD7: O | BE7: O | BF7: U | BG7: O | BH7: O | BI7: O | BJ7: O | BK7: O | BL7: O | BM7: O | BN7: O | BO7: O | BP7: U | BQ7: O | BR7: O | BT7: O | BU7: O | BV7: 0.125 | BW7: O
C8: ='GRAND TOTALS'!C5 -> Roger | D8: =AJ5 -> G | E8: =AJ6 -> L | F8: =AJ7 -> O | G8: =AJ8 -> B | H8: =AJ9 -> A | J8: =AJ10 -> D | K8: =AJ11 -> P | L8: =AJ12 -> H | M8: =AJ13 -> C | N8: =AJ14 -> N | O8: =AJ15 -> M | P8: =AJ16 -> C | Q8: =AJ17 -> P | R8: =AJ18 -> W | S8: =AJ19 -> D | T8: =AJ20 -> G | U8: =AJ21 -> D | V8: =AJ22 -> SE | W8: =AJ23 -> B | X8: =AJ24 | Y8: =AJ25 -> B | Z8: =SUM(D31:Y31) -> 13 | AA8: =AJ26 -> 44 | AC8: =Z8+Week4!AC8 -> 41 | AG8: =TRIM(BB8) -> B | AH8: =TRIM(BC8) -> F | AI8: =TRIM(BD8) -> B | AJ8: =TRIM(BE8) -> B | AK8: =TRIM(BF8) -> B | AL8: =TRIM(BG8) -> F | AM8: =TRIM(BH8) -> B | AN8: =TRIM(BI8) -> B | ... AZ8: =TRIM(BU8) -> B | BB8: B | BC8: F | BD8: B | BE8: B | BF8: B | BG8: F | BH8: B | BI8: B | BJ8: B | BK8: B | BL8: B | BM8: B | BN8: B | BO8: B | BP8: B | BQ8: B | BR8: B | BT8: B | BU8: B | BV8: 0.16666667 | BW8: B
C9: ='GRAND TOTALS'!C6 -> Jeanne | D9: =AK5 -> G | E9: =AK6 -> L | F9: =AK7 -> U | G9: =AK8 -> B | H9: =AK9 -> A | J9: =AK10 -> T | K9: =AK11 -> P | L9: =AK12 -> H | M9: =AK13 -> C | N9: =AK14 -> L | O9: =AK15 -> M | P9: =AK16 -> C | Q9: =AK17 -> I | R9: =AK18 -> G | S9: =AK19 -> D | T9: =AK20 -> C | U9: =AK21 -> D | V9: =AK22 -> SF | W9: =AK23 -> B | X9: =AK24 | Y9: =AK25 -> B | Z9: =SUM(D32:Y32) -> 13 | AA9: =AK26 -> 45 | AC9: =Z9+Week4!AC9 -> 33 | AG9: =TRIM(BB9) -> W | AH9: =TRIM(BC9) -> W | AI9: =TRIM(BD9) -> W | AJ9: =TRIM(BE9) -> A | AK9: =TRIM(BF9) -> A | AL9: =TRIM(BG9) -> W | AM9: =TRIM(BH9) -> A | AN9: =TRIM(BI9) -> W | ... AZ9: =TRIM(BU9) -> A | BB9: W | BC9: W | BD9: W | BE9: A | BF9: A | BG9: W | BH9: A | BI9: W | BJ9: A | BL9: W | BM9: A | BN9: A | BO9: A | BP9: W | BQ9: W | BR9: W | BT9: W | BU9: A | BV9: 0.20833333 | BW9: A
C10: ='GRAND TOTALS'!C7 -> Jackie | D10: =AL5 -> A | E10: =AL6 -> K | F10: =AL7 -> O | G10: =AL8 -> F | H10: =AL9 -> W | J10: =AL10 -> D | K10: =AL11 -> J | L10: =AL12 -> T | M10: =AL13 -> M | N10: =AL14 -> N | O10: =AL15 -> N | P10: =AL16 -> J | Q10: =AL17 -> P | R10: =AL18 -> W | S10: =AL19 -> C | T10: =AL20 -> G | U10: =AL21 -> A | V10: =AL22 -> SE | W10: =AL23 -> A | X10: =AL24 | Y10: =AL25 -> R | Z10: =SUM(D33:Y33) -> 6 | AA10: =AL26 -> 36 | AC10: =Z10+Week4!AC10 -> 31 | AG10: =TRIM(BB10) -> D | AH10: =TRIM(BC10) -> D | AI10: =TRIM(BD10) -> D | AJ10: =TRIM(BE10) -> D | AK10: =TRIM(BF10) -> T | AL10: =TRIM(BG10) -> D | AM10: =TRIM(BH10) -> T | AN10: =TRIM(BI10) -> D | ... AZ10: =TRIM(BU10) -> D | BB10: D | BC10: D | BD10: D | BE10: D | BF10: T | BG10: D | BH10: T | BI10: D | BJ10: D | BK10: D | BL10: D | BM10: D | BN10: D | BO10: D | BP10: T | BQ10: D | BR10: D | BT10: D | BU10: D | BV10: 0.5 | BW10: D
C11: ='GRAND TOTALS'!C8 -> Darla | D11: =AM5 -> A | E11: =AM6 -> L | F11: =AM7 -> O | G11: =AM8 -> B | H11: =AM9 -> A | J11: =AM10 -> T | K11: =AM11 -> P | L11: =AM12 -> T | M11: =AM13 -> C | N11: =AM14 -> L | O11: =AM15 -> M | P11: =AM16 -> J | Q11: =AM17 -> I | R11: =AM18 -> W | S11: =AM19 -> C | T11: =AM20 -> G | U11: =AM21 -> D | V11: =AM22 -> SE | W11: =AM23 -> B | X11: =AM24 | Y11: =AM25 -> R | Z11: =SUM(D34:Y34) -> 9 | AA11: =AM26 -> 42 | AC11: =Z11+Week4!AC11 -> 30 | AG11: =TRIM(BB11) -> J | AH11: =TRIM(BC11) -> P | AI11: =TRIM(BD11) -> J | AJ11: =TRIM(BE11) -> P | AK11: =TRIM(BF11) -> P | AL11: =TRIM(BG11) -> J | AM11: =TRIM(BH11) -> P | AN11: =TRIM(BI11) -> J | ... AZ11: =TRIM(BU11) -> P | BB11: J | BC11: P | BD11: J | BE11: P | BF11: P | BG11: J | BH11: P | BI11: J | BJ11: J | BK11: J | BL11: P | BM11: J | BN11: J | BO11: P | BP11: P | BQ11: J | BR11: J | BT11: J | BU11: P | BV11: 0.54166667 | BW11: J
C12: ='GRAND TOTALS'!C9 -> Kieran | D12: =AN5 -> G | E12: =AN6 -> L | F12: =AN7 -> O | G12: =AN8 -> B | H12: =AN9 -> W | J12: =AN10 -> D | K12: =AN11 -> J | L12: =AN12 -> H | M12: =AN13 -> C | N12: =AN14 -> L | O12: =AN15 -> N | P12: =AN16 -> J | Q12: =AN17 -> P | R12: =AN18 -> W | S12: =AN19 -> D | T12: =AN20 -> G | U12: =AN21 -> D | V12: =AN22 -> SF | W12: =AN23 -> B | X12: =AN24 | Y12: =AN25 -> B | Z12: =SUM(D35:Y35) -> 13 | AA12: =AN26 -> 58 | AC12: =Z12+Week4!AC12 -> 32 | AG12: =TRIM(BB12) -> H | AH12: =TRIM(BC12) -> H | AI12: =TRIM(BD12) -> H | AJ12: =TRIM(BE12) -> H | AK12: =TRIM(BF12) -> H | AL12: =TRIM(BG12) -> T | AM12: =TRIM(BH12) -> T | AN12: =TRIM(BI12) -> H | ... AZ12: =TRIM(BU12) -> T | BB12: H | BC12: H | BD12: H | BE12: H | BF12: H | BG12: T | BH12: T | BI12: H | BJ12: H | BK12: H | BL12: H | BM12: H | BN12: H | BO12: H | BP12: T | BQ12: H | BR12: H | BT12: H | BU12: T | BV12: 0.58333333 | BW12: H
C13: ='GRAND TOTALS'!C10 -> Kaidan | D13: =AO5 -> A | E13: =AO6 -> L | F13: =AO7 -> O | G13: =AO8 -> B | H13: =AO9 -> A | J13: =AO10 -> D | K13: =AO11 -> J | L13: =AO12 -> H | M13: =AO13 -> C | N13: =AO14 -> L | O13: =AO15 -> M | P13: =AO16 -> C | Q13: =AO17 -> P | R13: =AO18 -> G | S13: =AO19 -> D | T13: =AO20 -> G | U13: =AO21 -> D | V13: =AO22 -> SE | W13: =AO23 -> B | X13: =AO24 | Y13: =AO25 -> R | Z13: =SUM(D36:Y36) -> 11 | AA13: =AO26 -> 50 | AC13: =Z13+Week4!AC13 -> 38 | AG13: =TRIM(BB13) -> C | AH13: =TRIM(BC13) -> C | AI13: =TRIM(BD13) -> C | AJ13: =TRIM(BE13) -> C | AK13: =TRIM(BF13) -> C | AL13: =TRIM(BG13) -> M | AM13: =TRIM(BH13) -> C | AN13: =TRIM(BI13) -> C | ... AZ13: =TRIM(BU13) -> C | BB13: C | BC13: C | BD13: C | BE13: C | BF13: C | BG13: M | BH13: C | BI13: C | BJ13: C | BK13: C | BL13: C | BM13: C | BN13: C | BO13: C | BP13: C | BQ13: C | BR13: C | BT13: C | BU13: C | BV13: 0.625 | BW13: C
C14: ='GRAND TOTALS'!C11 -> Jim | D14: =AP5 -> G | E14: =AP6 -> L | F14: =AP7 -> O | G14: =AP8 -> B | H14: =AP9 | J14: =AP10 -> D | K14: =AP11 -> J | L14: =AP12 -> H | M14: =AP13 -> C | N14: =AP14 -> N | O14: =AP15 -> N | P14: =AP16 -> J | Q14: =AP17 -> P | R14: =AP18 -> W | S14: =AP19 -> D | T14: =AP20 -> C | U14: =AP21 -> D | V14: =AP22 -> SF | W14: =AP23 | X14: =AP24 | Y14: =AP25 -> B | Z14: =SUM(D37:Y37) -> 12 | AA14: =AP26 -> 53 | AC14: =Z14+Week4!AC14 -> 34 | AG14: =TRIM(BB14) -> N | AH14: =TRIM(BC14) -> L | AI14: =TRIM(BD14) -> N | AJ14: =TRIM(BE14) -> N | AK14: =TRIM(BF14) -> L | AL14: =TRIM(BG14) -> N | AM14: =TRIM(BH14) -> L | AN14: =TRIM(BI14) -> L | ... AZ14: =TRIM(BU14) -> N | BB14: N | BC14: L | BD14: N | BE14: N | BF14: L | BG14: N | BH14: L | BI14: L | BJ14: L | BK14: N | BL14: N | BM14: N | BN14: L | BO14: N | BP14: L | BQ14: N | BR14: N | BT14: L | BU14: N | BV14: 0.66666667 | BW14: N
C15: ='GRAND TOTALS'!C12 -> Lisa | D15: =AQ5 -> G | E15: =AQ6 -> L | F15: =AQ7 -> O | G15: =AQ8 -> B | H15: =AQ9 -> W | J15: =AQ10 -> D | K15: =AQ11 -> P | L15: =AQ12 -> H | M15: =AQ13 -> C | N15: =AQ14 -> N | O15: =AQ15 -> M | P15: =AQ16 -> J | Q15: =AQ17 -> I | R15: =AQ18 -> G | S15: =AQ19 -> D | T15: =AQ20 -> G | U15: =AQ21 -> D | V15: =AQ22 -> SF | W15: =AQ23 -> A | X15: =AQ24 | Y15: =AQ25 -> B | Z15: =SUM(D38:Y38) -> 12 | AA15: =AQ26 -> 35 | AC15: =Z15+Week4!AC15 -> 35 | AG15: =TRIM(BB15) -> M | AH15: =TRIM(BC15) -> M | AI15: =TRIM(BD15) -> M | AJ15: =TRIM(BE15) -> M | AK15: =TRIM(BF15) -> M | AL15: =TRIM(BG15) -> N | AM15: =TRIM(BH15) -> M | AN15: =TRIM(BI15) -> N | ... AZ15: =TRIM(BU15) -> M | BB15: M | BC15: M | BD15: M | BE15: M | BF15: M | BG15: N | BH15: M | BI15: N | BJ15: M | BK15: N | BL15: M | BM15: N | BN15: M | BO15: M | BP15: M | BQ15: M | BR15: M | BT15: M | BU15: M | BV15: 0.70833333 | BW15: N
C16: ='GRAND TOTALS'!C13 -> Stuart | D16: =AR5 -> A | E16: =AR6 -> L | F16: =AR7 -> O | G16: =AR8 -> B | H16: =AR9 -> A | J16: =AR10 -> D | K16: =AR11 -> J | L16: =AR12 -> H | M16: =AR13 -> C | N16: =AR14 -> N | O16: =AR15 -> N | P16: =AR16 -> C | Q16: =AR17 -> I | R16: =AR18 -> W | S16: =AR19 -> C | T16: =AR20 -> C | U16: =AR21 -> D | V16: =AR22 -> SE | W16: =AR23 -> B | X16: =AR24 | Y16: =AR25 -> R | Z16: =SUM(D39:Y39) -> 8 | AA16: =AR26 -> 56 | AC16: =Z16+Week4!AC16 -> 29 | AG16: =TRIM(BB16) -> J | AH16: =TRIM(BC16) -> C | AI16: =TRIM(BD16) -> J | AJ16: =TRIM(BE16) -> C | AK16: =TRIM(BF16) -> C | AL16: =TRIM(BG16) -> J | AM16: =TRIM(BH16) -> J | AN16: =TRIM(BI16) -> J | ... AZ16: =TRIM(BU16) -> C | BB16: J | BC16: C | BD16: J | BE16: C | BF16: C | BG16: J | BH16: J | BI16: J | BJ16: C | BK16: J | BL16: J | BM16: C | BN16: J | BO16: J | BP16: J | BQ16: C | BR16: C | BT16: C | BU16: C | BV16: 0.75 | BW16: C
C17: ='GRAND TOTALS'!C14 -> Debbie | D17: =AS5 -> A | E17: =AS6 -> L | F17: =AS7 -> O | G17: =AS8 -> B | H17: =AS9 -> A | J17: =AS10 -> D | K17: =AS11 -> J | L17: =AS12 -> H | M17: =AS13 -> C | N17: =AS14 -> L | O17: =AS15 -> M | P17: =AS16 -> J | Q17: =AS17 -> P | R17: =AS18 -> W | S17: =AS19 -> D | T17: =AS20 -> C | U17: =AS21 -> D | V17: =AS22 -> SF | W17: =AS23 -> A | X17: =AS24 | Y17: =AS25 -> R | Z17: =SUM(D40:Y40) -> 11 | AA17: =AS26 -> 52 | AC17: =Z17+Week4!AC17 -> 36 | AG17: =TRIM(BB17) -> P | AH17: =TRIM(BC17) -> P | AI17: =TRIM(BD17) -> P | AJ17: =TRIM(BE17) -> P | AK17: =TRIM(BF17) -> I | AL17: =TRIM(BG17) -> P | AM17: =TRIM(BH17) -> I | AN17: =TRIM(BI17) -> P | ... AZ17: =TRIM(BU17) -> P | BB17: P | BC17: P | BD17: P | BE17: P | BF17: I | BG17: P | BH17: I | BI17: P | BJ17: P | BK17: P | BL17: I | BM17: I | BN17: P | BO17: P | BP17: I | BQ17: P | BR17: P | BT17: P | BU17: P | BV17: 0.79166667 | BW17: I
C18: ='GRAND TOTALS'!C15 -> Scott | D18: =AT5 -> A | E18: =AT6 -> L | F18: =AT7 -> O | G18: =AT8 -> B | H18: =AT9 -> A | J18: =AT10 -> D | K18: =AT11 -> P | L18: =AT12 -> H | M18: =AT13 -> C | N18: =AT14 -> N | O18: =AT15 -> M | P18: =AT16 -> J | Q18: =AT17 -> P | R18: =AT18 -> G | S18: =AT19 -> D | T18: =AT20 -> G | U18: =AT21 -> D | V18: =AT22 -> SE | W18: =AT23 -> B | X18: =AT24 | Y18: =AT25 -> R | Z18: =SUM(D41:Y41) -> 12 | AA18: =AT26 -> 45 | AC18: =Z18+Week4!AC18 -> 35 | AG18: =TRIM(BB18) -> G | AH18: =TRIM(BC18) -> W | AI18: =TRIM(BD18) -> W | AJ18: =TRIM(BE18) -> W | AK18: =TRIM(BF18) -> G | AL18: =TRIM(BG18) -> W | AM18: =TRIM(BH18) -> W | AN18: =TRIM(BI18) -> W | ... AZ18: =TRIM(BU18) -> W | BB18: G | BC18: W | BD18: W | BE18: W | BF18: G | BG18: W | BH18: W | BI18: W | BJ18: G | BK18: W | BL18: G | BM18: W | BN18: W | BO18: G | BP18: W | BQ18: G | BR18: G | BT18: G | BU18: W | BV18: 0.83333333 | BW18: W
C19: ='GRAND TOTALS'!C16 -> Michelle | D19: =AU5 -> A | E19: =AU6 -> L | F19: =AU7 -> U | G19: =AU8 -> B | H19: =AU9 -> W | J19: =AU10 -> T | K19: =AU11 -> P | L19: =AU12 -> T | M19: =AU13 -> C | N19: =AU14 -> L | O19: =AU15 -> M | P19: =AU16 -> J | Q19: =AU17 -> I | R19: =AU18 -> W | S19: =AU19 -> D | T19: =AU20 -> G | U19: =AU21 -> D | V19: =AU22 -> SF | W19: =AU23 -> B | X19: =AU24 | Y19: =AU25 -> R | Z19: =SUM(D42:Y42) -> 11 | AA19: =AU26 -> 42 | AC19: =Z19+Week4!AC19 -> 21 | AG19: =TRIM(BB19) -> C | AH19: =TRIM(BC19) -> C | AI19: =TRIM(BD19) -> D | AJ19: =TRIM(BE19) -> D | AK19: =TRIM(BF19) -> D | AL19: =TRIM(BG19) -> C | AM19: =TRIM(BH19) -> C | AN19: =TRIM(BI19) -> D | ... AZ19: =TRIM(BU19) -> D | BB19: C | BC19: C | BD19: D | BE19: D | BF19: D | BG19: C | BH19: C | BI19: D | BJ19: D | BK19: D | BL19: D | BM19: C | BN19: D | BO19: D | BP19: D | BQ19: D | BR19: D | BT19: C | BU19: D | BV19: 0.875 | BW19: C
C20: ='GRAND TOTALS'!C17 -> Teri | D20: =AV5 -> A | E20: =AV6 -> L | F20: =AV7 -> O | G20: =AV8 -> B | H20: =AV9 -> W | J20: =AV10 -> D | K20: =AV11 -> J | L20: =AV12 -> H | M20: =AV13 -> C | N20: =AV14 -> N | O20: =AV15 -> M | P20: =AV16 -> C | Q20: =AV17 -> P | R20: =AV18 -> G | S20: =AV19 -> D | T20: =AV20 -> C | U20: =AV21 -> D | V20: =AV22 -> SF | W20: =AV23 -> A | X20: =AV24 | Y20: =AV25 -> R | Z20: =SUM(D43:Y43) -> 10 | AA20: =AV26 -> 45 | AC20: =Z20+Week4!AC20 -> 35 | AG20: C | AH20: =TRIM(BC20) -> C | AI20: =TRIM(BD20) -> G | AJ20: =TRIM(BE20) -> G | AK20: =TRIM(BF20) -> C | AL20: =TRIM(BG20) -> G | AM20: =TRIM(BH20) -> G | AN20: =TRIM(BI20) -> G | AO20: =TRIM(BJ20) -> G | ... AZ20: =TRIM(BU20) -> G | BB20: D | BC20: C | BD20: G | BE20: G | BF20: C | BG20: G | BH20: G | BI20: G | BJ20: G | BK20: C | BL20: G | BM20: C | BN20: C | BO20: G | BP20: G | BQ20: C | BR20: C | BT20: G | BU20: G | BV20: 0.91666667 | BW20: C
C21: ='GRAND TOTALS'!C18 -> Steve | D21: =AW5 -> A | E21: =AW6 -> L | F21: =AW7 -> O | G21: =AW8 -> B | H21: =AW9 -> W | J21: =AW10 -> D | K21: =AW11 -> J | L21: =AW12 -> H | M21: =AW13 -> C | N21: =AW14 -> N | O21: =AW15 -> M | P21: =AW16 -> C | Q21: =AW17 -> P | R21: =AW18 -> G | S21: =AW19 -> D | T21: =AW20 -> C | U21: =AW21 -> D | V21: =AW22 -> SE | W21: =AW23 -> B | X21: =AW24 | Y21: =AW25 -> R | Z21: =SUM(D44:Y44) -> 10 | AA21: =AW26 -> 47 | AC21: =Z21+Week4!AC21 -> 31 | AG21: =TRIM(BB21) -> D | AH21: =TRIM(BC21) -> D | AI21: =TRIM(BD21) -> D | AJ21: =TRIM(BE21) -> D | AK21: =TRIM(BF21) -> D | AL21: =TRIM(BG21) -> A | AM21: =TRIM(BH21) -> D | AN21: =TRIM(BI21) -> D | ... AZ21: =TRIM(BU21) -> A | BB21: D | BC21: D | BD21: D | BE21: D | BF21: D | BG21: A | BH21: D | BI21: D | BJ21: D | BK21: D | BL21: D | BM21: D | BN21: D | BO21: D | BP21: D | BQ21: D | BR21: D | BT21: D | BU21: A | BV21: 0.95833333 | BW21: D
C22: ='GRAND TOTALS'!#REF! -> #REF! | D22: =AX5 | E22: =AX6 | F22: =AX7 | G22: =AX8 | H22: =AX9 | J22: =AX10 | K22: =AX11 | L22: =AX12 | M22: =AX13 | N22: =AX14 | O22: =AX15 | P22: =AX16 | Q22: =AX17 | R22: =AX18 | S22: =AX19 | T22: =AX20 | U22: =AX21 | V22: =AX22 | W22: =AX23 | X22: =AX24 | Y22: =AX25 | Z22: =SUM(D45:Y45) -> 0 | AA22: =AX26 | AC22: =Z22+Week4!AC22 -> 0 | AG22: =TRIM(BB22) -> SE | AH22: =TRIM(BC22) -> SE | AI22: =TRIM(BD22) -> SE | AJ22: =TRIM(BE22) -> SE | AK22: =TRIM(BF22) -> SF | AL22: =TRIM(BG22) -> SE | AM22: =TRIM(BH22) -> SE | AN22: =TRIM(BI22) -> SF | ... AZ22: =TRIM(BU22) -> SE | BB22: SE | BC22: SE | BD22: SE | BE22: SE | BF22: SF | BG22: SE | BH22: SE | BI22: SF | BJ22: SE | BK22: SF | BL22: SF | BM22: SE | BN22: SF | BO22: SE | BP22: SF | BQ22: SF | BR22: SE | BT22: SF | BU22: SE | BV22: 1 | BW22: SE
C23: Jamie | D23: =AY5 -> G | E23: =AY6 -> L | F23: =AY7 -> O | G23: =AY8 -> B | H23: =AY9 -> W | J23: =AY10 -> D | K23: =AY11 -> J | L23: =AY12 -> H | M23: =AY13 -> C | N23: =AY14 -> L | O23: =AY15 -> M | P23: =AY16 -> C | Q23: =AY17 -> P | R23: =AY18 -> G | S23: =AY19 -> C | T23: =AY20 -> G | U23: =AY21 -> D | V23: =AY22 -> SF | W23: =AY23 -> B | X23: =AY24 | Y23: =AY25 -> R | Z23: =SUM(D46:Y46) -> 11 | AA23: =AY26 -> 51 | AC23: =Z23+Week4!AC23 -> 33 | AG23: =TRIM(BB23) -> A | AH23: =TRIM(BC23) -> A | AI23: =TRIM(BD23) -> A | AJ23: =TRIM(BE23) -> B | AK23: =TRIM(BF23) -> B | AL23: =TRIM(BG23) -> A | AM23: =TRIM(BH23) -> B | AN23: =TRIM(BI23) -> B | ... AZ23: =TRIM(BU23) -> B | BB23: A | BC23: A | BD23: A | BE23: B | BF23: B | BG23: A | BH23: B | BI23: B | BJ23: B | BL23: A | BM23: B | BN23: A | BO23: B | BP23: B | BQ23: A | BR23: B | BT23: B | BU23: B | BV23: 1.0416667 | BW23: B
C24: Kelly | D24: =AZ5 -> A | E24: =AZ6 -> L | F24: =AZ7 -> O | G24: =AZ8 -> B | H24: =AZ9 -> A | J24: =AZ10 -> D | K24: =AZ11 -> P | L24: =AZ12 -> T | M24: =AZ13 -> C | N24: =AZ14 -> N | O24: =AZ15 -> M | P24: =AZ16 -> C | Q24: =AZ17 -> P | R24: =AZ18 -> W | S24: =AZ19 -> D | T24: =AZ20 -> G | U24: =AZ21 -> A | V24: =AZ22 -> SE | W24: =AZ23 -> B | X24: =AZ24 -> B | Y24: =AZ25 -> 43 | Z24: =SUM(D47:Y47) -> 9 | AA24: =AZ26 | AC24: =Z24+Week4!AC24 -> 31 | AG24: =TRIM(BB24) | AH24: =TRIM(BC24) | AI24: =TRIM(BD24) | AJ24: =TRIM(BE24) | AK24: =TRIM(BF24) | AL24: =TRIM(BG24) | AM24: =TRIM(BH24) | AN24: =TRIM(BI24) | ... AZ24: =TRIM(BU24) -> B | BU24: B | BV24: 1.125 | BW24: R
AG25: =TRIM(BB25) -> B | AH25: =TRIM(BC25) -> R | AI25: =TRIM(BD25) -> R | AJ25: =TRIM(BE25) -> B | AK25: =TRIM(BF25) -> B | AL25: =TRIM(BG25) -> R | AM25: =TRIM(BH25) -> R | AN25: =TRIM(BI25) -> B | ... AZ25: =TRIM(BU25) -> 43 | BB25: B | BC25: R | BD25: R | BE25: B | BF25: B | BG25: R | BH25: R | BI25: B | BJ25: R | BK25: B | BL25: B | BM25: R | BN25: R | BO25: R | BP25: R | BQ25: R | BR25: R | BT25: R | BU25: 43 | BV25: Tiebreaker: | BW25: 56
G26: Correct Pick | N26: Upset Pick | AG26: =TRIM(BB26) -> 52 | AH26: =TRIM(BC26) -> 49 | AI26: =TRIM(BD26) -> 43 | AJ26: =TRIM(BE26) -> 44 | AK26: =TRIM(BF26) -> 45 | AL26: =TRIM(BG26) -> 36 | AM26: =TRIM(BH26) -> 42 | AN26: =TRIM(BI26) -> 58 | ... AZ26: =TRIM(BU26) | BB26: 52 | BC26: 49 | BD26: 43 | BE26: 44 | BF26: 45 | BG26: 36 | BH26: 42 | BI26: 58 | BJ26: 50 | BK26: 53 | BL26: 35 | BM26: 56 | BN26: 52 | BO26: 45 | BP26: 42 | BQ26: 45 | BR26: 47 | BT26: 51
C28: =C5 -> Fred | D28: =IF(D5=D$4,1,0) -> 0 | E28: =IF(E5=E$4,1,0) -> 0 | F28: =IF(F5=F$4,1,0) -> 0 | G28: =IF(G5=G$4,1,0) -> 1 | H28: =IF(H5=H$4,1,0) -> 0 | J28: =IF(J5=J$4,1,0) -> 0 | K28: =IF(K5=K$4,1,0) -> 1 | L28: =IF(L5=L$4,1,0) -> 1 | M28: =IF(M5=M$4,1,0) -> 1 | N28: =IF(N5=N$4,1,0) -> 1 | O28: =IF(O5=O$4,1,0) -> 1 | P28: =IF(P5=P$4,1,0) -> 1 | Q28: =IF(Q5=Q$4,1,0) -> 1 | ... Y28: =IF(Y5=Y$4,1,0) -> 1
C29: =C6 -> Joni | D29: =IF(D6=D$4,1,0) -> 0 | E29: =IF(E6=E$4,1,0) -> 1 | F29: =IF(F6=F$4,1,0) -> 0 | G29: =IF(G6=G$4,1,0) -> 0 | H29: =IF(H6=H$4,1,0) -> 0 | J29: =IF(J6=J$4,1,0) -> 0 | K29: =IF(K6=K$4,1,0) -> 0 | L29: =IF(L6=L$4,1,0) -> 1 | M29: =IF(M6=M$4,1,0) -> 1 | N29: =IF(N6=N$4,1,0) -> 0 | O29: =IF(O6=O$4,1,0) -> 1 | P29: =IF(P6=P$4,1,0) -> 0 | Q29: =IF(Q6=Q$4,1,0) -> 1 | ... Y29: =IF(Y6=Y$4,1,0) -> 0
C30: =C7 -> Tara | D30: =IF(D7=D$4,1,0) -> 0 | E30: =IF(E7=E$4,1,0) -> 0 | F30: =IF(F7=F$4,1,0) -> 0 | G30: =IF(G7=G$4,1,0) -> 1 | H30: =IF(H7=H$4,1,0) -> 0 | J30: =IF(J7=J$4,1,0) -> 0 | K30: =IF(K7=K$4,1,0) -> 1 | L30: =IF(L7=L$4,1,0) -> 1 | M30: =IF(M7=M$4,1,0) -> 1 | N30: =IF(N7=N$4,1,0) -> 1 | O30: =IF(O7=O$4,1,0) -> 1 | P30: =IF(P7=P$4,1,0) -> 1 | Q30: =IF(Q7=Q$4,1,0) -> 1 | ... Y30: =IF(Y7=Y$4,1,0) -> 0
C31: =C8 -> Roger | D31: =IF(D8=D$4,1,0) -> 1 | E31: =IF(E8=E$4,1,0) -> 0 | F31: =IF(F8=F$4,1,0) -> 0 | G31: =IF(G8=G$4,1,0) -> 1 | H31: =IF(H8=H$4,1,0) -> 1 | J31: =IF(J8=J$4,1,0) -> 0 | K31: =IF(K8=K$4,1,0) -> 0 | L31: =IF(L8=L$4,1,0) -> 1 | M31: =IF(M8=M$4,1,0) -> 1 | N31: =IF(N8=N$4,1,0) -> 1 | O31: =IF(O8=O$4,1,0) -> 1 | P31: =IF(P8=P$4,1,0) -> 0 | Q31: =IF(Q8=Q$4,1,0) -> 1 | ... Y31: =IF(Y8=Y$4,1,0) -> 1
C32: =C9 -> Jeanne | D32: =IF(D9=D$4,1,0) -> 1 | E32: =IF(E9=E$4,1,0) -> 0 | F32: =IF(F9=F$4,1,0) -> 1 | G32: =IF(G9=G$4,1,0) -> 1 | H32: =IF(H9=H$4,1,0) -> 1 | J32: =IF(J9=J$4,1,0) -> 1 | K32: =IF(K9=K$4,1,0) -> 0 | L32: =IF(L9=L$4,1,0) -> 1 | M32: =IF(M9=M$4,1,0) -> 1 | N32: =IF(N9=N$4,1,0) -> 0 | O32: =IF(O9=O$4,1,0) -> 1 | P32: =IF(P9=P$4,1,0) -> 0 | Q32: =IF(Q9=Q$4,1,0) -> 0 | ... Y32: =IF(Y9=Y$4,1,0) -> 1
C33: =C10 -> Jackie | D33: =IF(D10=D$4,1,0) -> 0 | E33: =IF(E10=E$4,1,0) -> 1 | F33: =IF(F10=F$4,1,0) -> 0 | G33: =IF(G10=G$4,1,0) -> 0 | H33: =IF(H10=H$4,1,0) -> 0 | J33: =IF(J10=J$4,1,0) -> 0 | K33: =IF(K10=K$4,1,0) -> 1 | L33: =IF(L10=L$4,1,0) -> 0 | M33: =IF(M10=M$4,1,0) -> 0 | N33: =IF(N10=N$4,1,0) -> 1 | O33: =IF(O10=O$4,1,0) -> 0 | P33: =IF(P10=P$4,1,0) -> 1 | Q33: =IF(Q10=Q$4,1,0) -> 1 | ... Y33: =IF(Y10=Y$4,1,0) -> 0
C34: =C11 -> Darla | D34: =IF(D11=D$4,1,0) -> 0 | E34: =IF(E11=E$4,1,0) -> 0 | F34: =IF(F11=F$4,1,0) -> 0 | G34: =IF(G11=G$4,1,0) -> 1 | H34: =IF(H11=H$4,1,0) -> 1 | J34: =IF(J11=J$4,1,0) -> 1 | K34: =IF(K11=K$4,1,0) -> 0 | L34: =IF(L11=L$4,1,0) -> 0 | M34: =IF(M11=M$4,1,0) -> 1 | N34: =IF(N11=N$4,1,0) -> 0 | O34: =IF(O11=O$4,1,0) -> 1 | P34: =IF(P11=P$4,1,0) -> 1 | Q34: =IF(Q11=Q$4,1,0) -> 0 | ... Y34: =IF(Y11=Y$4,1,0) -> 0
C35: =C12 -> Kieran | D35: =IF(D12=D$4,1,0) -> 1 | E35: =IF(E12=E$4,1,0) -> 0 | F35: =IF(F12=F$4,1,0) -> 0 | G35: =IF(G12=G$4,1,0) -> 1 | H35: =IF(H12=H$4,1,0) -> 0 | J35: =IF(J12=J$4,1,0) -> 0 | K35: =IF(K12=K$4,1,0) -> 1 | L35: =IF(L12=L$4,1,0) -> 1 | M35: =IF(M12=M$4,1,0) -> 1 | N35: =IF(N12=N$4,1,0) -> 0 | O35: =IF(O12=O$4,1,0) -> 0 | P35: =IF(P12=P$4,1,0) -> 1 | Q35: =IF(Q12=Q$4,1,0) -> 1 | ... Y35: =IF(Y12=Y$4,1,0) -> 1
C36: =C13 -> Kaidan | D36: =IF(D13=D$4,1,0) -> 0 | E36: =IF(E13=E$4,1,0) -> 0 | F36: =IF(F13=F$4,1,0) -> 0 | G36: =IF(G13=G$4,1,0) -> 1 | H36: =IF(H13=H$4,1,0) -> 1 | J36: =IF(J13=J$4,1,0) -> 0 | K36: =IF(K13=K$4,1,0) -> 1 | L36: =IF(L13=L$4,1,0) -> 1 | M36: =IF(M13=M$4,1,0) -> 1 | N36: =IF(N13=N$4,1,0) -> 0 | O36: =IF(O13=O$4,1,0) -> 1 | P36: =IF(P13=P$4,1,0) -> 0 | Q36: =IF(Q13=Q$4,1,0) -> 1 | ... Y36: =IF(Y13=Y$4,1,0) -> 0
C37: =C14 -> Jim | D37: =IF(D14=D$4,1,0) -> 1 | E37: =IF(E14=E$4,1,0) -> 0 | F37: =IF(F14=F$4,1,0) -> 0 | G37: =IF(G14=G$4,1,0) -> 1 | H37: =IF(H14=H$4,1,0) -> 0 | J37: =IF(J14=J$4,1,0) -> 0 | K37: =IF(K14=K$4,1,0) -> 1 | L37: =IF(L14=L$4,1,0) -> 1 | M37: =IF(M14=M$4,1,0) -> 1 | N37: =IF(N14=N$4,1,0) -> 1 | O37: =IF(O14=O$4,1,0) -> 0 | P37: =IF(P14=P$4,1,0) -> 1 | Q37: =IF(Q14=Q$4,1,0) -> 1 | ... Y37: =IF(Y14=Y$4,1,0) -> 1
C38: =C15 -> Lisa | D38: =IF(D15=D$4,1,0) -> 1 | E38: =IF(E15=E$4,1,0) -> 0 | F38: =IF(F15=F$4,1,0) -> 0 | G38: =IF(G15=G$4,1,0) -> 1 | H38: =IF(H15=H$4,1,0) -> 0 | J38: =IF(J15=J$4,1,0) -> 0 | K38: =IF(K15=K$4,1,0) -> 0 | L38: =IF(L15=L$4,1,0) -> 1 | M38: =IF(M15=M$4,1,0) -> 1 | N38: =IF(N15=N$4,1,0) -> 1 | O38: =IF(O15=O$4,1,0) -> 1 | P38: =IF(P15=P$4,1,0) -> 1 | Q38: =IF(Q15=Q$4,1,0) -> 0 | ... Y38: =IF(Y15=Y$4,1,0) -> 1
C39: =C16 -> Stuart | D39: =IF(D16=D$4,1,0) -> 0 | E39: =IF(E16=E$4,1,0) -> 0 | F39: =IF(F16=F$4,1,0) -> 0 | G39: =IF(G16=G$4,1,0) -> 1 | H39: =IF(H16=H$4,1,0) -> 1 | J39: =IF(J16=J$4,1,0) -> 0 | K39: =IF(K16=K$4,1,0) -> 1 | L39: =IF(L16=L$4,1,0) -> 1 | M39: =IF(M16=M$4,1,0) -> 1 | N39: =IF(N16=N$4,1,0) -> 1 | O39: =IF(O16=O$4,1,0) -> 0 | P39: =IF(P16=P$4,1,0) -> 0 | Q39: =IF(Q16=Q$4,1,0) -> 0 | ... Y39: =IF(Y16=Y$4,1,0) -> 0
... C45: =C22 -> #REF! | D45: =IF(D22=D$4,1,0) -> 0 | E45: =IF(E22=E$4,1,0) -> 0 | F45: =IF(F22=F$4,1,0) -> 0 | G45: =IF(G22=G$4,1,0) -> 0 | H45: =IF(H22=H$4,1,0) -> 0 | J45: =IF(J22=J$4,1,0) -> 0 | K45: =IF(K22=K$4,1,0) -> 0 | L45: =IF(L22=L$4,1,0) -> 0 | M45: =IF(M22=M$4,1,0) -> 0 | N45: =IF(N22=N$4,1,0) -> 0 | O45: =IF(O22=O$4,1,0) -> 0 | P45: =IF(P22=P$4,1,0) -> 0 | Q45: =IF(Q22=Q$4,1,0) -> 0 | ... Y45: =IF(Y22=Y$4,1,0) -> 0
D46: =IF(D23=D$4,1,0) -> 1 | E46: =IF(E23=E$4,1,0) -> 0 | F46: =IF(F23=F$4,1,0) -> 0 | G46: =IF(G23=G$4,1,0) -> 1 | H46: =IF(H23=H$4,1,0) -> 0 | J46: =IF(J23=J$4,1,0) -> 0 | K46: =IF(K23=K$4,1,0) -> 1 | L46: =IF(L23=L$4,1,0) -> 1 | M46: =IF(M23=M$4,1,0) -> 1 | N46: =IF(N23=N$4,1,0) -> 0 | O46: =IF(O23=O$4,1,0) -> 1 | P46: =IF(P23=P$4,1,0) -> 0 | Q46: =IF(Q23=Q$4,1,0) -> 1 | ... Y46: =IF(Y23=Y$4,1,0) -> 0
D47: =IF(D24=D$4,1,0) -> 0 | E47: =IF(E24=E$4,1,0) -> 0 | F47: =IF(F24=F$4,1,0) -> 0 | G47: =IF(G24=G$4,1,0) -> 1 | H47: =IF(H24=H$4,1,0) -> 1 | J47: =IF(J24=J$4,1,0) -> 0 | K47: =IF(K24=K$4,1,0) -> 0 | L47: =IF(L24=L$4,1,0) -> 0 | M47: =IF(M24=M$4,1,0) -> 1 | N47: =IF(N24=N$4,1,0) -> 1 | O47: =IF(O24=O$4,1,0) -> 1 | P47: =IF(P24=P$4,1,0) -> 0 | Q47: =IF(Q24=Q$4,1,0) -> 1 | ... Y47: =IF(Y24=Y$4,1,0) -> 0
C58: https://www.autotrader.com/cars-for-sale/vehicle/772259357?listingType=USED&makeCode=MB&maxPrice=30000&vehicleStyleCode=CONVERT&clickType=listing

Sheet Week 6
E2: col | K2: wk | M2: No | P2: 6 | U2: pro
D3: Ohio State @ Indiana | E3: Alabama @ Tennessee | F3: Notre Dame @ BYU | G3: Oklahoma State @ Houston | H3: Brewers vs Dodgers (Oct 16) | J3: Seattle @ Denver | K3: Houston v Jacksonville | L3: Chicago @ Atlanta | M3: Baltimore @ Cleveland | N3: Tennessee @ Indianapolis | O3: Jets @ New England | P3: New Orleans @ Giants | Q3: Carolina @ Philadelphia | R3: Pittsburgh @ Tampa Bay | S3: Arizona @ Rams | T3: Chargers @ Kansas City | U3: Buffalo @ Las Vegas | V3: Dallas @ Green Bay | Y3: Washington @ San Francisco | Z3: TOTAL | AA3: TIEBREAKER | AC3: GRAND TOTAL | AG3: =C5 -> Fred | AH3: =C6 -> Joni | AI3: =C7 -> Tara | AJ3: =C8 -> Roger | AK3: =C9 -> Jeanne | AL3: =C10 -> Jackie | AM3: =C11 -> Darla | AN3: =C12 -> Kieran | AO3: =C13 -> Kaidan | AP3: =C14 -> Jim | AQ3: =C15 -> Lisa | AR3: =C16 -> Stuart | AS3: =C17 -> Debbie | AT3: =C18 -> Scott | AU3: =C19 -> Michelle | AV3: =C20 -> Teri | AW3: =C21 -> Steve | AX3: =C22 -> 0 | AY3: =C23 -> Jamie | AZ3: =C24 -> Kelly | BB3: =C5 -> Fred | BC3: =C6 -> Joni | BD3: =C7 -> Tara | BE3: =C8 -> Roger | BF3: Jeanne | BG3: =C10 -> Jackie | BH3: =C11 -> Darla | BI3: =C12 -> Kieran | BJ3: =C13 -> Kaidan | BK3: =C14 -> Jim | BL3: =C15 -> Lisa | BM3: =C16 -> Stuart | BN3: =C17 -> Debbie | BO3: =C18 -> Scott | BP3: =C19 -> Michelle | BQ3: =C20 -> Teri | BR3: =C21 -> Steve | BT3: =C23 -> Jamie | BU3: =C24 -> Kelly
C4: Winners | D4: O | E4: T | F4: B | G4: H | H4: X | J4: D | K4: H | L4: C | M4: C | N4: T | O4: N | P4: N | Q4: C | R4: P | S4: A | T4: K | U4: B | V4: G | W4: . | X4: . | Y4: s
C5: ='GRAND TOTALS'!C2 -> Fred | D5: =AG5 -> O | E5: =AG6 -> A | F5: =AG7 -> N | G5: =AG8 -> O | H5: =AG9 -> D | J5: =AG10 -> S | K5: =AG11 -> J | L5: =AG12 -> C | M5: =AG13 -> B | N5: =AG14 -> I | O5: =AG15 -> N | P5: =AG16 -> G | Q5: =AG17 -> P | R5: =AG18 -> T | S5: =AG19 -> R | T5: =AG20 -> K | U5: =AG21 -> B | V5: =AG22 -> G | W5: =AG23 | X5: =AG24 | Y5: =AG25 -> S | Z5: =SUM(D28:Y28) -> 7 | AA5: =AG26 -> 55 | AC5: =Z5+'Week 5'!AC5 -> 38 | AG5: =TRIM(BB5) -> O | AH5: =TRIM(BC5) -> O | AI5: =TRIM(BD5) -> O | AJ5: =TRIM(BE5) -> O | AK5: =TRIM(BF5) -> I | AL5: =TRIM(BG5) -> I | AM5: =TRIM(BH5) -> O | AN5: =TRIM(BI5) -> O | ... AZ5: =TRIM(BU5) -> O | BB5: O | BC5: O | BD5: O | BE5: O | BF5: I | BG5: I | BH5: O | BI5: O | BJ5: O | BK5: O | BL5: I | BM5: O | BN5: O | BO5: O | BP5: I | BQ5: I | BR5: O | BT5: O | BU5: O | BV5: 0.041666667 | BW5: G
C6: ='GRAND TOTALS'!C3 -> Joni | D6: =AH5 -> O | E6: =AH6 -> A | F6: =AH7 -> N | G6: =AH8 -> O | H6: =AH9 -> B | J6: =AH10 -> D | K6: =AH11 -> J | L6: =AH12 -> A | M6: =AH13 -> B | N6: =AH14 -> I | O6: =AH15 -> N | P6: =AH16 -> N | Q6: =AH17 -> P | R6: =AH18 -> T | S6: =AH19 -> R | T6: =AH20 -> K | U6: =AH21 -> L | V6: =AH22 -> G | W6: =AH23 | X6: =AH24 | Y6: =AH25 -> S | Z6: =SUM(D29:Y29) -> 7 | AA6: =AH26 -> 49 | AC6: =Z6+'Week 5'!AC6 -> 37 | AG6: =TRIM(BB6) -> A | AH6: =TRIM(BC6) -> A | AI6: =TRIM(BD6) -> A | AJ6: =TRIM(BE6) -> A | AK6: =TRIM(BF6) -> T | AL6: =TRIM(BG6) -> T | AM6: =TRIM(BH6) -> A | AN6: =TRIM(BI6) -> A | ... AZ6: =TRIM(BU6) -> A | BB6: A | BC6: A | BD6: A | BE6: A | BF6: T | BG6: T | BH6: A | BI6: A | BJ6: A | BK6: A | BL6: A | BM6: A | BN6: A | BO6: A | BP6: A | BQ6: A | BR6: A | BT6: A | BU6: A | BV6: 0.083333333 | BW6: L
C7: ='GRAND TOTALS'!C4 -> Tara | D7: =AI5 -> O | E7: =AI6 -> A | F7: =AI7 -> N | G7: =AI8 -> H | H7: =AI9 -> B | J7: =AI10 -> D | K7: =AI11 -> J | L7: =AI12 -> A | M7: =AI13 -> B | N7: =AI14 -> I | O7: =AI15 -> N | P7: =AI16 -> G | Q7: =AI17 -> P | R7: =AI18 -> T | S7: =AI19 -> R | T7: =AI20 -> K | U7: =AI21 -> B | V7: =AI22 -> G | W7: =AI23 | X7: =AI24 | Y7: =AI25 -> S | Z7: =SUM(D30:Y30) -> 8 | AA7: =AI26 -> 43 | AC7: =Z7+'Week 5'!AC7 -> 44 | AG7: =TRIM(BB7) -> N | AH7: =TRIM(BC7) -> N | AI7: =TRIM(BD7) -> N | AJ7: =TRIM(BE7) -> N | AK7: =TRIM(BF7) -> B | AL7: =TRIM(BG7) -> B | AM7: =TRIM(BH7) -> N | AN7: =TRIM(BI7) -> N | ... AZ7: =TRIM(BU7) -> N | BB7: N | BC7: N | BD7: N | BE7: N | BF7: B | BG7: B | BH7: N | BI7: N | BJ7: N | BK7: B | BL7: N | BM7: B | BN7: N | BO7: N | BP7: N | BQ7: N | BR7: N | BT7: N | BU7: N | BV7: 0.125 | BW7: O
C8: ='GRAND TOTALS'!C5 -> Roger | D8: =AJ5 -> O | E8: =AJ6 -> A | F8: =AJ7 -> N | G8: =AJ8 -> H | H8: =AJ9 -> D | J8: =AJ10 -> D | K8: =AJ11 -> J | L8: =AJ12 -> C | M8: =AJ13 -> B | N8: =AJ14 -> I | O8: =AJ15 -> N | P8: =AJ16 -> G | Q8: =AJ17 -> P | R8: =AJ18 -> P | S8: =AJ19 -> R | T8: =AJ20 -> K | U8: =AJ21 -> B | V8: =AJ22 -> G | W8: =AJ23 | X8: =AJ24 | Y8: =AJ25 -> S | Z8: =SUM(D31:Y31) -> 10 | AA8: =AJ26 -> 54 | AC8: =Z8+'Week 5'!AC8 -> 51 | AG8: =TRIM(BB8) -> O | AH8: =TRIM(BC8) -> O | AI8: =TRIM(BD8) -> H | AJ8: =TRIM(BE8) -> H | AK8: =TRIM(BF8) -> H | AL8: =TRIM(BG8) -> H | AM8: =TRIM(BH8) -> O | AN8: =TRIM(BI8) -> H | ... AZ8: =TRIM(BU8) -> O | BB8: O | BC8: O | BD8: H | BE8: H | BF8: H | BG8: H | BH8: O | BI8: H | BJ8: O | BK8: H | BL8: H | BM8: H | BN8: H | BO8: H | BP8: H | BQ8: H | BR8: H | BT8: H | BU8: O | BV8: 0.16666667 | BW8: F
C9: ='GRAND TOTALS'!C6 -> Jeanne | D9: =AK5 -> I | E9: =AK6 -> T | F9: =AK7 -> B | G9: =AK8 -> H | H9: =AK9 -> D | J9: =AK10 -> S | K9: =AK11 -> J | L9: =AK12 -> A | M9: =AK13 -> C | N9: =AK14 -> I | O9: =AK15 -> N | P9: =AK16 -> G | Q9: =AK17 -> P | R9: =AK18 -> T | S9: =AK19 -> R | T9: =AK20 -> K | U9: =AK21 -> L | V9: =AK22 -> G | W9: =AK23 | X9: =AK24 | Y9: =AK25 -> S | Z9: =SUM(D32:Y32) -> 8 | AA9: =AK26 -> 45 | AC9: =Z9+'Week 5'!AC9 -> 41 | AG9: =TRIM(BB9) -> D | AH9: =TRIM(BC9) -> B | AI9: =TRIM(BD9) -> B | AJ9: =TRIM(BE9) -> D | AK9: =TRIM(BF9) -> D | AL9: =TRIM(BG9) -> D | AM9: =TRIM(BH9) -> B | AN9: =TRIM(BI9) -> B | ... AZ9: =TRIM(BU9) -> B | BB9: D | BC9: B | BD9: B | BE9: D | BF9: D | BG9: D | BH9: B | BI9: B | BJ9: B | BK9: D | BL9: B | BM9: D | BN9: B | BO9: B | BP9: B | BQ9: B | BR9: D | BT9: D | BU9: B | BV9: 0.20833333 | BW9: W
C10: ='GRAND TOTALS'!C7 -> Jackie | D10: =AL5 -> I | E10: =AL6 -> T | F10: =AL7 -> B | G10: =AL8 -> H | H10: =AL9 -> D | J10: =AL10 -> D | K10: =AL11 -> J | L10: =AL12 -> C | M10: =AL13 -> C | N10: =AL14 -> I | O10: =AL15 -> N | P10: =AL16 -> G | Q10: =AL17 -> P | R10: =AL18 -> T | S10: =AL19 -> R | T10: =AL20 -> K | U10: =AL21 -> L | V10: =AL22 -> G | W10: =AL23 | X10: =AL24 | Y10: =AL25 -> S | Z10: =SUM(D33:Y33) -> 10 | AA10: =AL26 -> 36 | AC10: =Z10+'Week 5'!AC10 -> 41 | AG10: =TRIM(BB10) -> S | AH10: =TRIM(BC10) -> D | AI10: =TRIM(BD10) -> D | AJ10: =TRIM(BE10) -> D | AK10: =TRIM(BF10) -> S | AL10: =TRIM(BG10) -> D | AM10: =TRIM(BH10) -> D | AN10: =TRIM(BI10) -> S | ... AZ10: =TRIM(BU10) -> D | BB10: S | BC10: D | BD10: D | BE10: D | BF10: S | BG10: D | BH10: D | BI10: S | BJ10: S | BK10: D | BL10: S | BM10: S | BN10: S | BO10: S | BP10: S | BQ10: S | BR10: S | BT10: S | BU10: D | BV10: 0.5 | BW10: T
C11: ='GRAND TOTALS'!C8 -> Darla | D11: =AM5 -> O | E11: =AM6 -> A | F11: =AM7 -> N | G11: =AM8 -> O | H11: =AM9 -> B | J11: =AM10 -> D | K11: =AM11 -> J | L11: =AM12 -> C | M11: =AM13 -> C | N11: =AM14 -> I | O11: =AM15 -> N | P11: =AM16 -> G | Q11: =AM17 -> P | R11: =AM18 -> P | S11: =AM19 -> R | T11: =AM20 -> K | U11: =AM21 -> B | V11: =AM22 -> G | W11: =AM23 | X11: =AM24 | Y11: =AM25 -> S | Z11: =SUM(D34:Y34) -> 10 | AA11: =AM26 -> 43 | AC11: =Z11+'Week 5'!AC11 -> 40 | AG11: =TRIM(BB11) -> J | AH11: =TRIM(BC11) -> J | AI11: =TRIM(BD11) -> J | AJ11: =TRIM(BE11) -> J | AK11: =TRIM(BF11) -> J | AL11: =TRIM(BG11) -> J | AM11: =TRIM(BH11) -> J | AN11: =TRIM(BI11) -> J | ... AZ11: =TRIM(BU11) -> J | BB11: J | BC11: J | BD11: J | BE11: J | BF11: J | BG11: J | BH11: J | BI11: J | BJ11: J | BK11: J | BL11: J | BM11: J | BN11: J | BO11: J | BP11: J | BQ11: J | BR11: J | BT11: J | BU11: J | BV11: 0.54166667 | BW11: J
C12: ='GRAND TOTALS'!C9 -> Kieran | D12: =AN5 -> O | E12: =AN6 -> A | F12: =AN7 -> N | G12: =AN8 -> H | H12: =AN9 -> B | J12: =AN10 -> S | K12: =AN11 -> J | L12: =AN12 -> A | M12: =AN13 -> B | N12: =AN14 -> I | O12: =AN15 -> N | P12: =AN16 -> G | Q12: =AN17 -> C | R12: =AN18 -> P | S12: =AN19 -> R | T12: =AN20 -> K | U12: =AN21 -> B | V12: =AN22 -> D | W12: =AN23 | X12: =AN24 | Y12: =AN25 -> S | Z12: =SUM(D35:Y35) -> 8 | AA12: =AN26 -> 51 | AC12: =Z12+'Week 5'!AC12 -> 40 | AG12: =TRIM(BB12) -> C | AH12: =TRIM(BC12) -> A | AI12: =TRIM(BD12) -> A | AJ12: =TRIM(BE12) -> C | AK12: =TRIM(BF12) -> A | AL12: =TRIM(BG12) -> C | AM12: =TRIM(BH12) -> C | AN12: =TRIM(BI12) -> A | ... AZ12: =TRIM(BU12) -> C | BB12: C | BC12: A | BD12: A | BE12: C | BF12: A | BG12: C | BH12: C | BI12: A | BJ12: C | BK12: A | BL12: C | BM12: A | BN12: A | BO12: C | BP12: C | BQ12: C | BR12: C | BT12: C | BU12: C | BV12: 0.58333333 | BW12: T
C13: ='GRAND TOTALS'!C10 -> Kaidan | D13: =AO5 -> O | E13: =AO6 -> A | F13: =AO7 -> N | G13: =AO8 -> O | H13: =AO9 -> B | J13: =AO10 -> S | K13: =AO11 -> J | L13: =AO12 -> C | M13: =AO13 -> B | N13: =AO14 -> I | O13: =AO15 -> N | P13: =AO16 -> N | Q13: =AO17 -> C | R13: =AO18 -> P | S13: =AO19 -> R | T13: =AO20 -> K | U13: =AO21 -> B | V13: =AO22 -> G | W13: =AO23 | X13: =AO24 | Y13: =AO25 -> S | Z13: =SUM(D36:Y36) -> 10 | AA13: =AO26 -> 48 | AC13: =Z13+'Week 5'!AC13 -> 48 | AG13: =TRIM(BB13) -> B | AH13: =TRIM(BC13) -> B | AI13: =TRIM(BD13) -> B | AJ13: =TRIM(BE13) -> B | AK13: =TRIM(BF13) -> C | AL13: =TRIM(BG13) -> C | AM13: =TRIM(BH13) -> C | AN13: =TRIM(BI13) -> B | ... AZ13: =TRIM(BU13) -> C | BB13: B | BC13: B | BD13: B | BE13: B | BF13: C | BG13: C | BH13: C | BI13: B | BJ13: B | BK13: B | BL13: B | BM13: C | BN13: B | BO13: B | BP13: B | BQ13: B | BR13: B | BT13: B | BU13: C | BV13: 0.625 | BW13: M
C14: ='GRAND TOTALS'!C11 -> Jim | D14: =AP5 -> O | E14: =AP6 -> A | F14: =AP7 -> B | G14: =AP8 -> H | H14: =AP9 -> D | J14: =AP10 -> D | K14: =AP11 -> J | L14: =AP12 -> A | M14: =AP13 -> B | N14: =AP14 -> I | O14: =AP15 -> N | P14: =AP16 -> G | Q14: =AP17 -> P | R14: =AP18 -> T | S14: =AP19 -> R | T14: =AP20 -> K | U14: =AP21 -> B | V14: =AP22 -> G | W14: =AP23 | X14: =AP24 | Y14: =AP25 -> S | Z14: =SUM(D37:Y37) -> 9 | AA14: =AP26 -> 42 | AC14: =Z14+'Week 5'!AC14 -> 43 | AG14: =TRIM(BB14) -> I | AH14: =TRIM(BC14) -> I | AI14: =TRIM(BD14) -> I | AJ14: =TRIM(BE14) -> I | AK14: =TRIM(BF14) -> I | AL14: =TRIM(BG14) -> I | AM14: =TRIM(BH14) -> I | AN14: =TRIM(BI14) -> I | ... AZ14: =TRIM(BU14) -> I | BB14: I | BC14: I | BD14: I | BE14: I | BF14: I | BG14: I | BH14: I | BI14: I | BJ14: I | BK14: I | BL14: I | BM14: I | BN14: I | BO14: I | BP14: I | BQ14: I | BR14: I | BT14: I | BU14: I | BV14: 0.66666667 | BW14: N
C15: ='GRAND TOTALS'!C12 -> Lisa | D15: =AQ5 -> I | E15: =AQ6 -> A | F15: =AQ7 -> N | G15: =AQ8 -> H | H15: =AQ9 -> B | J15: =AQ10 -> S | K15: =AQ11 -> J | L15: =AQ12 -> C | M15: =AQ13 -> B | N15: =AQ14 -> I | O15: =AQ15 -> N | P15: =AQ16 -> G | Q15: =AQ17 -> P | R15: =AQ18 -> P | S15: =AQ19 -> R | T15: =AQ20 -> K | U15: =AQ21 -> B | V15: =AQ22 -> G | W15: =AQ23 | X15: =AQ24 | Y15: =AQ25 -> S | Z15: =SUM(D38:Y38) -> 8 | AA15: =AQ26 -> 30 | AC15: =Z15+'Week 5'!AC15 -> 43 | AG15: =TRIM(BB15) -> N | AH15: =TRIM(BC15) -> N | AI15: =TRIM(BD15) -> N | AJ15: =TRIM(BE15) -> N | AK15: =TRIM(BF15) -> N | AL15: =TRIM(BG15) -> N | AM15: =TRIM(BH15) -> N | AN15: =TRIM(BI15) -> N | ... AZ15: =TRIM(BU15) -> N | BB15: N | BC15: N | BD15: N | BE15: N | BF15: N | BG15: N | BH15: N | BI15: N | BJ15: N | BK15: N | BL15: N | BM15: N | BN15: N | BO15: N | BP15: N | BQ15: N | BR15: N | BT15: N | BU15: N | BV15: 0.70833333 | BW15: N
C16: ='GRAND TOTALS'!C13 -> Stuart | D16: =AR5 -> O | E16: =AR6 -> A | F16: =AR7 -> B | G16: =AR8 -> H | H16: =AR9 -> D | J16: X | K16: =AR11 -> J | L16: =AR12 -> A | M16: =AR13 -> C | N16: =AR14 -> I | O16: =AR15 -> N | P16: =AR16 -> G | Q16: =AR17 -> C | R16: =AR18 -> P | S16: =AR19 -> R | T16: =AR20 -> G | U16: =AR21 -> B | V16: =AR22 -> D | W16: =AR23 | X16: =AR24 | Y16: =AR25 -> S | Z16: =SUM(D39:Y39) -> 9 | AA16: =AR26 -> 44 | AC16: =Z16+'Week 5'!AC16 -> 38 | AG16: =TRIM(BB16) -> G | AH16: =TRIM(BC16) -> N | AI16: =TRIM(BD16) -> G | AJ16: =TRIM(BE16) -> G | AK16: =TRIM(BF16) -> G | AL16: =TRIM(BG16) -> G | AM16: =TRIM(BH16) -> G | AN16: =TRIM(BI16) -> G | ... AZ16: =TRIM(BU16) -> G | BB16: G | BC16: N | BD16: G | BE16: G | BF16: G | BG16: G | BH16: G | BI16: G | BJ16: N | BK16: G | BL16: G | BM16: G | BN16: N | BO16: N | BP16: N | BQ16: G | BR16: G | BT16: G | BU16: G | BV16: 0.75 | BW16: J
C17: ='GRAND TOTALS'!C14 -> Debbie | D17: =AS5 -> O | E17: =AS6 -> A | F17: =AS7 -> N | G17: =AS8 -> H | H17: =AS9 -> B | J17: =AS10 -> S | K17: =AS11 -> J | L17: =AS12 -> A | M17: =AS13 -> B | N17: =AS14 -> I | O17: =AS15 -> N | P17: =AS16 -> N | Q17: =AS17 -> C | R17: =AS18 -> P | S17: =AS19 -> R | T17: =AS20 -> K | U17: =AS21 -> B | V17: =AS22 -> G | W17: =AS23 | X17: =AS24 | Y17: =AS25 -> S | Z17: =SUM(D40:Y40) -> 10 | AA17: =AS26 -> 45 | AC17: =Z17+'Week 5'!AC17 -> 46 | AG17: =TRIM(BB17) -> P | AH17: =TRIM(BC17) -> P | AI17: =TRIM(BD17) -> P | AJ17: =TRIM(BE17) -> P | AK17: =TRIM(BF17) -> P | AL17: =TRIM(BG17) -> P | AM17: =TRIM(BH17) -> P | AN17: =TRIM(BI17) -> C | ... AZ17: =TRIM(BU17) -> P | BB17: P | BC17: P | BD17: P | BE17: P | BF17: P | BG17: P | BH17: P | BI17: C | BJ17: C | BK17: P | BL17: P | BM17: C | BN17: C | BO17: P | BP17: P | BQ17: C | BR17: C | BT17: P | BU17: P | BV17: 0.79166667 | BW17: I
C18: ='GRAND TOTALS'!C15 -> Scott | D18: =AT5 -> O | E18: =AT6 -> A | F18: =AT7 -> N | G18: =AT8 -> H | H18: =AT9 -> B | J18: =AT10 -> S | K18: =AT11 -> J | L18: =AT12 -> C | M18: =AT13 -> B | N18: =AT14 -> I | O18: =AT15 -> N | P18: =AT16 -> N | Q18: =AT17 -> P | R18: =AT18 -> P | S18: =AT19 -> R | T18: =AT20 -> K | U18: =AT21 -> B | V18: =AT22 -> G | W18: =AT23 | X18: =AT24 | Y18: =AT25 -> S | Z18: =SUM(D41:Y41) -> 10 | AA18: =AT26 -> 45 | AC18: =Z18+'Week 5'!AC18 -> 45 | AG18: =TRIM(BB18) -> T | AH18: =TRIM(BC18) -> T | AI18: =TRIM(BD18) -> T | AJ18: =TRIM(BE18) -> P | AK18: =TRIM(BF18) -> T | AL18: =TRIM(BG18) -> T | AM18: =TRIM(BH18) -> P | AN18: =TRIM(BI18) -> P | ... AZ18: =TRIM(BU18) -> P | BB18: T | BC18: T | BD18: T | BE18: P | BF18: T | BG18: T | BH18: P | BI18: P | BJ18: P | BK18: T | BL18: P | BM18: P | BN18: P | BO18: P | BP18: T | BQ18: P | BR18: P | BT18: P | BU18: P | BV18: 0.83333333 | BW18: G
C19: ='GRAND TOTALS'!C16 -> Michelle | D19: =AU5 -> I | E19: =AU6 -> A | F19: =AU7 -> N | G19: =AU8 -> H | H19: =AU9 -> B | J19: =AT11 -> J | K19: =AU11 -> J | L19: =AU12 -> C | M19: =AU13 -> B | N19: =AU14 -> I | O19: =AU15 -> N | P19: =AU16 -> N | Q19: =AU17 -> P | R19: =AU18 -> T | S19: =AU19 -> A | T19: =AU20 -> C | U19: =AU21 -> B | V19: =AU22 -> G | W19: =AU23 | X19: =AU24 | Y19: =AU25 -> S | Z19: =SUM(D42:Y42) -> 8 | AA19: =AU26 -> 42 | AC19: =Z19+'Week 5'!AC19 -> 29 | AG19: =TRIM(BB19) -> R | AH19: =TRIM(BC19) -> R | AI19: =TRIM(BD19) -> R | AJ19: =TRIM(BE19) -> R | AK19: =TRIM(BF19) -> R | AL19: =TRIM(BG19) -> R | AM19: =TRIM(BH19) -> R | AN19: =TRIM(BI19) -> R | ... AZ19: =TRIM(BU19) -> R | BB19: R | BC19: R | BD19: R | BE19: R | BF19: R | BG19: R | BH19: R | BI19: R | BJ19: R | BK19: R | BL19: R | BM19: R | BN19: R | BO19: R | BP19: A | BQ19: R | BR19: R | BT19: R | BU19: R | BV19: 0.875 | BW19: C
C20: ='GRAND TOTALS'!C17 -> Teri | D20: =AV5 -> I | E20: =AV6 -> A | F20: =AV7 -> N | G20: =AV8 -> H | H20: =AV9 -> B | J20: =AV10 -> S | K20: =AV11 -> J | L20: =AV12 -> C | M20: =AV13 -> B | N20: =AV14 -> I | O20: =AV15 -> N | P20: =AV16 -> G | Q20: =AV17 -> C | R20: =AV18 -> P | S20: =AV19 -> R | T20: =AV20 -> K | U20: =AV21 -> B | V20: =AV22 -> G | W20: =AV23 | X20: =AV24 | Y20: =AV25 -> S | Z20: =SUM(D43:Y43) -> 9 | AA20: =AV26 -> 32 | AC20: =Z20+'Week 5'!AC20 -> 44 | AG20: =TRIM(BB20) -> K | AH20: =TRIM(BC20) -> K | AI20: =TRIM(BD20) -> K | AJ20: =TRIM(BE20) -> K | AK20: =TRIM(BF20) -> K | AL20: =TRIM(BG20) -> K | AM20: =TRIM(BH20) -> K | AN20: =TRIM(BI20) -> K | ... AZ20: =TRIM(BU20) -> K | BB20: K | BC20: K | BD20: K | BE20: K | BF20: K | BG20: K | BH20: K | BI20: K | BJ20: K | BK20: K | BL20: K | BM20: G | BN20: K | BO20: K | BP20: C | BQ20: K | BR20: K | BT20: K | BU20: K | BV20: 0.91666667 | BW20: G
C21: ='GRAND TOTALS'!C18 -> Steve | D21: =AW5 -> O | E21: =AW6 -> A | F21: =AW7 -> N | G21: =AW8 -> H | H21: =AW9 -> D | J21: =AW10 -> S | K21: =AW11 -> J | L21: =AW12 -> C | M21: =AW13 -> B | N21: =AW14 -> I | O21: =AW15 -> N | P21: =AW16 -> G | Q21: =AW17 -> C | R21: =AW18 -> P | S21: =AW19 -> R | T21: =AW20 -> K | U21: =AW21 -> B | V21: =AW22 -> G | W21: =AW23 | X21: =AW24 | Y21: =AW25 -> S | Z21: =SUM(D44:Y44) -> 10 | AA21: =AW26 -> 47 | AC21: =Z21+'Week 5'!AC21 -> 41 | AG21: =TRIM(BB21) -> B | AH21: =TRIM(BC21) -> L | AI21: =TRIM(BD21) -> B | AJ21: =TRIM(BE21) -> B | AK21: =TRIM(BF21) -> L | AL21: =TRIM(BG21) -> L | AM21: =TRIM(BH21) -> B | AN21: =TRIM(BI21) -> B | ... AZ21: =TRIM(BU21) -> B | BB21: B | BC21: L | BD21: B | BE21: B | BF21: L | BG21: L | BH21: B | BI21: B | BJ21: B | BK21: B | BL21: B | BM21: B | BN21: B | BO21: B | BP21: B | BQ21: B | BR21: B | BT21: B | BU21: B | BV21: 0.95833333 | BW21: D
D22: =AX5 | E22: =AX6 | F22: =AX7 | G22: =AX8 | H22: =AX9 | J22: =AX10 | K22: =AX11 | L22: =AX12 | M22: =AX13 | N22: =AX14 | O22: =AX15 | P22: =AX16 | Q22: =AX17 | R22: =AX18 | S22: =AX19 | T22: =AX20 | U22: =AX21 | V22: =AX22 | W22: =AX23 | X22: =AX24 | Y22: =AX25 | AG22: =TRIM(BB22) -> G | AH22: =TRIM(BC22) -> G | AI22: =TRIM(BD22) -> G | AJ22: =TRIM(BE22) -> G | AK22: =TRIM(BF22) -> G | AL22: =TRIM(BG22) -> G | AM22: =TRIM(BH22) -> G | AN22: =TRIM(BI22) -> D | ... AZ22: =TRIM(BU22) -> G | BB22: G | BC22: G | BD22: G | BE22: G | BF22: G | BG22: G | BH22: G | BI22: D | BJ22: G | BK22: G | BL22: G | BM22: D | BN22: G | BO22: G | BP22: G | BQ22: G | BR22: G | BT22: D | BU22: G | BV22: 1 | BW22: SF
C23: Jamie | D23: =AY5 -> O | E23: =AY6 -> A | F23: =AY7 -> N | G23: =AY8 -> H | H23: =AY9 -> D | J23: =AY10 -> S | K23: =AY11 -> J | L23: =AY12 -> C | M23: =AY13 -> B | N23: =AY14 -> I | O23: =AY15 -> N | P23: =AY16 -> G | Q23: =AY17 -> P | R23: =AY18 -> P | S23: =AY19 -> R | T23: =AY20 -> K | U23: =AY21 -> B | V23: =AY22 -> D | W23: =AY23 | X23: =AY24 | Y23: =AY25 -> S | Z23: =SUM(D46:Y46) -> 8 | AA23: =AY26 -> 51 | AC23: =Z23+'Week 5'!AC23 -> 41 | AG23: =TRIM(BB23) | AH23: =TRIM(BC23) | AI23: =TRIM(BD23) | AJ23: =TRIM(BE23) | AK23: =TRIM(BF23) | AL23: =TRIM(BG23) | AM23: =TRIM(BH23) | AN23: =TRIM(BI23) | ... AZ23: =TRIM(BU23) | BV23: 1.125 | BW23: R
C24: Kelly | D24: =AZ5 -> O | E24: =AZ6 -> A | F24: =AZ7 -> N | G24: =AZ8 -> O | H24: =AZ9 -> B | J24: =AZ10 -> D | K24: =AZ11 -> J | L24: =AZ12 -> C | M24: =AZ13 -> C | N24: =AZ14 -> I | O24: =AZ15 -> N | P24: =AZ16 -> G | Q24: =AZ17 -> P | R24: =AZ18 -> P | S24: =AZ19 -> R | T24: =AZ20 -> K | U24: =AZ21 -> B | V24: =AZ22 -> G | W24: =AZ23 | X24: =AZ24 | Y24: =AZ25 -> S | Z24: =SUM(D47:Y47) -> 10 | AA24: =AZ26 -> 43 | AC24: =Z24+'Week 5'!AC24 -> 41 | AG24: =TRIM(BB24) | AH24: =TRIM(BC24) | AI24: =TRIM(BD24) | AJ24: =TRIM(BE24) | AK24: =TRIM(BF24) | AL24: =TRIM(BG24) | AM24: =TRIM(BH24) | AN24: =TRIM(BI24) | ... AZ24: =TRIM(BU24) | BV24: Tiebreaker: | BW24: 44
AG25: =TRIM(BB25) -> S | AH25: =TRIM(BC25) -> S | AI25: =TRIM(BD25) -> S | AJ25: =TRIM(BE25) -> S | AK25: =TRIM(BF25) -> S | AL25: =TRIM(BG25) -> S | AM25: =TRIM(BH25) -> S | AN25: =TRIM(BI25) -> S | ... AZ25: =TRIM(BU25) -> S | BB25: S | BC25: S | BD25: S | BE25: S | BF25: S | BG25: S | BH25: S | BI25: S | BJ25: S | BK25: S | BL25: S | BM25: S | BN25: S | BO25: S | BP25: S | BQ25: S | BR25: S | BT25: S | BU25: S
G26: Correct Pick | N26: Upset Pick | AG26: =TRIM(BB26) -> 55 | AH26: =TRIM(BC26) -> 49 | AI26: =TRIM(BD26) -> 43 | AJ26: =TRIM(BE26) -> 54 | AK26: =TRIM(BF26) -> 45 | AL26: =TRIM(BG26) -> 36 | AM26: =TRIM(BH26) -> 43 | AN26: =TRIM(BI26) -> 51 | ... AZ26: =TRIM(BU26) -> 43 | BB26: 55 | BC26: 49 | BD26: 43 | BE26: 54 | BF26: 45 | BG26: 36 | BH26: 43 | BI26: 51 | BJ26: 48 | BK26: 42 | BL26: 30 | BM26: 44 | BN26: 45 | BO26: 45 | BP26: 42 | BQ26: 32 | BR26: 47 | BT26: 51 | BU26: 43
C28: =C5 -> Fred | D28: =IF(D5=D$4,1,0) -> 1 | E28: =IF(E5=E$4,1,0) -> 0 | F28: =IF(F5=F$4,1,0) -> 0 | G28: =IF(G5=G$4,1,0) -> 0 | H28: =IF(H5=H$4,1,0) -> 0 | J28: =IF(J5=J$4,1,0) -> 0 | K28: =IF(K5=K$4,1,0) -> 0 | L28: =IF(L5=L$4,1,0) -> 1 | M28: =IF(M5=M$4,1,0) -> 0 | N28: =IF(N5=N$4,1,0) -> 0 | O28: =IF(O5=O$4,1,0) -> 1 | P28: =IF(P5=P$4,1,0) -> 0 | Q28: =IF(Q5=Q$4,1,0) -> 0 | ... Y28: =IF(Y5=Y$4,1,0) -> 1
C29: =C6 -> Joni | D29: =IF(D6=D$4,1,0) -> 1 | E29: =IF(E6=E$4,1,0) -> 0 | F29: =IF(F6=F$4,1,0) -> 0 | G29: =IF(G6=G$4,1,0) -> 0 | H29: =IF(H6=H$4,1,0) -> 0 | J29: =IF(J6=J$4,1,0) -> 1 | K29: =IF(K6=K$4,1,0) -> 0 | L29: =IF(L6=L$4,1,0) -> 0 | M29: =IF(M6=M$4,1,0) -> 0 | N29: =IF(N6=N$4,1,0) -> 0 | O29: =IF(O6=O$4,1,0) -> 1 | P29: =IF(P6=P$4,1,0) -> 1 | Q29: =IF(Q6=Q$4,1,0) -> 0 | ... Y29: =IF(Y6=Y$4,1,0) -> 1
C30: =C7 -> Tara | D30: =IF(D7=D$4,1,0) -> 1 | E30: =IF(E7=E$4,1,0) -> 0 | F30: =IF(F7=F$4,1,0) -> 0 | G30: =IF(G7=G$4,1,0) -> 1 | H30: =IF(H7=H$4,1,0) -> 0 | J30: =IF(J7=J$4,1,0) -> 1 | K30: =IF(K7=K$4,1,0) -> 0 | L30: =IF(L7=L$4,1,0) -> 0 | M30: =IF(M7=M$4,1,0) -> 0 | N30: =IF(N7=N$4,1,0) -> 0 | O30: =IF(O7=O$4,1,0) -> 1 | P30: =IF(P7=P$4,1,0) -> 0 | Q30: =IF(Q7=Q$4,1,0) -> 0 | ... Y30: =IF(Y7=Y$4,1,0) -> 1
C31: =C8 -> Roger | D31: =IF(D8=D$4,1,0) -> 1 | E31: =IF(E8=E$4,1,0) -> 0 | F31: =IF(F8=F$4,1,0) -> 0 | G31: =IF(G8=G$4,1,0) -> 1 | H31: =IF(H8=H$4,1,0) -> 0 | J31: =IF(J8=J$4,1,0) -> 1 | K31: =IF(K8=K$4,1,0) -> 0 | L31: =IF(L8=L$4,1,0) -> 1 | M31: =IF(M8=M$4,1,0) -> 0 | N31: =IF(N8=N$4,1,0) -> 0 | O31: =IF(O8=O$4,1,0) -> 1 | P31: =IF(P8=P$4,1,0) -> 0 | Q31: =IF(Q8=Q$4,1,0) -> 0 | ... Y31: =IF(Y8=Y$4,1,0) -> 1
C32: =C9 -> Jeanne | D32: =IF(D9=D$4,1,0) -> 0 | E32: =IF(E9=E$4,1,0) -> 1 | F32: =IF(F9=F$4,1,0) -> 1 | G32: =IF(G9=G$4,1,0) -> 1 | H32: =IF(H9=H$4,1,0) -> 0 | J32: =IF(J9=J$4,1,0) -> 0 | K32: =IF(K9=K$4,1,0) -> 0 | L32: =IF(L9=L$4,1,0) -> 0 | M32: =IF(M9=M$4,1,0) -> 1 | N32: =IF(N9=N$4,1,0) -> 0 | O32: =IF(O9=O$4,1,0) -> 1 | P32: =IF(P9=P$4,1,0) -> 0 | Q32: =IF(Q9=Q$4,1,0) -> 0 | ... Y32: =IF(Y9=Y$4,1,0) -> 1
C33: =C10 -> Jackie | D33: =IF(D10=D$4,1,0) -> 0 | E33: =IF(E10=E$4,1,0) -> 1 | F33: =IF(F10=F$4,1,0) -> 1 | G33: =IF(G10=G$4,1,0) -> 1 | H33: =IF(H10=H$4,1,0) -> 0 | J33: =IF(J10=J$4,1,0) -> 1 | K33: =IF(K10=K$4,1,0) -> 0 | L33: =IF(L10=L$4,1,0) -> 1 | M33: =IF(M10=M$4,1,0) -> 1 | N33: =IF(N10=N$4,1,0) -> 0 | O33: =IF(O10=O$4,1,0) -> 1 | P33: =IF(P10=P$4,1,0) -> 0 | Q33: =IF(Q10=Q$4,1,0) -> 0 | ... Y33: =IF(Y10=Y$4,1,0) -> 1
C34: =C11 -> Darla | D34: =IF(D11=D$4,1,0) -> 1 | E34: =IF(E11=E$4,1,0) -> 0 | F34: =IF(F11=F$4,1,0) -> 0 | G34: =IF(G11=G$4,1,0) -> 0 | H34: =IF(H11=H$4,1,0) -> 0 | J34: =IF(J11=J$4,1,0) -> 1 | K34: =IF(K11=K$4,1,0) -> 0 | L34: =IF(L11=L$4,1,0) -> 1 | M34: =IF(M11=M$4,1,0) -> 1 | N34: =IF(N11=N$4,1,0) -> 0 | O34: =IF(O11=O$4,1,0) -> 1 | P34: =IF(P11=P$4,1,0) -> 0 | Q34: =IF(Q11=Q$4,1,0) -> 0 | ... Y34: =IF(Y11=Y$4,1,0) -> 1
C35: =C12 -> Kieran | D35: =IF(D12=D$4,1,0) -> 1 | E35: =IF(E12=E$4,1,0) -> 0 | F35: =IF(F12=F$4,1,0) -> 0 | G35: =IF(G12=G$4,1,0) -> 1 | H35: =IF(H12=H$4,1,0) -> 0 | J35: =IF(J12=J$4,1,0) -> 0 | K35: =IF(K12=K$4,1,0) -> 0 | L35: =IF(L12=L$4,1,0) -> 0 | M35: =IF(M12=M$4,1,0) -> 0 | N35: =IF(N12=N$4,1,0) -> 0 | O35: =IF(O12=O$4,1,0) -> 1 | P35: =IF(P12=P$4,1,0) -> 0 | Q35: =IF(Q12=Q$4,1,0) -> 1 | ... Y35: =IF(Y12=Y$4,1,0) -> 1
C36: =C13 -> Kaidan | D36: =IF(D13=D$4,1,0) -> 1 | E36: =IF(E13=E$4,1,0) -> 0 | F36: =IF(F13=F$4,1,0) -> 0 | G36: =IF(G13=G$4,1,0) -> 0 | H36: =IF(H13=H$4,1,0) -> 0 | J36: =IF(J13=J$4,1,0) -> 0 | K36: =IF(K13=K$4,1,0) -> 0 | L36: =IF(L13=L$4,1,0) -> 1 | M36: =IF(M13=M$4,1,0) -> 0 | N36: =IF(N13=N$4,1,0) -> 0 | O36: =IF(O13=O$4,1,0) -> 1 | P36: =IF(P13=P$4,1,0) -> 1 | Q36: =IF(Q13=Q$4,1,0) -> 1 | ... Y36: =IF(Y13=Y$4,1,0) -> 1
C37: =C14 -> Jim | D37: =IF(D14=D$4,1,0) -> 1 | E37: =IF(E14=E$4,1,0) -> 0 | F37: =IF(F14=F$4,1,0) -> 1 | G37: =IF(G14=G$4,1,0) -> 1 | H37: =IF(H14=H$4,1,0) -> 0 | J37: =IF(J14=J$4,1,0) -> 1 | K37: =IF(K14=K$4,1,0) -> 0 | L37: =IF(L14=L$4,1,0) -> 0 | M37: =IF(M14=M$4,1,0) -> 0 | N37: =IF(N14=N$4,1,0) -> 0 | O37: =IF(O14=O$4,1,0) -> 1 | P37: =IF(P14=P$4,1,0) -> 0 | Q37: =IF(Q14=Q$4,1,0) -> 0 | ... Y37: =IF(Y14=Y$4,1,0) -> 1
C38: =C15 -> Lisa | D38: =IF(D15=D$4,1,0) -> 0 | E38: =IF(E15=E$4,1,0) -> 0 | F38: =IF(F15=F$4,1,0) -> 0 | G38: =IF(G15=G$4,1,0) -> 1 | H38: =IF(H15=H$4,1,0) -> 0 | J38: =IF(J15=J$4,1,0) -> 0 | K38: =IF(K15=K$4,1,0) -> 0 | L38: =IF(L15=L$4,1,0) -> 1 | M38: =IF(M15=M$4,1,0) -> 0 | N38: =IF(N15=N$4,1,0) -> 0 | O38: =IF(O15=O$4,1,0) -> 1 | P38: =IF(P15=P$4,1,0) -> 0 | Q38: =IF(Q15=Q$4,1,0) -> 0 | ... Y38: =IF(Y15=Y$4,1,0) -> 1
C39: =C16 -> Stuart | D39: =IF(D16=D$4,1,0) -> 1 | E39: =IF(E16=E$4,1,0) -> 0 | F39: =IF(F16=F$4,1,0) -> 1 | G39: =IF(G16=G$4,1,0) -> 1 | H39: =IF(H16=H$4,1,0) -> 0 | J39: =IF(J16=J$4,1,0) -> 0 | K39: =IF(K16=K$4,1,0) -> 0 | L39: =IF(L16=L$4,1,0) -> 0 | M39: =IF(M16=M$4,1,0) -> 1 | N39: =IF(N16=N$4,1,0) -> 0 | O39: =IF(O16=O$4,1,0) -> 1 | P39: =IF(P16=P$4,1,0) -> 0 | Q39: =IF(Q16=Q$4,1,0) -> 1 | ... Y39: =IF(Y16=Y$4,1,0) -> 1
... C45: =C22 -> 0 | D45: =IF(D22=D$4,1,0) -> 0 | E45: =IF(E22=E$4,1,0) -> 0 | F45: =IF(F22=F$4,1,0) -> 0 | G45: =IF(G22=G$4,1,0) -> 0 | H45: =IF(H22=H$4,1,0) -> 0 | J45: =IF(J22=J$4,1,0) -> 0 | K45: =IF(K22=K$4,1,0) -> 0 | L45: =IF(L22=L$4,1,0) -> 0 | M45: =IF(M22=M$4,1,0) -> 0 | N45: =IF(N22=N$4,1,0) -> 0 | O45: =IF(O22=O$4,1,0) -> 0 | P45: =IF(P22=P$4,1,0) -> 0 | Q45: =IF(Q22=Q$4,1,0) -> 0 | ... Y45: =IF(Y22=Y$4,1,0) -> 0
D46: =IF(D23=D$4,1,0) -> 1 | E46: =IF(E23=E$4,1,0) -> 0 | F46: =IF(F23=F$4,1,0) -> 0 | G46: =IF(G23=G$4,1,0) -> 1 | H46: =IF(H23=H$4,1,0) -> 0 | J46: =IF(J23=J$4,1,0) -> 0 | K46: =IF(K23=K$4,1,0) -> 0 | L46: =IF(L23=L$4,1,0) -> 1 | M46: =IF(M23=M$4,1,0) -> 0 | N46: =IF(N23=N$4,1,0) -> 0 | O46: =IF(O23=O$4,1,0) -> 1 | P46: =IF(P23=P$4,1,0) -> 0 | Q46: =IF(Q23=Q$4,1,0) -> 0 | ... Y46: =IF(Y23=Y$4,1,0) -> 1
D47: =IF(D24=D$4,1,0) -> 1 | E47: =IF(E24=E$4,1,0) -> 0 | F47: =IF(F24=F$4,1,0) -> 0 | G47: =IF(G24=G$4,1,0) -> 0 | H47: =IF(H24=H$4,1,0) -> 0 | J47: =IF(J24=J$4,1,0) -> 1 | K47: =IF(K24=K$4,1,0) -> 0 | L47: =IF(L24=L$4,1,0) -> 1 | M47: =IF(M24=M$4,1,0) -> 1 | N47: =IF(N24=N$4,1,0) -> 0 | O47: =IF(O24=O$4,1,0) -> 1 | P47: =IF(P24=P$4,1,0) -> 0 | Q47: =IF(Q24=Q$4,1,0) -> 0 | ... Y47: =IF(Y24=Y$4,1,0) -> 1

Sheet Week 7
E2: col | K2: wk | M2: No | P2: 7 | U2: pro
D3: USC @ Wisconsin | E3: Tennessee @ South Carolina | F3: Miss @ Texas | G3: Houston @ Utah | H3: World Series Game - Rays vs Brewers | J3: New England @ Chicago | K3: Pittsburgh v New Orleans | L3: San Francisco @ Atlanta | M3: Cleveland @ Tennessee | N3: Indianapolis @ Minnesota | O3: Miami @ Jets | P3: Tampa Bay @ Carolina | Q3: Cincinnati @ Baltimore | R3: Giants @ Houston | S3: Denver @ Arizona | T3: Green Bay @ Detroit | U3: Rams @ Las Vegas | V3: Kansas City @ Seattle | Y3: Dallas @ Philadelphia | Z3: TOTAL | AA3: TIEBREAKER | AC3: GRAND TOTAL | AG3: =C5 -> Fred | AH3: =C6 -> Joni | AI3: =C7 -> Tara | AJ3: =C8 -> Roger | AK3: =C9 -> Jeanne | AL3: =C10 -> Jackie | AM3: =C11 -> Darla | AN3: =C12 -> Kieran | AO3: =C13 -> Kaidan | AP3: =C14 -> Jim | AQ3: =C15 -> Lisa | AR3: =C16 -> Stuart | AS3: =C17 -> Debbie | AT3: =C18 -> Scott | AU3: =C19 -> Michelle | AV3: =C20 -> Teri | AW3: =C21 -> Steve | AX3: =C22 -> 0 | AY3: =C23 -> Jamie | AZ3: =C24 -> Kelly | BB3: =C5 -> Fred | BC3: =C6 -> Joni | BD3: =C7 -> Tara | BE3: =C8 -> Roger | BF3: Jeanne | BG3: =C10 -> Jackie | BH3: =C11 -> Darla | BI3: =C12 -> Kieran | BJ3: =C13 -> Kaidan | BK3: =C14 -> Jim | BL3: =C15 -> Lisa | BM3: =C16 -> Stuart | BN3: =C17 -> Debbie | BO3: =C18 -> Scott | BP3: =C19 -> Michelle | BQ3: =C20 -> Teri | BR3: =C21 -> Steve | BS3: =C22 -> 0 | BT3: =C23 -> Jamie | BU3: =C24 -> Kelly
C4: Winners | D4: W | E4: S | F4: T | G4: U | H4: B | J4: C | K4: P | L4: A | M4: C | N4: M | O4: M | P4: T | Q4: C | R4: G | S4: D | T4: D | U4: R | V4: S | W4: . | X4: . | Y4: d
C5: ='GRAND TOTALS'!C2 -> Fred | D5: =AG5 -> U | E5: =AG6 -> T | F5: =AG7 -> T | G5: =AG8 -> U | H5: =AG9 -> B | J5: =AG10 -> C | K5: =AG11 -> P | L5: =AG12 -> S | M5: =AG13 -> C | N5: =AG14 -> M | O5: =AG15 -> J | P5: =AG16 -> C | Q5: =AG17 -> C | R5: =AG18 -> H | S5: =AG19 -> D | T5: =AG20 -> D | U5: =AG21 -> R | V5: =AG22 -> S | W5: =AG23 | X5: =AG24 | Y5: =AG25 -> P | Z5: =SUM(D28:Y28) -> 12 | AA5: =AG26 -> 50 | AC5: =Z5+'Week 6'!AC5 -> 50 | AG5: =TRIM(BB5) -> U | AH5: =TRIM(BC5) -> W | AI5: =TRIM(BD5) -> W | AJ5: =TRIM(BE5) -> U | AK5: =TRIM(BF5) -> U | AL5: =TRIM(BG5) | AM5: =TRIM(BH5) -> U | AN5: =TRIM(BI5) -> U | ... AZ5: =TRIM(BU5) -> U | BB5: U | BC5: W | BD5: W | BE5: U | BF5: U | BH5: U | BI5: U | BJ5: U | BK5: W | BL5: W | BM5: W | BN5: U | BO5: U | BP5: W | BQ5: U | BR5: U | BT5: U | BU5: U | BV5: 0.041666667 | BW5: W
C6: ='GRAND TOTALS'!C3 -> Joni | D6: =AH5 -> W | E6: =AH6 -> S | F6: =AH7 -> T | G6: =AH8 -> U | H6: =AH9 -> B | J6: =AH10 -> C | K6: =AH11 -> N | L6: =AH12 -> A | M6: =AH13 -> C | N6: =AH14 -> M | O6: =AH15 -> J | P6: =AH16 -> C | Q6: =AH17 -> B | R6: =AH18 -> H | S6: =AH19 -> D | T6: =AH20 -> G | U6: =AH21 -> L | V6: =AH22 -> K | W6: =AH23 | X6: =AH24 | Y6: =AH25 -> P | Z6: =SUM(D29:Y29) -> 10 | AA6: =AH26 -> 32 | AC6: =Z6+'Week 6'!AC6 -> 47 | AG6: =TRIM(BB6) -> T | AH6: =TRIM(BC6) -> S | AI6: =TRIM(BD6) -> S | AJ6: =TRIM(BE6) -> T | AK6: =TRIM(BF6) -> T | AL6: =TRIM(BG6) -> S | AM6: =TRIM(BH6) -> T | AN6: =TRIM(BI6) -> T | ... AZ6: =TRIM(BU6) -> S | BB6: T | BC6: S | BD6: S | BE6: T | BF6: T | BG6: S | BH6: T | BI6: T | BJ6: T | BK6: T | BL6: S | BM6: T | BN6: T | BO6: T | BP6: T | BQ6: T | BR6: T | BT6: T | BU6: S | BV6: 0.083333333 | BW6: T
C7: ='GRAND TOTALS'!C4 -> Tara | D7: =AI5 -> W | E7: =AI6 -> S | F7: =AI7 -> T | G7: =AI8 -> U | H7: =AI9 -> B | J7: =AI10 -> C | K7: =AI11 -> P | L7: =AI12 -> S | M7: =AI13 -> T | N7: =AI14 -> M | O7: =AI15 -> J | P7: =AI16 -> C | Q7: =AI17 -> B | R7: =AI18 -> H | S7: =AI19 -> D | T7: =AI20 -> D | U7: =AI21 -> R | V7: =AI22 -> S | W7: =AI23 | X7: =AI24 | Y7: =AI25 -> D | Z7: =SUM(D30:Y30) -> 13 | AA7: =AI26 -> 43 | AC7: =Z7+'Week 6'!AC7 -> 57 | AG7: =TRIM(BB7) -> T | AH7: =TRIM(BC7) -> T | AI7: =TRIM(BD7) -> T | AJ7: =TRIM(BE7) -> T | AK7: =TRIM(BF7) -> M | AL7: =TRIM(BG7) -> T | AM7: =TRIM(BH7) -> T | AN7: =TRIM(BI7) -> M | ... AZ7: =TRIM(BU7) -> T | BB7: T | BC7: T | BD7: T | BE7: T | BF7: M | BG7: T | BH7: T | BI7: M | BJ7: M | BK7: M | BL7: T | BM7: M | BN7: T | BO7: T | BP7: T | BQ7: M | BR7: T | BT7: T | BU7: T | BV7: 0.125 | BW7: M
C8: ='GRAND TOTALS'!C5 -> Roger | D8: =AJ5 -> U | E8: =AJ6 -> T | F8: =AJ7 -> T | G8: =AJ8 -> U | H8: =AJ9 -> B | J8: =AJ10 -> N | K8: =AJ11 -> P | L8: =AJ12 -> S | M8: =AJ13 -> T | N8: =AJ14 -> M | O8: =AJ15 -> J | P8: =AJ16 -> C | Q8: =AJ17 -> B | R8: =AJ18 -> H | S8: =AJ19 -> D | T8: =AJ20 -> G | U8: =AJ21 -> R | V8: =AJ22 -> S | W8: =AJ23 | X8: =AJ24 | Y8: =AJ25 -> D | Z8: =SUM(D31:Y31) -> 9 | AA8: =AJ26 -> 46 | AC8: =Z8+'Week 6'!AC8 -> 60 | AG8: =TRIM(BB8) -> U | AH8: =TRIM(BC8) -> U | AI8: =TRIM(BD8) -> U | AJ8: =TRIM(BE8) -> U | AK8: =TRIM(BF8) -> H | AL8: =TRIM(BG8) -> U | AM8: =TRIM(BH8) -> U | AN8: =TRIM(BI8) -> U | ... AZ8: =TRIM(BU8) -> H | BB8: U | BC8: U | BD8: U | BE8: U | BF8: H | BG8: U | BH8: U | BI8: U | BJ8: H | BK8: U | BL8: U | BM8: H | BN8: U | BO8: U | BP8: U | BQ8: U | BR8: U | BT8: U | BU8: H | BV8: 0.16666667 | BW8: H
C9: ='GRAND TOTALS'!C6 -> Jeanne | D9: =AK5 -> U | E9: =AK6 -> T | F9: =AK7 -> M | G9: =AK8 -> H | H9: =AK9 -> R | J9: =AK10 -> C | K9: =AK11 -> P | L9: =AK12 -> A | M9: =AK13 -> C | N9: =AK14 -> M | O9: =AK15 -> M | P9: =AK16 -> C | Q9: =AK17 -> C | R9: =AK18 -> H | S9: =AK19 -> A | T9: =AK20 -> G | U9: =AK21 -> R | V9: =AK22 -> S | W9: =AK23 | X9: =AK24 | Y9: =AK25 -> P | Z9: =SUM(D32:Y32) -> 9 | AA9: =AK26 -> 45 | AC9: =Z9+'Week 6'!AC9 -> 50 | AG9: =TRIM(BB9) -> B | AH9: =TRIM(BC9) -> B | AI9: =TRIM(BD9) -> B | AJ9: =TRIM(BE9) -> B | AK9: =TRIM(BF9) -> R | AL9: =TRIM(BG9) -> B | AM9: =TRIM(BH9) -> B | AN9: =TRIM(BI9) -> R | ... AZ9: =TRIM(BU9) -> B | BB9: B | BC9: B | BD9: B | BE9: B | BF9: R | BG9: B | BH9: B | BI9: R | BJ9: R | BK9: B | BL9: B | BM9: B | BN9: B | BO9: B | BP9: B | BQ9: B | BR9: B | BT9: B | BU9: B | BV9: 0.20833333 | BW9: B
C10: ='GRAND TOTALS'!C7 -> Jackie | D10: =AL5 | E10: =AL6 -> S | F10: =AL7 -> T | G10: =AL8 -> U | H10: =AL9 -> B | J10: =AL10 -> C | K10: =AL11 -> N | L10: =AL12 -> A | M10: =AL13 -> T | N10: =AL14 -> M | O10: =AL15 -> J | P10: =AL16 -> C | Q10: =AL17 -> B | R10: =AL18 -> H | S10: =AL19 -> A | T10: =AL20 -> D | U10: =AL21 -> L | V10: =AL22 -> S | W10: =AL23 | X10: =AL24 | Y10: =AL25 -> P | Z10: =SUM(D33:Y33) -> 9 | AA10: =AL26 -> 46 | AC10: =Z10+'Week 6'!AC10 -> 50 | AG10: =TRIM(BB10) -> C | AH10: =TRIM(BC10) -> C | AI10: =TRIM(BD10) -> C | AJ10: =TRIM(BE10) -> N | AK10: =TRIM(BF10) -> C | AL10: =TRIM(BG10) -> C | AM10: =TRIM(BH10) -> C | AN10: =TRIM(BI10) -> N | ... AZ10: =TRIM(BU10) -> C | BB10: C | BC10: C | BD10: C | BE10: N | BF10: C | BG10: C | BH10: C | BI10: N | BJ10: C | BK10: C | BL10: N | BM10: N | BN10: C | BO10: C | BP10: C | BQ10: C | BR10: N | BT10: C | BU10: C | BV10: 0.5 | BW10: N
C11: ='GRAND TOTALS'!C8 -> Darla | D11: =AM5 -> U | E11: =AM6 -> T | F11: =AM7 -> T | G11: =AM8 -> U | H11: =AM9 -> B | J11: =AM10 -> C | K11: =AM11 -> P | L11: =AM12 -> S | M11: =AM13 -> C | N11: =AM14 -> M | O11: =AM15 -> J | P11: =AM16 -> C | Q11: =AM17 -> B | R11: =AM18 -> G | S11: =AM19 -> D | T11: =AM20 -> D | U11: =AM21 -> R | V11: =AM22 -> S | W11: =AM23 | X11: =AM24 | Y11: =AM25 -> P | Z11: =SUM(D34:Y34) -> 12 | AA11: =AM26 -> 42 | AC11: =Z11+'Week 6'!AC11 -> 52 | AG11: =TRIM(BB11) -> P | AH11: =TRIM(BC11) -> N | AI11: =TRIM(BD11) -> P | AJ11: =TRIM(BE11) -> P | AK11: =TRIM(BF11) -> P | AL11: =TRIM(BG11) -> N | AM11: =TRIM(BH11) -> P | AN11: =TRIM(BI11) -> P | ... AZ11: =TRIM(BU11) -> P | BB11: P | BC11: N | BD11: P | BE11: P | BF11: P | BG11: N | BH11: P | BI11: P | BJ11: P | BK11: P | BL11: P | BM11: N | BN11: P | BO11: P | BP11: P | BQ11: P | BR11: P | BT11: P | BU11: P | BV11: 0.54166667 | BW11: N
C12: ='GRAND TOTALS'!C9 -> Kieran | D12: =AN5 -> U | E12: =AN6 -> T | F12: =AN7 -> M | G12: =AN8 -> U | H12: =AN9 -> R | J12: =AN10 -> N | K12: =AN11 -> P | L12: =AN12 -> S | M12: =AN13 -> C | N12: =AN14 -> M | O12: =AN15 -> J | P12: =AN16 -> C | Q12: =AN17 -> B | R12: =AN18 -> G | S12: =AN19 -> D | T12: =AN20 -> G | U12: =AN21 -> L | V12: =AN22 -> K | W12: =AN23 | X12: =AN24 | Y12: =AN25 -> D | Z12: =SUM(D35:Y35) -> 7 | AA12: =AN26 -> 49 | AC12: =Z12+'Week 6'!AC12 -> 47 | AG12: =TRIM(BB12) -> S | AH12: =TRIM(BC12) -> A | AI12: =TRIM(BD12) -> S | AJ12: =TRIM(BE12) -> S | AK12: =TRIM(BF12) -> A | AL12: =TRIM(BG12) -> A | AM12: =TRIM(BH12) -> S | AN12: =TRIM(BI12) -> S | ... AZ12: =TRIM(BU12) -> A | BB12: S | BC12: A | BD12: S | BE12: S | BF12: A | BG12: A | BH12: S | BI12: S | BJ12: S | BK12: S | BL12: S | BM12: A | BN12: S | BO12: S | BP12: S | BQ12: S | BR12: S | BT12: A | BU12: A | BV12: 0.58333333 | BW12: A
C13: ='GRAND TOTALS'!C10 -> Kaidan | D13: =AO5 -> U | E13: =AO6 -> T | F13: =AO7 -> M | G13: =AO8 -> H | H13: =AO9 -> R | J13: =AO10 -> C | K13: =AO11 -> P | L13: =AO12 -> S | M13: =AO13 -> T | N13: =AO14 -> M | O13: =AO15 -> J | P13: =AO16 -> C | Q13: =AO17 -> B | R13: =AO18 -> H | S13: =AO19 -> D | T13: =AO20 -> G | U13: =AO21 -> R | V13: =AO22 -> K | W13: =AO23 | X13: =AO24 | Y13: =AO25 -> D | Z13: =SUM(D36:Y36) -> 6 | AA13: =AO26 -> 43 | AC13: =Z13+'Week 6'!AC13 -> 54 | AG13: =TRIM(BB13) -> C | AH13: =TRIM(BC13) -> C | AI13: =TRIM(BD13) -> T | AJ13: =TRIM(BE13) -> T | AK13: =TRIM(BF13) -> C | AL13: =TRIM(BG13) -> T | AM13: =TRIM(BH13) -> C | AN13: =TRIM(BI13) -> C | ... AZ13: =TRIM(BU13) -> T | BB13: C | BC13: C | BD13: T | BE13: T | BF13: C | BG13: T | BH13: C | BI13: C | BJ13: T | BK13: C | BL13: T | BM13: C | BN13: C | BO13: C | BP13: T | BQ13: C | BR13: C | BT13: C | BU13: T | BV13: 0.625 | BW13: C
C14: ='GRAND TOTALS'!C11 -> Jim | D14: =AP5 -> W | E14: =AP6 -> T | F14: =AP7 -> M | G14: =AP8 -> U | H14: =AP9 -> B | J14: =AP10 -> C | K14: =AP11 -> P | L14: =AP12 -> S | M14: =AP13 -> C | N14: =AP14 -> M | O14: =AP15 -> J | P14: =AP16 -> T | Q14: =AP17 -> C | R14: =AP18 -> H | S14: =AP19 -> D | T14: =AP20 -> D | U14: =AP21 -> L | V14: =AP22 -> K | W14: =AP23 | X14: =AP24 | Y14: =AP25 -> D | Z14: =SUM(D37:Y37) -> 12 | AA14: =AP26 -> 41 | AC14: =Z14+'Week 6'!AC14 -> 55 | AG14: =TRIM(BB14) -> M | AH14: =TRIM(BC14) -> M | AI14: =TRIM(BD14) -> M | AJ14: =TRIM(BE14) -> M | AK14: =TRIM(BF14) -> M | AL14: =TRIM(BG14) -> M | AM14: =TRIM(BH14) -> M | AN14: =TRIM(BI14) -> M | ... AZ14: =TRIM(BU14) -> M | BB14: M | BC14: M | BD14: M | BE14: M | BF14: M | BG14: M | BH14: M | BI14: M | BJ14: M | BK14: M | BL14: M | BM14: I | BN14: M | BO14: M | BP14: M | BQ14: M | BR14: M | BT14: M | BU14: M | BV14: 0.66666667 | BW14: I
C15: ='GRAND TOTALS'!C12 -> Lisa | D15: =AQ5 -> W | E15: =AQ6 -> S | F15: =AQ7 -> T | G15: =AQ8 -> U | H15: =AQ9 -> B | J15: =AQ10 -> N | K15: =AQ11 -> P | L15: =AQ12 -> S | M15: =AQ13 -> T | N15: =AQ14 -> M | O15: =AQ15 -> J | P15: =AQ16 -> C | Q15: =AQ17 -> B | R15: =AQ18 -> G | S15: =AQ19 -> D | T15: =AQ20 -> G | U15: =AQ21 -> R | V15: =AQ22 -> K | W15: =AQ23 | X15: =AQ24 | Y15: =AQ25 -> P | Z15: =SUM(D38:Y38) -> 10 | AA15: =AQ26 -> 28 | AC15: =Z15+'Week 6'!AC15 -> 53 | AG15: =TRIM(BB15) -> J | AH15: =TRIM(BC15) -> J | AI15: =TRIM(BD15) -> J | AJ15: =TRIM(BE15) -> J | AK15: =TRIM(BF15) -> M | AL15: =TRIM(BG15) -> J | AM15: =TRIM(BH15) -> J | AN15: =TRIM(BI15) -> J | ... AZ15: =TRIM(BU15) -> J | BB15: J | BC15: J | BD15: J | BE15: J | BF15: M | BG15: J | BH15: J | BI15: J | BJ15: J | BK15: J | BL15: J | BM15: J | BN15: J | BO15: J | BP15: J | BQ15: J | BR15: J | BT15: M | BU15: J | BV15: 0.70833333 | BW15: J
C16: ='GRAND TOTALS'!C13 -> Stuart | D16: =AR5 -> W | E16: =AR6 -> T | F16: =AR7 -> M | G16: =AR8 -> H | H16: =AR9 -> B | J16: =AR10 -> N | K16: =AR11 -> N | L16: =AR12 -> A | M16: =AR13 -> C | N16: =AR14 -> I | O16: =AR15 -> J | P16: =AR16 -> C | Q16: =AR17 -> C | R16: =AR18 -> H | S16: =AR19 -> D | T16: =AR20 -> D | U16: =AR21 -> L | V16: =AR22 -> S | W16: =AR23 | X16: =AR24 | Y16: =AR25 -> D | Z16: =SUM(D39:Y39) -> 9 | AA16: =AR26 -> 38 | AC16: =Z16+'Week 6'!AC16 -> 47 | AG16: =TRIM(BB16) -> C | AH16: =TRIM(BC16) -> C | AI16: =TRIM(BD16) -> C | AJ16: =TRIM(BE16) -> C | AK16: =TRIM(BF16) -> C | AL16: =TRIM(BG16) -> C | AM16: =TRIM(BH16) -> C | AN16: =TRIM(BI16) -> C | ... AZ16: =TRIM(BU16) -> C | BB16: C | BC16: C | BD16: C | BE16: C | BF16: C | BG16: C | BH16: C | BI16: C | BJ16: C | BK16: T | BL16: C | BM16: C | BN16: C | BO16: C | BP16: C | BQ16: C | BR16: C | BT16: T | BU16: C | BV16: 0.75 | BW16: C
C17: ='GRAND TOTALS'!C14 -> Debbie | D17: =AS5 -> U | E17: =AS6 -> T | F17: =AS7 -> T | G17: =AS8 -> U | H17: =AS9 -> B | J17: =AS10 -> C | K17: =AS11 -> P | L17: =AS12 -> S | M17: =AS13 -> C | N17: =AS14 -> M | O17: =AS15 -> J | P17: =AS16 -> C | Q17: =AS17 -> B | R17: =AS18 -> H | S17: =AS19 -> D | T17: =AS20 -> G | U17: =AS21 -> R | V17: =AS22 -> S | W17: =AS23 | X17: =AS24 | Y17: =AS25 -> P | Z17: =SUM(D40:Y40) -> 10 | AA17: =AS26 -> 44 | AC17: =Z17+'Week 6'!AC17 -> 56 | AG17: =TRIM(BB17) -> C | AH17: =TRIM(BC17) -> B | AI17: =TRIM(BD17) -> B | AJ17: =TRIM(BE17) -> B | AK17: =TRIM(BF17) -> C | AL17: =TRIM(BG17) -> B | AM17: =TRIM(BH17) -> B | AN17: =TRIM(BI17) -> B | ... AZ17: =TRIM(BU17) -> B | BB17: C | BC17: B | BD17: B | BE17: B | BF17: C | BG17: B | BH17: B | BI17: B | BJ17: B | BK17: C | BL17: B | BM17: C | BN17: B | BO17: C | BP17: B | BQ17: C | BR17: B | BT17: C | BU17: B | BV17: 0.79166667 | BW17: C
C18: ='GRAND TOTALS'!C15 -> Scott | D18: =AT5 -> U | E18: =AT6 -> T | F18: =AT7 -> T | G18: =AT8 -> U | H18: =AT9 -> B | J18: =AT10 -> C | K18: =AT11 -> P | L18: =AT12 -> S | M18: =AT13 -> C | N18: =AT14 -> M | O18: =AT15 -> J | P18: =AT16 -> C | Q18: =AT17 -> C | R18: =AT18 -> H | S18: =AT19 -> D | T18: =AT20 -> D | U18: =AT21 -> R | V18: =AT22 -> K | W18: =AT23 | X18: =AT24 | Y18: =AT25 -> P | Z18: =SUM(D41:Y41) -> 11 | AA18: =AT26 -> 45 | AC18: =Z18+'Week 6'!AC18 -> 56 | AG18: =TRIM(BB18) -> H | AH18: =TRIM(BC18) -> H | AI18: =TRIM(BD18) -> H | AJ18: =TRIM(BE18) -> H | AK18: =TRIM(BF18) -> H | AL18: =TRIM(BG18) -> H | AM18: =TRIM(BH18) -> G | AN18: =TRIM(BI18) -> G | ... AZ18: =TRIM(BU18) -> H | BB18: H | BC18: H | BD18: H | BE18: H | BF18: H | BG18: H | BH18: G | BI18: G | BJ18: H | BK18: H | BL18: G | BM18: H | BN18: H | BO18: H | BP18: H | BQ18: H | BR18: H | BT18: H | BU18: H | BV18: 0.83333333 | BW18: H
C19: ='GRAND TOTALS'!C16 -> Michelle | D19: =AU5 -> W | E19: =AU6 -> T | F19: =AU7 -> T | G19: =AU8 -> U | H19: =AU9 -> B | J19: =AU10 -> C | K19: =AU11 -> P | L19: =AU12 -> S | M19: =AU13 -> T | N19: =AU14 -> M | O19: =AU15 -> J | P19: =AU16 -> C | Q19: =AU17 -> B | R19: =AU18 -> H | S19: =AU19 -> D | T19: =AU20 -> G | U19: =AU21 -> R | V19: =AU22 -> K | W19: =AU23 | X19: =AU24 | Y19: =AU25 -> D | Z19: =SUM(D42:Y42) -> 10 | AA19: =AU26 -> 52 | AC19: =Z19+'Week 6'!AC19 -> 39 | AG19: =TRIM(BB19) -> D | AH19: =TRIM(BC19) -> D | AI19: =TRIM(BD19) -> D | AJ19: =TRIM(BE19) -> D | AK19: =TRIM(BF19) -> A | AL19: =TRIM(BG19) -> A | AM19: =TRIM(BH19) -> D | AN19: =TRIM(BI19) -> D | ... AZ19: =TRIM(BU19) -> D | BB19: D | BC19: D | BD19: D | BE19: D | BF19: A | BG19: A | BH19: D | BI19: D | BJ19: D | BK19: D | BL19: D | BM19: D | BN19: D | BO19: D | BP19: D | BQ19: D | BR19: D | BT19: D | BU19: D | BV19: 0.875 | BW19: D
C20: ='GRAND TOTALS'!C17 -> Teri | D20: =AV5 -> U | E20: =AV6 -> T | F20: =AV7 -> M | G20: =AV8 -> U | H20: =AV9 -> B | J20: =AV10 -> C | K20: =AV11 -> P | L20: =AV12 -> S | M20: =AV13 -> C | N20: =AV14 -> M | O20: =AV15 -> J | P20: =AV16 -> C | Q20: =AV17 -> C | R20: =AV18 -> H | S20: =AV19 -> D | T20: =AV20 -> D | U20: =AV21 -> R | V20: =AV22 -> K | W20: =AV23 | X20: =AV24 | Y20: =AV25 -> D | Z20: =SUM(D43:Y43) -> 11 | AA20: =AV26 -> 32 | AC20: =Z20+'Week 6'!AC20 -> 55 | AG20: =TRIM(BB20) -> D | AH20: =TRIM(BC20) -> G | AI20: =TRIM(BD20) -> D | AJ20: =TRIM(BE20) -> G | AK20: =TRIM(BF20) -> G | AL20: =TRIM(BG20) -> D | AM20: =TRIM(BH20) -> D | AN20: =TRIM(BI20) -> G | ... AZ20: =TRIM(BU20) -> D | BB20: D | BC20: G | BD20: D | BE20: G | BF20: G | BG20: D | BH20: D | BI20: G | BJ20: G | BK20: D | BL20: G | BM20: D | BN20: G | BO20: D | BP20: G | BQ20: D | BR20: D | BT20: D | BU20: D | BV20: 0.91666667 | BW20: D
C21: ='GRAND TOTALS'!C18 -> Steve | D21: =AW5 -> U | E21: =AW6 -> T | F21: =AW7 -> T | G21: =AW8 -> U | H21: =AW9 -> B | J21: =AW10 -> N | K21: =AW11 -> P | L21: =AW12 -> S | M21: =AW13 -> C | N21: =AW14 -> M | O21: =AW15 -> J | P21: =AW16 -> C | Q21: =AW17 -> B | R21: =AW18 -> H | S21: =AW19 -> D | T21: =AW20 -> D | U21: =AW21 -> R | V21: =AW22 -> S | W21: =AW23 | X21: =AW24 | Y21: =AW25 -> D | Z21: =SUM(D44:Y44) -> 11 | AA21: =AW26 -> 47 | AC21: =Z21+'Week 6'!AC21 -> 52 | AG21: =TRIM(BB21) -> R | AH21: =TRIM(BC21) -> L | AI21: =TRIM(BD21) -> R | AJ21: =TRIM(BE21) -> R | AK21: =TRIM(BF21) -> R | AL21: =TRIM(BG21) -> L | AM21: =TRIM(BH21) -> R | AN21: =TRIM(BI21) -> L | ... AZ21: =TRIM(BU21) -> L | BB21: R | BC21: L | BD21: R | BE21: R | BF21: R | BG21: L | BH21: R | BI21: L | BJ21: R | BK21: L | BL21: R | BM21: L | BN21: R | BO21: R | BP21: R | BQ21: R | BR21: R | BT21: R | BU21: L | BV21: 0.95833333 | BW21: L
AG22: =TRIM(BB22) -> S | AH22: =TRIM(BC22) -> K | AI22: =TRIM(BD22) -> S | AJ22: =TRIM(BE22) -> S | AK22: =TRIM(BF22) -> S | AL22: =TRIM(BG22) -> S | AM22: =TRIM(BH22) -> S | AN22: =TRIM(BI22) -> K | ... AZ22: =TRIM(BU22) -> S | BB22: S | BC22: K | BD22: S | BE22: S | BF22: S | BG22: S | BH22: S | BI22: K | BJ22: K | BK22: K | BL22: K | BM22: S | BN22: S | BO22: K | BP22: K | BQ22: K | BR22: S | BT22: K | BU22: S | BV22: 1 | BW22: S
C23: Jamie | D23: =AY5 -> U | E23: =AY6 -> T | F23: =AY7 -> T | G23: =AY8 -> U | H23: =AY9 -> B | J23: =AY10 -> C | K23: =AY11 -> P | L23: =AY12 -> A | M23: =AY13 -> C | N23: =AY14 -> M | O23: =AY15 -> M | P23: =AY16 -> T | Q23: =AY17 -> C | R23: =AY18 -> H | S23: =AY19 -> D | T23: =AY20 -> D | U23: =AY21 -> R | V23: =AY22 -> K | W23: =AY23 | X23: =AY24 | Y23: =AY25 -> P | Z23: =SUM(D46:Y46) -> 14 | AA23: =AY26 -> 44 | AC23: =Z23+'Week 6'!AC23 -> 55 | AG23: =TRIM(BB23) | AH23: =TRIM(BC23) | AI23: =TRIM(BD23) | AJ23: =TRIM(BE23) | AK23: =TRIM(BF23) | AL23: =TRIM(BG23) | AM23: =TRIM(BH23) | AN23: =TRIM(BI23) | ... AZ23: =TRIM(BU23) | BV23: 1.125 | BW23: D
C24: Kelly | D24: =AZ5 -> U | E24: =AZ6 -> S | F24: =AZ7 -> T | G24: =AZ8 -> H | H24: =AZ9 -> B | J24: =AZ10 -> C | K24: =AZ11 -> P | L24: =AZ12 -> A | M24: =AZ13 -> T | N24: =AZ14 -> M | O24: =AZ15 -> J | P24: =AZ16 -> C | Q24: =AZ17 -> B | R24: =AZ18 -> H | S24: =AZ19 -> D | T24: =AZ20 -> D | U24: =AZ21 -> L | V24: =AZ22 -> S | W24: =AZ23 | X24: =AZ24 | Y24: =AZ25 -> P | Z24: =SUM(D47:Y47) -> 10 | AA24: =AZ26 -> 43 | AC24: =Z24+'Week 6'!AC24 -> 51 | AG24: =TRIM(BB24) | AH24: =TRIM(BC24) | AI24: =TRIM(BD24) | AJ24: =TRIM(BE24) | AK24: =TRIM(BF24) | AL24: =TRIM(BG24) | AM24: =TRIM(BH24) | AN24: =TRIM(BI24) | ... AZ24: =TRIM(BU24) | BV24: Tiebreaker: | BW24: 38
AG25: =TRIM(BB25) -> P | AH25: =TRIM(BC25) -> P | AI25: =TRIM(BD25) -> D | AJ25: =TRIM(BE25) -> D | AK25: =TRIM(BF25) -> P | AL25: =TRIM(BG25) -> P | AM25: =TRIM(BH25) -> P | AN25: =TRIM(BI25) -> D | ... AZ25: =TRIM(BU25) -> P | BB25: P | BC25: P | BD25: D | BE25: D | BF25: P | BG25: P | BH25: P | BI25: D | BJ25: D | BK25: D | BL25: P | BM25: D | BN25: P | BO25: P | BP25: D | BQ25: D | BR25: D | BT25: P | BU25: P
G26: Correct Pick | N26: Upset Pick | AG26: =TRIM(BB26) -> 50 | AH26: =TRIM(BC26) -> 32 | AI26: =TRIM(BD26) -> 43 | AJ26: =TRIM(BE26) -> 46 | AK26: =TRIM(BF26) -> 45 | AL26: =TRIM(BG26) -> 46 | AM26: =TRIM(BH26) -> 42 | AN26: =TRIM(BI26) -> 49 | ... AZ26: =TRIM(BU26) -> 43 | BB26: 50 | BC26: 32 | BD26: 43 | BE26: 46 | BF26: 45 | BG26: 46 | BH26: 42 | BI26: 49 | BJ26: 43 | BK26: 41 | BL26: 28 | BM26: 38 | BN26: 44 | BO26: 45 | BP26: 52 | BQ26: 32 | BR26: 47 | BT26: 44 | BU26: 43
C28: =C5 -> Fred | D28: =IF(D5=D$4,1,0) -> 0 | E28: =IF(E5=E$4,1,0) -> 0 | F28: =IF(F5=F$4,1,0) -> 1 | G28: =IF(G5=G$4,1,0) -> 1 | H28: =IF(H5=H$4,1,0) -> 1 | J28: =IF(J5=J$4,1,0) -> 1 | K28: =IF(K5=K$4,1,0) -> 1 | L28: =IF(L5=L$4,1,0) -> 0 | M28: =IF(M5=M$4,1,0) -> 1 | N28: =IF(N5=N$4,1,0) -> 1 | O28: =IF(O5=O$4,1,0) -> 0 | P28: =IF(P5=P$4,1,0) -> 0 | Q28: =IF(Q5=Q$4,1,0) -> 1 | ... Y28: =IF(Y5=Y$4,1,0) -> 0
C29: =C6 -> Joni | D29: =IF(D6=D$4,1,0) -> 1 | E29: =IF(E6=E$4,1,0) -> 1 | F29: =IF(F6=F$4,1,0) -> 1 | G29: =IF(G6=G$4,1,0) -> 1 | H29: =IF(H6=H$4,1,0) -> 1 | J29: =IF(J6=J$4,1,0) -> 1 | K29: =IF(K6=K$4,1,0) -> 0 | L29: =IF(L6=L$4,1,0) -> 1 | M29: =IF(M6=M$4,1,0) -> 1 | N29: =IF(N6=N$4,1,0) -> 1 | O29: =IF(O6=O$4,1,0) -> 0 | P29: =IF(P6=P$4,1,0) -> 0 | Q29: =IF(Q6=Q$4,1,0) -> 0 | ... Y29: =IF(Y6=Y$4,1,0) -> 0
C30: =C7 -> Tara | D30: =IF(D7=D$4,1,0) -> 1 | E30: =IF(E7=E$4,1,0) -> 1 | F30: =IF(F7=F$4,1,0) -> 1 | G30: =IF(G7=G$4,1,0) -> 1 | H30: =IF(H7=H$4,1,0) -> 1 | J30: =IF(J7=J$4,1,0) -> 1 | K30: =IF(K7=K$4,1,0) -> 1 | L30: =IF(L7=L$4,1,0) -> 0 | M30: =IF(M7=M$4,1,0) -> 0 | N30: =IF(N7=N$4,1,0) -> 1 | O30: =IF(O7=O$4,1,0) -> 0 | P30: =IF(P7=P$4,1,0) -> 0 | Q30: =IF(Q7=Q$4,1,0) -> 0 | ... Y30: =IF(Y7=Y$4,1,0) -> 1
C31: =C8 -> Roger | D31: =IF(D8=D$4,1,0) -> 0 | E31: =IF(E8=E$4,1,0) -> 0 | F31: =IF(F8=F$4,1,0) -> 1 | G31: =IF(G8=G$4,1,0) -> 1 | H31: =IF(H8=H$4,1,0) -> 1 | J31: =IF(J8=J$4,1,0) -> 0 | K31: =IF(K8=K$4,1,0) -> 1 | L31: =IF(L8=L$4,1,0) -> 0 | M31: =IF(M8=M$4,1,0) -> 0 | N31: =IF(N8=N$4,1,0) -> 1 | O31: =IF(O8=O$4,1,0) -> 0 | P31: =IF(P8=P$4,1,0) -> 0 | Q31: =IF(Q8=Q$4,1,0) -> 0 | ... Y31: =IF(Y8=Y$4,1,0) -> 1
C32: =C9 -> Jeanne | D32: =IF(D9=D$4,1,0) -> 0 | E32: =IF(E9=E$4,1,0) -> 0 | F32: =IF(F9=F$4,1,0) -> 0 | G32: =IF(G9=G$4,1,0) -> 0 | H32: =IF(H9=H$4,1,0) -> 0 | J32: =IF(J9=J$4,1,0) -> 1 | K32: =IF(K9=K$4,1,0) -> 1 | L32: =IF(L9=L$4,1,0) -> 1 | M32: =IF(M9=M$4,1,0) -> 1 | N32: =IF(N9=N$4,1,0) -> 1 | O32: =IF(O9=O$4,1,0) -> 1 | P32: =IF(P9=P$4,1,0) -> 0 | Q32: =IF(Q9=Q$4,1,0) -> 1 | ... Y32: =IF(Y9=Y$4,1,0) -> 0
C33: =C10 -> Jackie | D33: =IF(D10=D$4,1,0) -> 0 | E33: =IF(E10=E$4,1,0) -> 1 | F33: =IF(F10=F$4,1,0) -> 1 | G33: =IF(G10=G$4,1,0) -> 1 | H33: =IF(H10=H$4,1,0) -> 1 | J33: =IF(J10=J$4,1,0) -> 1 | K33: =IF(K10=K$4,1,0) -> 0 | L33: =IF(L10=L$4,1,0) -> 1 | M33: =IF(M10=M$4,1,0) -> 0 | N33: =IF(N10=N$4,1,0) -> 1 | O33: =IF(O10=O$4,1,0) -> 0 | P33: =IF(P10=P$4,1,0) -> 0 | Q33: =IF(Q10=Q$4,1,0) -> 0 | ... Y33: =IF(Y10=Y$4,1,0) -> 0
C34: =C11 -> Darla | D34: =IF(D11=D$4,1,0) -> 0 | E34: =IF(E11=E$4,1,0) -> 0 | F34: =IF(F11=F$4,1,0) -> 1 | G34: =IF(G11=G$4,1,0) -> 1 | H34: =IF(H11=H$4,1,0) -> 1 | J34: =IF(J11=J$4,1,0) -> 1 | K34: =IF(K11=K$4,1,0) -> 1 | L34: =IF(L11=L$4,1,0) -> 0 | M34: =IF(M11=M$4,1,0) -> 1 | N34: =IF(N11=N$4,1,0) -> 1 | O34: =IF(O11=O$4,1,0) -> 0 | P34: =IF(P11=P$4,1,0) -> 0 | Q34: =IF(Q11=Q$4,1,0) -> 0 | ... Y34: =IF(Y11=Y$4,1,0) -> 0
C35: =C12 -> Kieran | D35: =IF(D12=D$4,1,0) -> 0 | E35: =IF(E12=E$4,1,0) -> 0 | F35: =IF(F12=F$4,1,0) -> 0 | G35: =IF(G12=G$4,1,0) -> 1 | H35: =IF(H12=H$4,1,0) -> 0 | J35: =IF(J12=J$4,1,0) -> 0 | K35: =IF(K12=K$4,1,0) -> 1 | L35: =IF(L12=L$4,1,0) -> 0 | M35: =IF(M12=M$4,1,0) -> 1 | N35: =IF(N12=N$4,1,0) -> 1 | O35: =IF(O12=O$4,1,0) -> 0 | P35: =IF(P12=P$4,1,0) -> 0 | Q35: =IF(Q12=Q$4,1,0) -> 0 | ... Y35: =IF(Y12=Y$4,1,0) -> 1
C36: =C13 -> Kaidan | D36: =IF(D13=D$4,1,0) -> 0 | E36: =IF(E13=E$4,1,0) -> 0 | F36: =IF(F13=F$4,1,0) -> 0 | G36: =IF(G13=G$4,1,0) -> 0 | H36: =IF(H13=H$4,1,0) -> 0 | J36: =IF(J13=J$4,1,0) -> 1 | K36: =IF(K13=K$4,1,0) -> 1 | L36: =IF(L13=L$4,1,0) -> 0 | M36: =IF(M13=M$4,1,0) -> 0 | N36: =IF(N13=N$4,1,0) -> 1 | O36: =IF(O13=O$4,1,0) -> 0 | P36: =IF(P13=P$4,1,0) -> 0 | Q36: =IF(Q13=Q$4,1,0) -> 0 | ... Y36: =IF(Y13=Y$4,1,0) -> 1
C37: =C14 -> Jim | D37: =IF(D14=D$4,1,0) -> 1 | E37: =IF(E14=E$4,1,0) -> 0 | F37: =IF(F14=F$4,1,0) -> 0 | G37: =IF(G14=G$4,1,0) -> 1 | H37: =IF(H14=H$4,1,0) -> 1 | J37: =IF(J14=J$4,1,0) -> 1 | K37: =IF(K14=K$4,1,0) -> 1 | L37: =IF(L14=L$4,1,0) -> 0 | M37: =IF(M14=M$4,1,0) -> 1 | N37: =IF(N14=N$4,1,0) -> 1 | O37: =IF(O14=O$4,1,0) -> 0 | P37: =IF(P14=P$4,1,0) -> 1 | Q37: =IF(Q14=Q$4,1,0) -> 1 | ... Y37: =IF(Y14=Y$4,1,0) -> 1
C38: =C15 -> Lisa | D38: =IF(D15=D$4,1,0) -> 1 | E38: =IF(E15=E$4,1,0) -> 1 | F38: =IF(F15=F$4,1,0) -> 1 | G38: =IF(G15=G$4,1,0) -> 1 | H38: =IF(H15=H$4,1,0) -> 1 | J38: =IF(J15=J$4,1,0) -> 0 | K38: =IF(K15=K$4,1,0) -> 1 | L38: =IF(L15=L$4,1,0) -> 0 | M38: =IF(M15=M$4,1,0) -> 0 | N38: =IF(N15=N$4,1,0) -> 1 | O38: =IF(O15=O$4,1,0) -> 0 | P38: =IF(P15=P$4,1,0) -> 0 | Q38: =IF(Q15=Q$4,1,0) -> 0 | ... Y38: =IF(Y15=Y$4,1,0) -> 0
C39: =C16 -> Stuart | D39: =IF(D16=D$4,1,0) -> 1 | E39: =IF(E16=E$4,1,0) -> 0 | F39: =IF(F16=F$4,1,0) -> 0 | G39: =IF(G16=G$4,1,0) -> 0 | H39: =IF(H16=H$4,1,0) -> 1 | J39: =IF(J16=J$4,1,0) -> 0 | K39: =IF(K16=K$4,1,0) -> 0 | L39: =IF(L16=L$4,1,0) -> 1 | M39: =IF(M16=M$4,1,0) -> 1 | N39: =IF(N16=N$4,1,0) -> 0 | O39: =IF(O16=O$4,1,0) -> 0 | P39: =IF(P16=P$4,1,0) -> 0 | Q39: =IF(Q16=Q$4,1,0) -> 1 | ... Y39: =IF(Y16=Y$4,1,0) -> 1
... C45: =C22 -> 0 | D45: =IF(D22=D$4,1,0) -> 0 | E45: =IF(E22=E$4,1,0) -> 0 | F45: =IF(F22=F$4,1,0) -> 0 | G45: =IF(G22=G$4,1,0) -> 0 | H45: =IF(H22=H$4,1,0) -> 0 | J45: =IF(J22=J$4,1,0) -> 0 | K45: =IF(K22=K$4,1,0) -> 0 | L45: =IF(L22=L$4,1,0) -> 0 | M45: =IF(M22=M$4,1,0) -> 0 | N45: =IF(N22=N$4,1,0) -> 0 | O45: =IF(O22=O$4,1,0) -> 0 | P45: =IF(P22=P$4,1,0) -> 0 | Q45: =IF(Q22=Q$4,1,0) -> 0 | ... Y45: =IF(Y22=Y$4,1,0) -> 0
D46: =IF(D23=D$4,1,0) -> 0 | E46: =IF(E23=E$4,1,0) -> 0 | F46: =IF(F23=F$4,1,0) -> 1 | G46: =IF(G23=G$4,1,0) -> 1 | H46: =IF(H23=H$4,1,0) -> 1 | J46: =IF(J23=J$4,1,0) -> 1 | K46: =IF(K23=K$4,1,0) -> 1 | L46: =IF(L23=L$4,1,0) -> 1 | M46: =IF(M23=M$4,1,0) -> 1 | N46: =IF(N23=N$4,1,0) -> 1 | O46: =IF(O23=O$4,1,0) -> 1 | P46: =IF(P23=P$4,1,0) -> 1 | Q46: =IF(Q23=Q$4,1,0) -> 1 | ... Y46: =IF(Y23=Y$4,1,0) -> 0
D47: =IF(D24=D$4,1,0) -> 0 | E47: =IF(E24=E$4,1,0) -> 1 | F47: =IF(F24=F$4,1,0) -> 1 | G47: =IF(G24=G$4,1,0) -> 0 | H47: =IF(H24=H$4,1,0) -> 1 | J47: =IF(J24=J$4,1,0) -> 1 | K47: =IF(K24=K$4,1,0) -> 1 | L47: =IF(L24=L$4,1,0) -> 1 | M47: =IF(M24=M$4,1,0) -> 0 | N47: =IF(N24=N$4,1,0) -> 1 | O47: =IF(O24=O$4,1,0) -> 0 | P47: =IF(P24=P$4,1,0) -> 0 | Q47: =IF(Q24=Q$4,1,0) -> 0 | ... Y47: =IF(Y24=Y$4,1,0) -> 0

Sheet Week 8
E2: col | K2: wk | M2: No | P2: 8 | U2: pro
D3: Arizona @ Texas Tech | E3: South Carolina @ Oklahoma | F3: Northwestern @ Oregon | G3: Washington State @ San Diego State | H3: Barton @ Shorter | J3: Carolina @ Green Bay | K3: Baltimore @ Buffalo | L3: Tennessee @ Cincinnati | M3: Arizona @ Dallas | N3: Minnesota @ Detroit | O3: Las Vegas @ Jets | P3: Cleveland @ Pittsburgh | Q3: Atlanta @ Tampa Bay | R3: Indianapolis @ Jacksonville | S3: Chargers @ Rams | T3: Kansas City @ Denver | U3: New England @ Miami | V3: Philadelphia @ Washington | Y3: Chicago @ Seattle | Z3: TOTAL | AA3: TIEBREAKER | AC3: GRAND TOTAL | AG3: =C5 -> Fred | AH3: =C6 -> Joni | AI3: =C7 -> Tara | AJ3: =C8 -> Roger | AK3: =C9 -> Jeanne | AL3: =C10 -> Jackie | AM3: =C11 -> Darla | AN3: =C12 -> Kieran | AO3: =C13 -> Kaidan | AP3: =C14 -> Jim | AQ3: =C15 -> Lisa | AR3: =C16 -> Stuart | AS3: =C17 -> Debbie | AT3: =C18 -> Scott | AU3: =C19 -> Michelle | AV3: =C20 -> Teri | AW3: =C21 -> Steve | AX3: =C22 -> Jamie | AY3: =C23 -> Kelly | BA3: =C5 -> Fred | BB3: =C6 -> Joni | BC3: =C7 -> Tara | BD3: =C8 -> Roger | BE3: Jeanne | BF3: =C10 -> Jackie | BG3: =C11 -> Darla | BH3: =C12 -> Kieran | BI3: =C13 -> Kaidan | BJ3: =C14 -> Jim | BK3: =C15 -> Lisa | BL3: =C16 -> Stuart | BM3: =C17 -> Debbie | BN3: =C18 -> Scott | BO3: =C19 -> Michelle | BP3: =C20 -> Teri | BQ3: =C21 -> Steve | BR3: =C22 -> Jamie | BS3: =C23 -> Kelly
C4: Winners | D4: T | E4: S | F4: O | G4: S | H4: S | J4: G | K4: BF | L4: C | M4: A | N4: D | O4: L | P4: P | Q4: T | R4: J | S4: R | T4: D | U4: N | V4: W | W4: . | X4: . | Y4: C
C5: ='GRAND TOTALS'!C2 -> Fred | D5: =AG5 -> T | E5: =AG6 -> O | F5: =AG7 -> O | G5: =AG8 -> W | H5: =AG9 -> S | J5: =AG10 -> G | K5: =AG11 -> BF | L5: =AG12 -> C | M5: =AG13 -> D | N5: =AG14 -> D | O5: =AG15 -> L | P5: =AG16 -> P | Q5: =AG17 -> T | R5: =AG18 -> J | S5: =AG19 -> R | T5: =AG20 -> K | U5: =AG21 -> N | V5: =AG22 -> W | W5: =AG23 | X5: =AG24 | Y5: =AG25 -> S | Z5: =SUM(D28:Y28) -> 14 | AA5: =AG26 -> 30 | AC5: =Z5+'Week 7'!AC5 -> 64 | AG5: =TRIM(BA5) -> T | AH5: =TRIM(BB5) -> T | AI5: =TRIM(BC5) -> T | AJ5: =TRIM(BD5) -> T | AK5: =TRIM(BE5) -> A | AL5: =TRIM(BF5) -> A | AM5: =TRIM(BG5) -> A | AN5: =TRIM(BH5) -> T | ... AY5: =TRIM(BS5) -> T | BA5: T | BB5: T | BC5: T | BD5: T | BE5: A | BF5: A | BG5: A | BH5: T | BI5: T | BJ5: T | BK5: T | BL5: T | BM5: T | BN5: T | BO5: T | BP5: T | BQ5: T | BR5: T | BS5: T | BT5: 0.041666667 | BU5: T
C6: ='GRAND TOTALS'!C3 -> Joni | D6: =AH5 -> T | E6: =AH6 -> O | F6: =AH7 -> O | G6: =AH8 -> S | H6: =AH9 -> B | J6: =AH10 -> G | K6: =AH11 -> BF | L6: =AH12 -> C | M6: =AH13 -> D | N6: =AH14 -> D | O6: =AH15 -> J | P6: =AH16 -> P | Q6: =AH17 -> T | R6: =AH18 -> J | S6: =AH19 -> R | T6: =AH20 -> K | U6: =AH21 -> N | V6: =AH22 -> P | W6: =AH23 | X6: =AH24 | Y6: =AH25 -> S | Z6: =SUM(D29:Y29) -> 12 | AA6: =AH26 -> 55 | AC6: =Z6+'Week 7'!AC6 -> 59 | AG6: =TRIM(BA6) -> O | AH6: =TRIM(BB6) -> O | AI6: =TRIM(BC6) -> O | AJ6: =TRIM(BD6) -> O | AK6: =TRIM(BE6) -> O | AL6: =TRIM(BF6) -> S | AM6: =TRIM(BG6) -> O | AN6: =TRIM(BH6) -> S | ... AY6: =TRIM(BS6) -> O | BA6: O | BB6: O | BC6: O | BD6: O | BE6: O | BF6: S | BG6: O | BH6: S | BI6: O | BJ6: O | BK6: O | BL6: O | BM6: O | BN6: O | BO6: O | BP6: O | BQ6: O | BR6: S | BS6: O | BT6: 0.083333333 | BU6: O
C7: ='GRAND TOTALS'!C4 -> Tara | D7: =AI5 -> T | E7: =AI6 -> O | F7: =AI7 -> O | G7: =AI8 -> S | H7: =AI9 -> S | J7: =AI10 -> G | K7: =AI11 -> BF | L7: =AI12 -> C | M7: =AI13 -> D | N7: =AI14 -> D | O7: =AI15 -> J | P7: =AI16 -> P | Q7: =AI17 -> T | R7: =AI18 -> J | S7: =AI19 -> R | T7: =AI20 -> D | U7: =AI21 -> N | V7: =AI22 -> W | W7: =AI23 | X7: =AI24 | Y7: =AI25 -> S | Z7: =SUM(D30:Y30) -> 15 | AA7: =AI26 -> 43 | AC7: =Z7+'Week 7'!AC7 -> 72 | AG7: =TRIM(BA7) -> O | AH7: =TRIM(BB7) -> O | AI7: =TRIM(BC7) -> O | AJ7: =TRIM(BD7) -> N | AK7: =TRIM(BE7) -> N | AL7: =TRIM(BF7) -> N | AM7: =TRIM(BG7) -> O | AN7: =TRIM(BH7) -> N | ... AY7: =TRIM(BS7) -> N | BA7: O | BB7: O | BC7: O | BD7: N | BE7: N | BF7: N | BG7: O | BH7: N | BI7: N | BJ7: N | BK7: N | BL7: O | BM7: O | BN7: O | BO7: O | BP7: O | BQ7: O | BR7: O | BS7: N | BT7: 0.125 | BU7: O
C8: ='GRAND TOTALS'!C5 -> Roger | D8: =AJ5 -> T | E8: =AJ6 -> O | F8: =AJ7 -> N | G8: =AJ8 -> S | H8: =AJ9 -> S | J8: =AJ10 -> G | K8: =AJ11 -> BF | L8: =AJ12 -> C | M8: =AJ13 -> D | N8: =AJ14 -> D | O8: =AJ15 -> L | P8: =AJ16 -> P | Q8: =AJ17 -> A | R8: =AJ18 -> J | S8: =AJ19 -> R | T8: =AJ20 -> D | U8: =AJ21 -> N | V8: =AJ22 -> P | W8: =AJ23 | X8: =AJ24 | Y8: =AJ25 -> C | Z8: =SUM(D31:Y31) -> 14 | AA8: =AJ26 -> 38 | AC8: =Z8+'Week 7'!AC8 -> 74 | AG8: =TRIM(BA8) -> W | AH8: =TRIM(BB8) -> S | AI8: =TRIM(BC8) -> S | AJ8: =TRIM(BD8) -> S | AK8: =TRIM(BE8) -> S | AL8: =TRIM(BF8) -> W | AM8: =TRIM(BG8) -> S | AN8: =TRIM(BH8) -> S | ... AY8: =TRIM(BS8) -> W | BA8: W | BB8: S | BC8: S | BD8: S | BE8: S | BF8: W | BG8: S | BH8: S | BI8: S | BJ8: S | BK8: S | BL8: W | BM8: S | BN8: S | BO8: W | BP8: S | BQ8: S | BR8: S | BS8: W | BT8: 0.16666667 | BU8: W
C9: ='GRAND TOTALS'!C6 -> Jeanne | D9: =AK5 -> A | E9: =AK6 -> O | F9: =AK7 -> N | G9: =AK8 -> S | H9: =AK9 -> B | J9: =AK10 -> C | K9: =AK11 -> BL | L9: =AK12 -> C | M9: =AK13 -> A | N9: =AK14 -> D | O9: =AK15 -> L | P9: =AK16 -> P | Q9: =AK17 -> A | R9: =AK18 -> J | S9: =AK19 -> C | T9: =AK20 -> D | U9: =AK21 -> N | V9: =AK22 -> W | W9: =AK23 | X9: =AK24 | Y9: =AK25 -> C | Z9: =SUM(D32:Y32) -> 11 | AA9: =AK26 -> 45 | AC9: =Z9+'Week 7'!AC9 -> 61 | AG9: =TRIM(BA9) -> S | AH9: =TRIM(BB9) -> B | AI9: =TRIM(BC9) -> S | AJ9: =TRIM(BD9) -> S | AK9: =TRIM(BE9) -> B | AL9: =TRIM(BF9) -> B | AM9: =TRIM(BG9) -> B | AN9: =TRIM(BH9) -> S | ... AY9: =TRIM(BS9) -> S | BA9: S | BB9: B | BC9: S | BD9: S | BE9: B | BF9: B | BG9: B | BH9: S | BI9: S | BJ9: S | BK9: S | BL9: B | BM9: S | BN9: S | BO9: B | BP9: S | BQ9: S | BR9: S | BS9: S | BT9: 0.20833333 | BU9: B
C10: ='GRAND TOTALS'!C7 -> Jackie | D10: =AL5 -> A | E10: =AL6 -> S | F10: =AL7 -> N | G10: =AL8 -> W | H10: =AL9 -> B | J10: =AL10 -> C | K10: =AL11 -> BL | L10: =AL12 -> T | M10: =AL13 -> A | N10: =AL14 -> M | O10: =AL15 -> L | P10: =AL16 -> C | Q10: =AL17 -> A | R10: =AL18 -> I | S10: =AL19 -> C | T10: =AL20 -> K | U10: =AL21 -> N | V10: =AL22 -> P | W10: =AL23 | X10: =AL24 | Y10: =AL25 -> C | Z10: =SUM(D33:Y33) -> 5 | AA10: =AL26 -> 42 | AC10: =Z10+'Week 7'!AC10 -> 55 | AG10: =TRIM(BA10) -> G | AH10: =TRIM(BB10) -> G | AI10: =TRIM(BC10) -> G | AJ10: =TRIM(BD10) -> G | AK10: =TRIM(BE10) -> C | AL10: =TRIM(BF10) -> C | AM10: =TRIM(BG10) -> G | AN10: =TRIM(BH10) -> G | ... AY10: =TRIM(BS10) -> G | BA10: G | BB10: G | BC10: G | BD10: G | BE10: C | BF10: C | BG10: G | BH10: G | BJ10: G | BK10: G | BL10: G | BM10: G | BN10: G | BO10: C | BP10: G | BQ10: G | BR10: G | BS10: G | BT10: 0.5 | BU10: C
C11: ='GRAND TOTALS'!C8 -> Darla | D11: =AM5 -> A | E11: =AM6 -> O | F11: =AM7 -> O | G11: =AM8 -> S | H11: =AM9 -> B | J11: =AM10 -> G | K11: =AM11 -> BF | L11: =AM12 -> C | M11: =AM13 -> D | N11: =AM14 -> D | O11: =AM15 -> J | P11: =AM16 -> P | Q11: =AM17 -> T | R11: =AM18 -> J | S11: =AM19 -> R | T11: =AM20 -> K | U11: =AM21 -> N | V11: =AM22 -> W | W11: =AM23 | X11: =AM24 | Y11: =AM25 -> S | Z11: =SUM(D34:Y34) -> 12 | AA11: =AM26 -> 42 | AC11: =Z11+'Week 7'!AC11 -> 64 | AG11: =TRIM(BA11) -> BF | AH11: =TRIM(BB11) -> BF | AI11: =TRIM(BC11) -> BF | AJ11: =TRIM(BD11) -> BF | AK11: =TRIM(BE11) -> BL | AL11: =TRIM(BF11) -> BL | AM11: =TRIM(BG11) -> BF | AN11: =TRIM(BH11) -> BL | ... AY11: =TRIM(BS11) -> BF | BA11: BF | BB11: BF | BC11: BF | BD11: BF | BE11: BL | BF11: BL | BG11: BF | BH11: BL | BI11: BF | BJ11: BF | BK11: BF | BL11: BF | BM11: BF | BN11: BF | BO11: BF | BP11: BF | BQ11: BF | BR11: BF | BS11: BF | BT11: 0.54166667 | BU11: BF
C12: ='GRAND TOTALS'!C9 -> Kieran | D12: =AN5 -> T | E12: =AN6 -> S | F12: =AN7 -> N | G12: =AN8 -> S | H12: =AN9 -> S | J12: =AN10 -> G | K12: =AN11 -> BL | L12: =AN12 -> C | M12: =AN13 -> D | N12: =AN14 -> D | O12: =AN15 -> L | P12: =AN16 -> P | Q12: =AN17 -> A | R12: =AN18 -> J | S12: =AN19 -> R | T12: =AN20 -> K | U12: =AN21 -> N | V12: =AN22 -> W | W12: =AN23 | X12: =AN24 | Y12: =AN25 -> S | Z12: =SUM(D35:Y35) -> 13 | AA12: =AN26 -> 52 | AC12: =Z12+'Week 7'!AC12 -> 60 | AG12: =TRIM(BA12) -> C | AH12: =TRIM(BB12) -> C | AI12: =TRIM(BC12) -> C | AJ12: =TRIM(BD12) -> C | AK12: =TRIM(BE12) -> C | AL12: =TRIM(BF12) -> T | AM12: =TRIM(BG12) -> C | AN12: =TRIM(BH12) -> C | ... AY12: =TRIM(BS12) -> T | BA12: C | BB12: C | BC12: C | BD12: C | BE12: C | BF12: T | BG12: C | BH12: C | BI12: C | BJ12: C | BK12: C | BL12: C | BM12: C | BN12: C | BO12: T | BP12: C | BQ12: C | BR12: C | BS12: T | BT12: 0.58333333 | BU12: T
C13: ='GRAND TOTALS'!C10 -> Kaidan | D13: =AO5 -> T | E13: =AO6 -> O | F13: =AO7 -> N | G13: =AO8 -> S | H13: =AO9 -> S | J13: =AO10 | K13: =AO11 -> BF | L13: =AO12 -> C | M13: =AO13 -> D | N13: =AO14 -> D | O13: =AO15 -> L | P13: =AO16 -> P | Q13: =AO17 -> T | R13: =AO18 -> J | S13: =AO19 -> R | T13: =AO20 -> D | U13: =AO21 -> N | V13: =AO22 -> W | W13: =AO23 | X13: =AO24 | Y13: =AO25 -> C | Z13: =SUM(D36:Y36) -> 15 | AA13: =AO26 -> 51 | AC13: =Z13+'Week 7'!AC13 -> 69 | AG13: =TRIM(BA13) -> D | AH13: =TRIM(BB13) -> D | AI13: =TRIM(BC13) -> D | AJ13: =TRIM(BD13) -> D | AK13: =TRIM(BE13) -> A | AL13: =TRIM(BF13) -> A | AM13: =TRIM(BG13) -> D | AN13: =TRIM(BH13) -> D | ... AY13: =TRIM(BS13) -> D | BA13: D | BB13: D | BC13: D | BD13: D | BE13: A | BF13: A | BG13: D | BH13: D | BI13: D | BJ13: D | BK13: D | BL13: D | BM13: D | BN13: D | BO13: A | BP13: D | BQ13: D | BR13: D | BS13: D | BT13: 0.625 | BU13: A
C14: ='GRAND TOTALS'!C11 -> Jim | D14: =AP5 -> T | E14: =AP6 -> O | F14: =AP7 -> N | G14: =AP8 -> S | H14: =AP9 -> S | J14: =AP10 -> G | K14: =AP11 -> BF | L14: =AP12 -> C | M14: =AP13 -> D | N14: =AP14 -> D | O14: =AP15 -> J | P14: =AP16 -> P | Q14: =AP17 -> T | R14: =AP18 -> J | S14: =AP19 -> R | T14: =AP20 -> D | U14: =AP21 -> N | V14: =AP22 -> W | W14: =AP23 | X14: =AP24 | Y14: =AP25 -> S | Z14: =SUM(D37:Y37) -> 14 | AA14: =AP26 -> 45 | AC14: =Z14+'Week 7'!AC14 -> 69 | AG14: =TRIM(BA14) -> D | AH14: =TRIM(BB14) -> D | AI14: =TRIM(BC14) -> D | AJ14: =TRIM(BD14) -> D | AK14: =TRIM(BE14) -> D | AL14: =TRIM(BF14) -> M | AM14: =TRIM(BG14) -> D | AN14: =TRIM(BH14) -> D | ... AY14: =TRIM(BS14) -> D | BA14: D | BB14: D | BC14: D | BD14: D | BE14: D | BF14: M | BG14: D | BH14: D | BI14: D | BJ14: D | BK14: M | BL14: D | BM14: M | BN14: D | BO14: D | BP14: D | BQ14: D | BR14: D | BS14: D | BT14: 0.66666667 | BU14: D
C15: ='GRAND TOTALS'!C12 -> Lisa | D15: =AQ5 -> T | E15: =AQ6 -> O | F15: =AQ7 -> N | G15: =AQ8 -> S | H15: =AQ9 -> S | J15: =AQ10 -> G | K15: =AQ11 -> BF | L15: =AQ12 -> C | M15: =AQ13 -> D | N15: =AQ14 -> M | O15: =AQ15 -> L | P15: =AQ16 -> P | Q15: =AQ17 -> T | R15: =AQ18 -> J | S15: =AQ19 -> R | T15: =AQ20 -> K | U15: =AQ21 -> N | V15: =AQ22 -> P | W15: =AQ23 | X15: =AQ24 | Y15: =AQ25 -> S | Z15: =SUM(D38:Y38) -> 12 | AA15: =AQ26 -> 35 | AC15: =Z15+'Week 7'!AC15 -> 65 | AG15: =TRIM(BA15) -> L | AH15: =TRIM(BB15) -> J | AI15: =TRIM(BC15) -> J | AJ15: =TRIM(BD15) -> L | AK15: =TRIM(BE15) -> L | AL15: =TRIM(BF15) -> L | AM15: =TRIM(BG15) -> J | AN15: =TRIM(BH15) -> L | ... AY15: =TRIM(BS15) -> L | BA15: L | BB15: J | BC15: J | BD15: L | BE15: L | BF15: L | BG15: J | BH15: L | BI15: L | BJ15: J | BK15: L | BL15: L | BM15: J | BN15: L | BO15: J | BP15: L | BQ15: J | BR15: J | BS15: L | BT15: 0.70833333 | BU15: J
C16: ='GRAND TOTALS'!C13 -> Stuart | D16: =AR5 -> T | E16: =AR6 -> O | F16: =AR7 -> O | G16: =AR8 -> W | H16: =AR9 -> B | J16: =AR10 -> G | K16: =AR11 -> BF | L16: =AR12 -> C | M16: =AR13 -> D | N16: =AR14 -> D | O16: =AR15 -> L | P16: =AR16 -> C | Q16: =AR17 -> A | R16: =AR18 -> J | S16: =AR19 -> R | T16: =AR20 -> D | U16: =AR21 -> N | V16: =AR22 -> W | W16: =AR23 | X16: =AR24 | Y16: =AR25 -> C | Z16: =SUM(D39:Y39) -> 13 | AA16: =AR26 -> 51 | AC16: =Z16+'Week 7'!AC16 -> 60 | AG16: =TRIM(BA16) -> P | AH16: =TRIM(BB16) -> P | AI16: =TRIM(BC16) -> P | AJ16: =TRIM(BD16) -> P | AK16: =TRIM(BE16) -> P | AL16: =TRIM(BF16) -> C | AM16: =TRIM(BG16) -> P | AN16: =TRIM(BH16) -> P | ... AY16: =TRIM(BS16) -> P | BA16: P | BB16: P | BC16: P | BD16: P | BE16: P | BF16: C | BG16: P | BH16: P | BI16: P | BJ16: P | BK16: P | BL16: C | BM16: P | BN16: P | BO16: P | BP16: P | BQ16: P | BR16: P | BS16: P | BT16: 0.75 | BU16: P
C17: ='GRAND TOTALS'!C14 -> Debbie | D17: =AS5 -> T | E17: =AS6 -> O | F17: =AS7 -> O | G17: =AS8 -> S | H17: =AS9 -> S | J17: =AS10 -> G | K17: =AS11 -> BF | L17: =AS12 -> C | M17: =AS13 -> D | N17: =AS14 -> M | O17: =AS15 -> J | P17: =AS16 -> P | Q17: =AS17 -> T | R17: =AS18 -> J | S17: =AS19 -> R | T17: =AS20 -> D | U17: =AS21 -> N | V17: =AS22 -> P | W17: =AS23 | X17: =AS24 | Y17: =AS25 -> S | Z17: =SUM(D40:Y40) -> 13 | AA17: =AS26 -> 46 | AC17: =Z17+'Week 7'!AC17 -> 69 | AG17: =TRIM(BA17) -> T | AH17: =TRIM(BB17) -> T | AI17: =TRIM(BC17) -> T | AJ17: =TRIM(BD17) -> A | AK17: =TRIM(BE17) -> A | AL17: =TRIM(BF17) -> A | AM17: =TRIM(BG17) -> T | AN17: =TRIM(BH17) -> A | ... AY17: =TRIM(BS17) -> T | BA17: T | BB17: T | BC17: T | BD17: A | BE17: A | BF17: A | BG17: T | BH17: A | BI17: T | BJ17: T | BK17: T | BL17: A | BM17: T | BN17: A | BO17: T | BP17: T | BQ17: T | BR17: T | BS17: T | BT17: 0.79166667 | BU17: T
C18: ='GRAND TOTALS'!C15 -> Scott | D18: =AT5 -> T | E18: =AT6 -> O | F18: =AT7 -> O | G18: =AT8 -> S | H18: =AT9 -> S | J18: =AT10 -> G | K18: =AT11 -> BF | L18: =AT12 -> C | M18: =AT13 -> D | N18: =AT14 -> D | O18: =AT15 -> L | P18: =AT16 -> P | Q18: =AT17 -> A | R18: =AT18 -> J | S18: =AT19 -> R | T18: =AT20 -> K | U18: =AT21 -> N | V18: =AT22 -> P | W18: =AT23 | X18: =AT24 | Y18: =AT25 -> S | Z18: =SUM(D41:Y41) -> 13 | AA18: =AT26 -> 45 | AC18: =Z18+'Week 7'!AC18 -> 69 | AG18: =TRIM(BA18) -> J | AH18: =TRIM(BB18) -> J | AI18: =TRIM(BC18) -> J | AJ18: =TRIM(BD18) -> J | AK18: =TRIM(BE18) -> J | AL18: =TRIM(BF18) -> I | AM18: =TRIM(BG18) -> J | AN18: =TRIM(BH18) -> J | ... AY18: =TRIM(BS18) -> J | BA18: J | BB18: J | BC18: J | BD18: J | BE18: J | BF18: I | BG18: J | BH18: J | BI18: J | BJ18: J | BK18: J | BL18: J | BM18: J | BN18: J | BO18: J | BP18: J | BQ18: J | BR18: J | BS18: J | BT18: 0.83333333 | BU18: J
C19: ='GRAND TOTALS'!C16 -> Michelle | D19: =AU5 -> T | E19: =AU6 -> O | F19: =AU7 -> O | G19: =AU8 -> W | H19: =AU9 -> B | J19: =AU10 -> C | K19: =AU11 -> BF | L19: =AU12 -> T | M19: =AU13 -> A | N19: =AU14 -> D | O19: =AU15 -> J | P19: =AU16 -> P | Q19: =AU17 -> T | R19: =AU18 -> J | S19: =AU19 -> R | T19: =AU20 -> K | U19: =AU21 -> M | V19: =AU22 -> P | W19: =AU23 | X19: =AU24 | Y19: =AU25 -> S | Z19: =SUM(D42:Y42) -> 9 | AA19: =AU26 -> 34 | AC19: =Z19+'Week 7'!AC19 -> 48 | AG19: =TRIM(BA19) -> R | AH19: =TRIM(BB19) -> R | AI19: =TRIM(BC19) -> R | AJ19: =TRIM(BD19) -> R | AK19: =TRIM(BE19) -> C | AL19: =TRIM(BF19) -> C | AM19: =TRIM(BG19) -> R | AN19: =TRIM(BH19) -> R | ... AY19: =TRIM(BS19) -> R | BA19: R | BB19: R | BC19: R | BD19: R | BE19: C | BF19: C | BG19: R | BH19: R | BI19: R | BJ19: R | BK19: R | BL19: R | BM19: R | BN19: R | BO19: R | BP19: R | BQ19: R | BR19: R | BS19: R | BT19: 0.875 | BU19: R
C20: ='GRAND TOTALS'!C17 -> Teri | D20: =AV5 -> T | E20: =AV6 -> O | F20: =AV7 -> O | G20: =AV8 -> S | H20: =AV9 -> S | J20: =AV10 -> G | K20: =AV11 -> BF | L20: =AV12 -> C | M20: =AV13 -> D | N20: =AV14 -> D | O20: =AV15 -> L | P20: =AV16 -> P | Q20: =AV17 -> T | R20: =AV18 -> J | S20: =AV19 -> R | T20: =AV20 -> K | U20: =AV21 -> N | V20: =AV22 -> W | W20: =AV23 | X20: =AV24 | Y20: =AV25 -> S | Z20: =SUM(D43:Y43) -> 15 | AA20: =AV26 -> 32 | AC20: =Z20+'Week 7'!AC20 -> 70 | AG20: =TRIM(BA20) -> K | AH20: =TRIM(BB20) -> K | AI20: =TRIM(BC20) -> D | AJ20: =TRIM(BD20) -> D | AK20: =TRIM(BE20) -> D | AL20: =TRIM(BF20) -> K | AM20: =TRIM(BG20) -> K | AN20: =TRIM(BH20) -> K | ... AY20: =TRIM(BS20) -> D | BA20: K | BB20: K | BC20: D | BD20: D | BE20: D | BF20: K | BG20: K | BH20: K | BI20: D | BJ20: D | BK20: K | BL20: D | BM20: D | BN20: K | BO20: K | BP20: K | BQ20: K | BR20: K | BS20: D | BT20: 0.91666667 | BU20: K
C21: ='GRAND TOTALS'!C18 -> Steve | D21: =AW5 -> T | E21: =AW6 -> O | F21: =AW7 -> O | G21: =AW8 -> S | H21: =AW9 -> S | J21: =AW10 -> G | K21: =AW11 -> BF | L21: =AW12 -> C | M21: =AW13 -> D | N21: =AW14 -> D | O21: =AW15 -> J | P21: =AW16 -> P | Q21: =AW17 -> T | R21: =AW18 -> J | S21: =AW19 -> R | T21: =AW20 -> K | U21: =AW21 -> N | V21: =AW22 -> W | W21: =AW23 | X21: =AW24 | Y21: =AW25 -> S | Z21: =SUM(D44:Y44) -> 14 | AA21: =AW26 -> 47 | AC21: =Z21+'Week 7'!AC21 -> 66 | AG21: =TRIM(BA21) -> N | AH21: =TRIM(BB21) -> N | AI21: =TRIM(BC21) -> N | AJ21: =TRIM(BD21) -> N | AK21: =TRIM(BE21) -> N | AL21: =TRIM(BF21) -> N | AM21: =TRIM(BG21) -> N | AN21: =TRIM(BH21) -> N | ... AY21: =TRIM(BS21) -> N | BA21: N | BB21: N | BC21: N | BD21: N | BE21: N | BF21: N | BG21: N | BH21: N | BI21: N | BJ21: N | BK21: N | BL21: N | BM21: N | BN21: N | BO21: M | BP21: N | BQ21: N | BR21: N | BS21: N | BT21: 0.95833333 | BU21: M
C22: ='GRAND TOTALS'!C19 -> Jamie | D22: =AX5 -> T | E22: =AX6 -> S | F22: =AX7 -> O | G22: =AX8 -> S | H22: =AX9 -> S | J22: =AX10 -> G | K22: =AX11 -> BF | L22: =AX12 -> C | M22: =AX13 -> D | N22: =AX14 -> D | O22: =AX15 -> J | P22: =AX16 -> P | Q22: =AX17 -> T | R22: =AX18 -> J | S22: =AX19 -> R | T22: =AX20 -> K | U22: =AX21 -> N | V22: =AX22 -> W | W22: =AX23 | X22: =AX24 | Y22: =AX25 -> S | Z22: =SUM(D46:Y46) -> 15 | AA22: =AX26 -> 45 | AC22: =Z22+'Week 7'!AC23 -> 70 | AG22: =TRIM(BA22) -> W | AH22: =TRIM(BB22) -> P | AI22: =TRIM(BC22) -> W | AJ22: =TRIM(BD22) -> P | AK22: =TRIM(BE22) -> W | AL22: =TRIM(BF22) -> P | AM22: =TRIM(BG22) -> W | AN22: =TRIM(BH22) -> W | ... AY22: =TRIM(BS22) -> W | BA22: W | BB22: P | BC22: W | BD22: P | BE22: W | BF22: P | BG22: W | BH22: W | BI22: W | BJ22: W | BK22: P | BL22: W | BM22: P | BN22: P | BO22: P | BP22: W | BQ22: W | BR22: W | BS22: W | BT22: 1 | BU22: P
C23: ='GRAND TOTALS'!C20 -> Kelly | D23: =AY5 -> T | E23: =AY6 -> O | F23: =AY7 -> N | G23: =AY8 -> W | H23: =AY9 -> S | J23: =AY10 -> G | K23: =AY11 -> BF | L23: =AY12 -> T | M23: =AY13 -> D | N23: =AY14 -> D | O23: =AY15 -> L | P23: =AY16 -> P | Q23: =AY17 -> T | R23: =AY18 -> J | S23: =AY19 -> R | T23: =AY20 -> D | U23: =AY21 -> N | V23: =AY22 -> W | W23: =AY23 | X23: =AY24 | Y23: =AY25 -> C | Z23: =SUM(D47:Y47) -> 14 | AA23: =AY26 -> 51 | AC23: =Z23+'Week 7'!AC24 -> 65 | AG23: =TRIM(BA23) | AH23: =TRIM(BB23) | AI23: =TRIM(BC23) | AJ23: =TRIM(BD23) | AK23: =TRIM(BE23) | AL23: =TRIM(BF23) | AM23: =TRIM(BG23) | AN23: =TRIM(BH23) | ... AY23: =TRIM(BS23) | BT23: 1.125 | BU23: S
AG24: =TRIM(BA24) | AH24: =TRIM(BB24) | AI24: =TRIM(BC24) | AJ24: =TRIM(BD24) | AK24: =TRIM(BE24) | AL24: =TRIM(BF24) | AM24: =TRIM(BG24) | AN24: =TRIM(BH24) | ... AY24: =TRIM(BS24) | BT24: Tiebreaker: | BU24: 34
AG25: =TRIM(BA25) -> S | AH25: =TRIM(BB25) -> S | AI25: =TRIM(BC25) -> S | AJ25: =TRIM(BD25) -> C | AK25: =TRIM(BE25) -> C | AL25: =TRIM(BF25) -> C | AM25: =TRIM(BG25) -> S | AN25: =TRIM(BH25) -> S | ... AY25: =TRIM(BS25) -> C | BA25: S | BB25: S | BC25: S | BD25: C | BE25: C | BF25: C | BG25: S | BH25: S | BI25: C | BJ25: S | BK25: S | BL25: C | BM25: S | BN25: S | BO25: S | BP25: S | BQ25: S | BR25: S | BS25: C
G26: Correct Pick | N26: Upset Pick | AG26: =TRIM(BA26) -> 30 | AH26: =TRIM(BB26) -> 55 | AI26: =TRIM(BC26) -> 43 | AJ26: =TRIM(BD26) -> 38 | AK26: =TRIM(BE26) -> 45 | AL26: =TRIM(BF26) -> 42 | AM26: =TRIM(BG26) -> 42 | AN26: =TRIM(BH26) -> 52 | ... AY26: =TRIM(BS26) -> 51 | BA26: 30 | BB26: 55 | BC26: 43 | BD26: 38 | BE26: 45 | BF26: 42 | BG26: 42 | BH26: 52 | BI26: 51 | BJ26: 45 | BK26: 35 | BL26: 51 | BM26: 46 | BN26: 45 | BO26: 34 | BP26: 32 | BQ26: 47 | BR26: 45 | BS26: 51
C28: =C5 -> Fred | D28: =IF(D5=D$4,1,0) -> 1 | E28: =IF(E5=E$4,1,0) -> 0 | F28: =IF(F5=F$4,1,0) -> 1 | G28: =IF(G5=G$4,1,0) -> 0 | H28: =IF(H5=H$4,1,0) -> 1 | J28: =IF(J5=J$4,1,0) -> 1 | K28: =IF(K5=K$4,1,0) -> 1 | L28: =IF(L5=L$4,1,0) -> 1 | M28: =IF(M5=M$4,1,0) -> 0 | N28: =IF(N5=N$4,1,0) -> 1 | O28: =IF(O5=O$4,1,0) -> 1 | P28: =IF(P5=P$4,1,0) -> 1 | Q28: =IF(Q5=Q$4,1,0) -> 1 | ... Y28: =IF(Y5=Y$4,1,0) -> 0
C29: =C6 -> Joni | D29: =IF(D6=D$4,1,0) -> 1 | E29: =IF(E6=E$4,1,0) -> 0 | F29: =IF(F6=F$4,1,0) -> 1 | G29: =IF(G6=G$4,1,0) -> 1 | H29: =IF(H6=H$4,1,0) -> 0 | J29: =IF(J6=J$4,1,0) -> 1 | K29: =IF(K6=K$4,1,0) -> 1 | L29: =IF(L6=L$4,1,0) -> 1 | M29: =IF(M6=M$4,1,0) -> 0 | N29: =IF(N6=N$4,1,0) -> 1 | O29: =IF(O6=O$4,1,0) -> 0 | P29: =IF(P6=P$4,1,0) -> 1 | Q29: =IF(Q6=Q$4,1,0) -> 1 | ... Y29: =IF(Y6=Y$4,1,0) -> 0
C30: =C7 -> Tara | D30: =IF(D7=D$4,1,0) -> 1 | E30: =IF(E7=E$4,1,0) -> 0 | F30: =IF(F7=F$4,1,0) -> 1 | G30: =IF(G7=G$4,1,0) -> 1 | H30: =IF(H7=H$4,1,0) -> 1 | J30: =IF(J7=J$4,1,0) -> 1 | K30: =IF(K7=K$4,1,0) -> 1 | L30: =IF(L7=L$4,1,0) -> 1 | M30: =IF(M7=M$4,1,0) -> 0 | N30: =IF(N7=N$4,1,0) -> 1 | O30: =IF(O7=O$4,1,0) -> 0 | P30: =IF(P7=P$4,1,0) -> 1 | Q30: =IF(Q7=Q$4,1,0) -> 1 | ... Y30: =IF(Y7=Y$4,1,0) -> 0
C31: =C8 -> Roger | D31: =IF(D8=D$4,1,0) -> 1 | E31: =IF(E8=E$4,1,0) -> 0 | F31: =IF(F8=F$4,1,0) -> 0 | G31: =IF(G8=G$4,1,0) -> 1 | H31: =IF(H8=H$4,1,0) -> 1 | J31: =IF(J8=J$4,1,0) -> 1 | K31: =IF(K8=K$4,1,0) -> 1 | L31: =IF(L8=L$4,1,0) -> 1 | M31: =IF(M8=M$4,1,0) -> 0 | N31: =IF(N8=N$4,1,0) -> 1 | O31: =IF(O8=O$4,1,0) -> 1 | P31: =IF(P8=P$4,1,0) -> 1 | Q31: =IF(Q8=Q$4,1,0) -> 0 | ... Y31: =IF(Y8=Y$4,1,0) -> 1
C32: =C9 -> Jeanne | D32: =IF(D9=D$4,1,0) -> 0 | E32: =IF(E9=E$4,1,0) -> 0 | F32: =IF(F9=F$4,1,0) -> 0 | G32: =IF(G9=G$4,1,0) -> 1 | H32: =IF(H9=H$4,1,0) -> 0 | J32: =IF(J9=J$4,1,0) -> 0 | K32: =IF(K9=K$4,1,0) -> 0 | L32: =IF(L9=L$4,1,0) -> 1 | M32: =IF(M9=M$4,1,0) -> 1 | N32: =IF(N9=N$4,1,0) -> 1 | O32: =IF(O9=O$4,1,0) -> 1 | P32: =IF(P9=P$4,1,0) -> 1 | Q32: =IF(Q9=Q$4,1,0) -> 0 | ... Y32: =IF(Y9=Y$4,1,0) -> 1
C33: =C10 -> Jackie | D33: =IF(D10=D$4,1,0) -> 0 | E33: =IF(E10=E$4,1,0) -> 1 | F33: =IF(F10=F$4,1,0) -> 0 | G33: =IF(G10=G$4,1,0) -> 0 | H33: =IF(H10=H$4,1,0) -> 0 | J33: =IF(J10=J$4,1,0) -> 0 | K33: =IF(K10=K$4,1,0) -> 0 | L33: =IF(L10=L$4,1,0) -> 0 | M33: =IF(M10=M$4,1,0) -> 1 | N33: =IF(N10=N$4,1,0) -> 0 | O33: =IF(O10=O$4,1,0) -> 1 | P33: =IF(P10=P$4,1,0) -> 0 | Q33: =IF(Q10=Q$4,1,0) -> 0 | ... Y33: =IF(Y10=Y$4,1,0) -> 1
C34: =C11 -> Darla | D34: =IF(D11=D$4,1,0) -> 0 | E34: =IF(E11=E$4,1,0) -> 0 | F34: =IF(F11=F$4,1,0) -> 1 | G34: =IF(G11=G$4,1,0) -> 1 | H34: =IF(H11=H$4,1,0) -> 0 | J34: =IF(J11=J$4,1,0) -> 1 | K34: =IF(K11=K$4,1,0) -> 1 | L34: =IF(L11=L$4,1,0) -> 1 | M34: =IF(M11=M$4,1,0) -> 0 | N34: =IF(N11=N$4,1,0) -> 1 | O34: =IF(O11=O$4,1,0) -> 0 | P34: =IF(P11=P$4,1,0) -> 1 | Q34: =IF(Q11=Q$4,1,0) -> 1 | ... Y34: =IF(Y11=Y$4,1,0) -> 0
C35: =C12 -> Kieran | D35: =IF(D12=D$4,1,0) -> 1 | E35: =IF(E12=E$4,1,0) -> 1 | F35: =IF(F12=F$4,1,0) -> 0 | G35: =IF(G12=G$4,1,0) -> 1 | H35: =IF(H12=H$4,1,0) -> 1 | J35: =IF(J12=J$4,1,0) -> 1 | K35: =IF(K12=K$4,1,0) -> 0 | L35: =IF(L12=L$4,1,0) -> 1 | M35: =IF(M12=M$4,1,0) -> 0 | N35: =IF(N12=N$4,1,0) -> 1 | O35: =IF(O12=O$4,1,0) -> 1 | P35: =IF(P12=P$4,1,0) -> 1 | Q35: =IF(Q12=Q$4,1,0) -> 0 | ... Y35: =IF(Y12=Y$4,1,0) -> 0
C36: =C13 -> Kaidan | D36: =IF(D13=D$4,1,0) -> 1 | E36: =IF(E13=E$4,1,0) -> 0 | F36: =IF(F13=F$4,1,0) -> 0 | G36: =IF(G13=G$4,1,0) -> 1 | H36: =IF(H13=H$4,1,0) -> 1 | J36: =IF(J13=J$4,1,0) -> 0 | K36: =IF(K13=K$4,1,0) -> 1 | L36: =IF(L13=L$4,1,0) -> 1 | M36: =IF(M13=M$4,1,0) -> 0 | N36: =IF(N13=N$4,1,0) -> 1 | O36: =IF(O13=O$4,1,0) -> 1 | P36: =IF(P13=P$4,1,0) -> 1 | Q36: =IF(Q13=Q$4,1,0) -> 1 | ... Y36: =IF(Y13=Y$4,1,0) -> 1
C37: =C14 -> Jim | D37: =IF(D14=D$4,1,0) -> 1 | E37: =IF(E14=E$4,1,0) -> 0 | F37: =IF(F14=F$4,1,0) -> 0 | G37: =IF(G14=G$4,1,0) -> 1 | H37: =IF(H14=H$4,1,0) -> 1 | J37: =IF(J14=J$4,1,0) -> 1 | K37: =IF(K14=K$4,1,0) -> 1 | L37: =IF(L14=L$4,1,0) -> 1 | M37: =IF(M14=M$4,1,0) -> 0 | N37: =IF(N14=N$4,1,0) -> 1 | O37: =IF(O14=O$4,1,0) -> 0 | P37: =IF(P14=P$4,1,0) -> 1 | Q37: =IF(Q14=Q$4,1,0) -> 1 | ... Y37: =IF(Y14=Y$4,1,0) -> 0
C38: =C15 -> Lisa | D38: =IF(D15=D$4,1,0) -> 1 | E38: =IF(E15=E$4,1,0) -> 0 | F38: =IF(F15=F$4,1,0) -> 0 | G38: =IF(G15=G$4,1,0) -> 1 | H38: =IF(H15=H$4,1,0) -> 1 | J38: =IF(J15=J$4,1,0) -> 1 | K38: =IF(K15=K$4,1,0) -> 1 | L38: =IF(L15=L$4,1,0) -> 1 | M38: =IF(M15=M$4,1,0) -> 0 | N38: =IF(N15=N$4,1,0) -> 0 | O38: =IF(O15=O$4,1,0) -> 1 | P38: =IF(P15=P$4,1,0) -> 1 | Q38: =IF(Q15=Q$4,1,0) -> 1 | ... Y38: =IF(Y15=Y$4,1,0) -> 0
C39: =C16 -> Stuart | D39: =IF(D16=D$4,1,0) -> 1 | E39: =IF(E16=E$4,1,0) -> 0 | F39: =IF(F16=F$4,1,0) -> 1 | G39: =IF(G16=G$4,1,0) -> 0 | H39: =IF(H16=H$4,1,0) -> 0 | J39: =IF(J16=J$4,1,0) -> 1 | K39: =IF(K16=K$4,1,0) -> 1 | L39: =IF(L16=L$4,1,0) -> 1 | M39: =IF(M16=M$4,1,0) -> 0 | N39: =IF(N16=N$4,1,0) -> 1 | O39: =IF(O16=O$4,1,0) -> 1 | P39: =IF(P16=P$4,1,0) -> 0 | Q39: =IF(Q16=Q$4,1,0) -> 0 | ... Y39: =IF(Y16=Y$4,1,0) -> 1
... C44: =C21 -> Steve | D44: =IF(D21=D$4,1,0) -> 1 | E44: =IF(E21=E$4,1,0) -> 0 | F44: =IF(F21=F$4,1,0) -> 1 | G44: =IF(G21=G$4,1,0) -> 1 | H44: =IF(H21=H$4,1,0) -> 1 | J44: =IF(J21=J$4,1,0) -> 1 | K44: =IF(K21=K$4,1,0) -> 1 | L44: =IF(L21=L$4,1,0) -> 1 | M44: =IF(M21=M$4,1,0) -> 0 | N44: =IF(N21=N$4,1,0) -> 1 | O44: =IF(O21=O$4,1,0) -> 0 | P44: =IF(P21=P$4,1,0) -> 1 | Q44: =IF(Q21=Q$4,1,0) -> 1 | ... Y44: =IF(Y21=Y$4,1,0) -> 0
C45: =#REF! -> #REF! | D45: =IF(#REF!=D$4,1,0) -> #REF! | E45: =IF(#REF!=E$4,1,0) -> #REF! | F45: =IF(#REF!=F$4,1,0) -> #REF! | G45: =IF(#REF!=G$4,1,0) -> #REF! | H45: =IF(#REF!=H$4,1,0) -> #REF! | J45: =IF(#REF!=J$4,1,0) -> #REF! | K45: =IF(#REF!=K$4,1,0) -> #REF! | L45: =IF(#REF!=L$4,1,0) -> #REF! | M45: =IF(#REF!=M$4,1,0) -> #REF! | N45: =IF(#REF!=N$4,1,0) -> #REF! | O45: =IF(#REF!=O$4,1,0) -> #REF! | P45: =IF(#REF!=P$4,1,0) -> #REF! | Q45: =IF(#REF!=Q$4,1,0) -> #REF! | ... Y45: =IF(#REF!=Y$4,1,0) -> #REF!
D46: =IF(D22=D$4,1,0) -> 1 | E46: =IF(E22=E$4,1,0) -> 1 | F46: =IF(F22=F$4,1,0) -> 1 | G46: =IF(G22=G$4,1,0) -> 1 | H46: =IF(H22=H$4,1,0) -> 1 | J46: =IF(J22=J$4,1,0) -> 1 | K46: =IF(K22=K$4,1,0) -> 1 | L46: =IF(L22=L$4,1,0) -> 1 | M46: =IF(M22=M$4,1,0) -> 0 | N46: =IF(N22=N$4,1,0) -> 1 | O46: =IF(O22=O$4,1,0) -> 0 | P46: =IF(P22=P$4,1,0) -> 1 | Q46: =IF(Q22=Q$4,1,0) -> 1 | ... Y46: =IF(Y22=Y$4,1,0) -> 0
D47: =IF(D23=D$4,1,0) -> 1 | E47: =IF(E23=E$4,1,0) -> 0 | F47: =IF(F23=F$4,1,0) -> 0 | G47: =IF(G23=G$4,1,0) -> 0 | H47: =IF(H23=H$4,1,0) -> 1 | J47: =IF(J23=J$4,1,0) -> 1 | K47: =IF(K23=K$4,1,0) -> 1 | L47: =IF(L23=L$4,1,0) -> 0 | M47: =IF(M23=M$4,1,0) -> 0 | N47: =IF(N23=N$4,1,0) -> 1 | O47: =IF(O23=O$4,1,0) -> 1 | P47: =IF(P23=P$4,1,0) -> 1 | Q47: =IF(Q23=Q$4,1,0) -> 1 | ... Y47: =IF(Y23=Y$4,1,0) -> 1

Sheet Week 9
E2: col | K2: wk | M2: No | P2: 9 | U2: pro
D3: 7 BYU @ 3 Utah | E3: 10 Texas @ 19 Missouri | F3: 8 Kentucky @ 16 Tennessee | G3: 1 Miami @ 4 Notre Dame | H3: Stony Brook @ Campbell | J3: Jacksonville @ Baltimore | K3: Cincinnati v Atlanta | L3: Dallas @ Indianapolis | M3: Jets @ Kansas City | N3: Detroit @ Miami | O3: Cleveland @ New Orleans | P3: Giants @ Philadelphia | Q3: Rams @ Washington | R3: Denver @ Carolina | S3: Houston @ Chargers | T3: Green Bay @ New England | U3: Las Vegas @ San Francisco | V3: Arizona @ Seattle | W3: Tampa Bay @ Chicago | Y3: Buffalo @ Minnesota | Z3: TOTAL | AA3: TIEBREAKER | AC3: GRAND TOTAL | AG3: =C5 -> Fred | AH3: =C6 -> Joni | AI3: =C7 -> Tara | AJ3: =C8 -> Roger | AK3: =C9 -> Jeanne | AL3: =C10 -> Jackie | AM3: =C11 -> Darla | AN3: =C12 -> Kieran | AO3: =C13 -> Kaidan | AP3: =C14 -> Jim | AQ3: =C15 -> Lisa | AR3: =C16 -> Stuart | AS3: =C17 -> Debbie | AT3: =C18 -> Scott | AU3: =C19 -> Michelle | AV3: =C20 -> Teri | AW3: =C21 -> Steve | AX3: =C22 -> Jamie | AY3: =C23 -> Kelly | BA3: =C5 -> Fred | BB3: =C6 -> Joni | BC3: =C7 -> Tara | BD3: =C8 -> Roger | BE3: Jeanne | BF3: =C10 -> Jackie | BG3: =C11 -> Darla | BH3: =C12 -> Kieran | BI3: =C13 -> Kaidan | BJ3: =C14 -> Jim | BK3: =C15 -> Lisa | BL3: =C16 -> Stuart | BM3: =C17 -> Debbie | BN3: =C18 -> Scott | BO3: =C19 -> Michelle | BP3: =C20 -> Teri | BQ3: =C21 -> Steve | BR3: =C22 -> Jamie | BS3: =C23 -> Kelly
C4: Winners | D4: . | E4: . | F4: . | G4: . | H4: . | J4: . | K4: . | L4: . | M4: . | N4: . | O4: . | P4: . | Q4: . | R4: . | S4: . | T4: . | U4: . | V4: . | W4: . | X4: . | Y4: .
C5: ='GRAND TOTALS'!C2 -> Fred | D5: =AG5 | E5: =AG6 | F5: =AG7 | G5: =AG8 | H5: =AG9 | J5: =AG10 | K5: =AG11 | L5: =AG12 | M5: =AG13 | N5: =AG14 | O5: =AG15 | P5: =AG16 | Q5: =AG17 | R5: =AG18 | S5: =AG19 | T5: =AG20 | U5: =AG21 | V5: =AG22 | W5: =AG23 | X5: =AG24 | Y5: =AG25 | Z5: =SUM(D28:Y28) -> 0 | AA5: =AG26 | AC5: =Z5+'Week 8'!AC5 -> 64 | AG5: =TRIM(BA5) | AH5: =TRIM(BB5) | AI5: =TRIM(BC5) | AJ5: =TRIM(BD5) | AK5: =TRIM(BE5) | AL5: =TRIM(BF5) | AM5: =TRIM(BG5) | AN5: =TRIM(BH5) | ... AY5: =TRIM(BS5)
C6: ='GRAND TOTALS'!C3 -> Joni | D6: =AH5 | E6: =AH6 | F6: =AH7 | G6: =AH8 | H6: =AH9 | J6: =AH10 | K6: =AH11 | L6: =AH12 | M6: =AH13 | N6: =AH14 | O6: =AH15 | P6: =AH16 | Q6: =AH17 | R6: =AH18 | S6: =AH19 | T6: =AH20 | U6: =AH21 | V6: =AH22 | W6: =AH23 | X6: =AH24 | Y6: =AH25 | Z6: =SUM(D29:Y29) -> 0 | AA6: =AH26 | AC6: =Z6+'Week 8'!AC6 -> 59 | AG6: =TRIM(BA6) | AH6: =TRIM(BB6) | AI6: =TRIM(BC6) | AJ6: =TRIM(BD6) | AK6: =TRIM(BE6) | AL6: =TRIM(BF6) | AM6: =TRIM(BG6) | AN6: =TRIM(BH6) | ... AY6: =TRIM(BS6)
C7: ='GRAND TOTALS'!C4 -> Tara | D7: =AI5 | E7: =AI6 | F7: =AI7 | G7: =AI8 | H7: =AI9 | J7: =AI10 | K7: =AI11 | L7: =AI12 | M7: =AI13 | N7: =AI14 | O7: =AI15 | P7: =AI16 | Q7: =AI17 | R7: =AI18 | S7: =AI19 | T7: =AI20 | U7: =AI21 | V7: =AI22 | W7: =AI23 | X7: =AI24 | Y7: =AI25 | Z7: =SUM(D30:Y30) -> 0 | AA7: =AI26 | AC7: =Z7+'Week 8'!AC7 -> 72 | AG7: =TRIM(BA7) | AH7: =TRIM(BB7) | AI7: =TRIM(BC7) | AJ7: =TRIM(BD7) | AK7: =TRIM(BE7) | AL7: =TRIM(BF7) | AM7: =TRIM(BG7) | AN7: =TRIM(BH7) | ... AY7: =TRIM(BS7)
C8: ='GRAND TOTALS'!C5 -> Roger | D8: =AJ5 | E8: =AJ6 | F8: =AJ7 | G8: =AJ8 | H8: =AJ9 | J8: =AJ10 | K8: =AJ11 | L8: =AJ12 | M8: =AJ13 | N8: =AJ14 | O8: =AJ15 | P8: =AJ16 | Q8: =AJ17 | R8: =AJ18 | S8: =AJ19 | T8: =AJ20 | U8: =AJ21 | V8: =AJ22 | W8: =AJ23 | X8: =AJ24 | Y8: =AJ25 | Z8: =SUM(D31:Y31) -> 0 | AA8: =AJ26 | AC8: =Z8+'Week 8'!AC8 -> 74 | AG8: =TRIM(BA8) | AH8: =TRIM(BB8) | AI8: =TRIM(BC8) | AJ8: =TRIM(BD8) | AK8: =TRIM(BE8) | AL8: =TRIM(BF8) | AM8: =TRIM(BG8) | AN8: =TRIM(BH8) | ... AY8: =TRIM(BS8)
C9: ='GRAND TOTALS'!C6 -> Jeanne | D9: =AK5 | E9: =AK6 | F9: =AK7 | G9: =AK8 | H9: =AK9 | J9: =AK10 | K9: =AK11 | L9: =AK12 | M9: =AK13 | N9: =AK14 | O9: =AK15 | P9: =AK16 | Q9: =AK17 | R9: =AK18 | S9: =AK19 | T9: =AK20 | U9: =AK21 | V9: =AK22 | W9: =AK23 | X9: =AK24 | Y9: =AK25 | Z9: =SUM(D32:Y32) -> 0 | AA9: =AK26 | AC9: =Z9+'Week 8'!AC9 -> 61 | AG9: =TRIM(BA9) | AH9: =TRIM(BB9) | AI9: =TRIM(BC9) | AJ9: =TRIM(BD9) | AK9: =TRIM(BE9) | AL9: =TRIM(BF9) | AM9: =TRIM(BG9) | AN9: =TRIM(BH9) | ... AY9: =TRIM(BS9)
C10: ='GRAND TOTALS'!C7 -> Jackie | D10: =AL5 | E10: =AL6 | F10: =AL7 | G10: =AL8 | H10: =AL9 | J10: =AL10 | K10: =AL11 | L10: =AL12 | M10: =AL13 | N10: =AL14 | O10: =AL15 | P10: =AL16 | Q10: =AL17 | R10: =AL18 | S10: =AL19 | T10: =AL20 | U10: =AL21 | V10: =AL22 | W10: =AL23 | X10: =AL24 | Y10: =AL25 | Z10: =SUM(D33:Y33) -> 0 | AA10: =AL26 | AC10: =Z10+'Week 8'!AC10 -> 55 | AG10: =TRIM(BA10) | AH10: =TRIM(BB10) | AI10: =TRIM(BC10) | AJ10: =TRIM(BD10) | AK10: =TRIM(BE10) | AL10: =TRIM(BF10) | AM10: =TRIM(BG10) | AN10: =TRIM(BH10) | ... AY10: =TRIM(BS10)
C11: ='GRAND TOTALS'!C8 -> Darla | D11: =AM5 | E11: =AM6 | F11: =AM7 | G11: =AM8 | H11: =AM9 | J11: =AM10 | K11: =AM11 | L11: =AM12 | M11: =AM13 | N11: =AM14 | O11: =AM15 | P11: =AM16 | Q11: =AM17 | R11: =AM18 | S11: =AM19 | T11: =AM20 | U11: =AM21 | V11: =AM22 | W11: =AM23 | X11: =AM24 | Y11: =AM25 | Z11: =SUM(D34:Y34) -> 0 | AA11: =AM26 | AC11: =Z11+'Week 8'!AC11 -> 64 | AG11: =TRIM(BA11) | AH11: =TRIM(BB11) | AI11: =TRIM(BC11) | AJ11: =TRIM(BD11) | AK11: =TRIM(BE11) | AL11: =TRIM(BF11) | AM11: =TRIM(BG11) | AN11: =TRIM(BH11) | ... AY11: =TRIM(BS11)
C12: ='GRAND TOTALS'!C9 -> Kieran | D12: =AN5 | E12: =AN6 | F12: =AN7 | G12: =AN8 | H12: =AN9 | J12: =AN10 | K12: =AN11 | L12: =AN12 | M12: =AN13 | N12: =AN14 | O12: =AN15 | P12: =AN16 | Q12: =AN17 | R12: =AN18 | S12: =AN19 | T12: =AN20 | U12: =AN21 | V12: =AN22 | W12: =AN23 | X12: =AN24 | Y12: =AN25 | Z12: =SUM(D35:Y35) -> 0 | AA12: =AN26 | AC12: =Z12+'Week 8'!AC12 -> 60 | AG12: =TRIM(BA12) | AH12: =TRIM(BB12) | AI12: =TRIM(BC12) | AJ12: =TRIM(BD12) | AK12: =TRIM(BE12) | AL12: =TRIM(BF12) | AM12: =TRIM(BG12) | AN12: =TRIM(BH12) | ... AY12: =TRIM(BS12)
C13: ='GRAND TOTALS'!C10 -> Kaidan | D13: =AO5 | E13: =AO6 | F13: =AO7 | G13: =AO8 | H13: =AO9 | J13: =AO10 | K13: =AO11 | L13: =AO12 | M13: =AO13 | N13: =AO14 | O13: =AO15 | P13: =AO16 | Q13: =AO17 | R13: =AO18 | S13: =AO19 | T13: =AO20 | U13: =AO21 | V13: =AO22 | W13: =AO23 | X13: =AO24 | Y13: =AO25 | Z13: =SUM(D36:Y36) -> 0 | AA13: =AO26 | AC13: =Z13+'Week 8'!AC13 -> 69 | AG13: =TRIM(BA13) | AH13: =TRIM(BB13) | AI13: =TRIM(BC13) | AJ13: =TRIM(BD13) | AK13: =TRIM(BE13) | AL13: =TRIM(BF13) | AM13: =TRIM(BG13) | AN13: =TRIM(BH13) | ... AY13: =TRIM(BS13)
C14: ='GRAND TOTALS'!C11 -> Jim | D14: =AP5 | E14: =AP6 | F14: =AP7 | G14: =AP8 | H14: =AP9 | J14: =AP10 | K14: =AP11 | L14: =AP12 | M14: =AP13 | N14: =AP14 | O14: =AP15 | P14: =AP16 | Q14: =AP17 | R14: =AP18 | S14: =AP19 | T14: =AP20 | U14: =AP21 | V14: =AP22 | W14: =AP23 | X14: =AP24 | Y14: =AP25 | Z14: =SUM(D37:Y37) -> 0 | AA14: =AP26 | AC14: =Z14+'Week 8'!AC14 -> 69 | AG14: =TRIM(BA14) | AH14: =TRIM(BB14) | AI14: =TRIM(BC14) | AJ14: =TRIM(BD14) | AK14: =TRIM(BE14) | AL14: =TRIM(BF14) | AM14: =TRIM(BG14) | AN14: =TRIM(BH14) | ... AY14: =TRIM(BS14)
C15: ='GRAND TOTALS'!C12 -> Lisa | D15: =AQ5 | E15: =AQ6 | F15: =AQ7 | G15: =AQ8 | H15: =AQ9 | J15: =AQ10 | K15: =AQ11 | L15: =AQ12 | M15: =AQ13 | N15: =AQ14 | O15: =AQ15 | P15: =AQ16 | Q15: =AQ17 | R15: =AQ18 | S15: =AQ19 | T15: =AQ20 | U15: =AQ21 | V15: =AQ22 | W15: =AQ23 | X15: =AQ24 | Y15: =AQ25 | Z15: =SUM(D38:Y38) -> 0 | AA15: =AQ26 | AC15: =Z15+'Week 8'!AC15 -> 65 | AG15: =TRIM(BA15) | AH15: =TRIM(BB15) | AI15: =TRIM(BC15) | AJ15: =TRIM(BD15) | AK15: =TRIM(BE15) | AL15: =TRIM(BF15) | AM15: =TRIM(BG15) | AN15: =TRIM(BH15) | ... AY15: =TRIM(BS15)
C16: ='GRAND TOTALS'!C13 -> Stuart | D16: =AR5 | E16: =AR6 | F16: =AR7 | G16: =AR8 | H16: =AR9 | J16: =AR10 | K16: =AR11 | L16: =AR12 | M16: =AR13 | N16: =AR14 | O16: =AR15 | P16: =AR16 | Q16: =AR17 | R16: =AR18 | S16: =AR19 | T16: =AR20 | U16: =AR21 | V16: =AR22 | W16: =AR23 | X16: =AR24 | Y16: =AR25 | Z16: =SUM(D39:Y39) -> 0 | AA16: =AR26 | AC16: =Z16+'Week 8'!AC16 -> 60 | AG16: =TRIM(BA16) | AH16: =TRIM(BB16) | AI16: =TRIM(BC16) | AJ16: =TRIM(BD16) | AK16: =TRIM(BE16) | AL16: =TRIM(BF16) | AM16: =TRIM(BG16) | AN16: =TRIM(BH16) | ... AY16: =TRIM(BS16)
C17: ='GRAND TOTALS'!C14 -> Debbie | D17: =AS5 | E17: =AS6 | F17: =AS7 | G17: =AS8 | H17: =AS9 | J17: =AS10 | K17: =AS11 | L17: =AS12 | M17: =AS13 | N17: =AS14 | O17: =AS15 | P17: =AS16 | Q17: =AS17 | R17: =AS18 | S17: =AS19 | T17: =AS20 | U17: =AS21 | V17: =AS22 | W17: =AS23 | X17: =AS24 | Y17: =AS25 | Z17: =SUM(D40:Y40) -> 0 | AA17: =AS26 | AC17: =Z17+'Week 8'!AC17 -> 69 | AG17: =TRIM(BA17) | AH17: =TRIM(BB17) | AI17: =TRIM(BC17) | AJ17: =TRIM(BD17) | AK17: =TRIM(BE17) | AL17: =TRIM(BF17) | AM17: =TRIM(BG17) | AN17: =TRIM(BH17) | ... AY17: =TRIM(BS17)
C18: ='GRAND TOTALS'!C15 -> Scott | D18: =AT5 | E18: =AT6 | F18: =AT7 | G18: =AT8 | H18: =AT9 | J18: =AT10 | K18: =AT11 | L18: =AT12 | M18: =AT13 | N18: =AT14 | O18: =AT15 | P18: =AT16 | Q18: =AT17 | R18: =AT18 | S18: =AT19 | T18: =AT20 | U18: =AT21 | V18: =AT22 | W18: =AT23 | X18: =AT24 | Y18: =AT25 | Z18: =SUM(D41:Y41) -> 0 | AA18: =AT26 | AC18: =Z18+'Week 8'!AC18 -> 69 | AG18: =TRIM(BA18) | AH18: =TRIM(BB18) | AI18: =TRIM(BC18) | AJ18: =TRIM(BD18) | AK18: =TRIM(BE18) | AL18: =TRIM(BF18) | AM18: =TRIM(BG18) | AN18: =TRIM(BH18) | ... AY18: =TRIM(BS18)
C19: ='GRAND TOTALS'!C16 -> Michelle | D19: =AU5 | E19: =AU6 | F19: =AU7 | G19: =AU8 | H19: =AU9 | J19: =AU10 | K19: =AU11 | L19: =AU12 | M19: =AU13 | N19: =AU14 | O19: =AU15 | P19: =AU16 | Q19: =AU17 | R19: =AU18 | S19: =AU19 | T19: =AU20 | U19: =AU21 | V19: =AU22 | W19: =AU23 | X19: =AU24 | Y19: =AU25 | Z19: =SUM(D42:Y42) -> 0 | AA19: =AU26 | AC19: =Z19+'Week 8'!AC19 -> 48 | AG19: =TRIM(BA19) | AH19: =TRIM(BB19) | AI19: =TRIM(BC19) | AJ19: =TRIM(BD19) | AK19: =TRIM(BE19) | AL19: =TRIM(BF19) | AM19: =TRIM(BG19) | AN19: =TRIM(BH19) | ... AY19: =TRIM(BS19)
C20: ='GRAND TOTALS'!C17 -> Teri | D20: =AV5 | E20: =AV6 | F20: =AV7 | G20: =AV8 | H20: =AV9 | J20: =AV10 | K20: =AV11 | L20: =AV12 | M20: =AV13 | N20: =AV14 | O20: =AV15 | P20: =AV16 | Q20: =AV17 | R20: =AV18 | S20: =AV19 | T20: =AV20 | U20: =AV21 | V20: =AV22 | W20: =AV23 | X20: =AV24 | Y20: =AV25 | Z20: =SUM(D43:Y43) -> 0 | AA20: =AV26 | AC20: =Z20+'Week 8'!AC20 -> 70 | AG20: =TRIM(BA20) | AH20: =TRIM(BB20) | AI20: =TRIM(BC20) | AJ20: =TRIM(BD20) | AK20: =TRIM(BE20) | AL20: =TRIM(BF20) | AM20: =TRIM(BG20) | AN20: =TRIM(BH20) | ... AY20: =TRIM(BS20)
C21: ='GRAND TOTALS'!C18 -> Steve | D21: =AW5 | E21: =AW6 | F21: =AW7 | G21: =AW8 | H21: =AW9 | J21: =AW10 | K21: =AW11 | L21: =AW12 | M21: =AW13 | N21: =AW14 | O21: =AW15 | P21: =AW16 | Q21: =AW17 | R21: =AW18 | S21: =AW19 | T21: =AW20 | U21: =AW21 | V21: =AW22 | W21: =AW23 | X21: =AW24 | Y21: =AW25 | Z21: =SUM(D44:Y44) -> 0 | AA21: =AW26 | AC21: =Z21+'Week 8'!AC21 -> 66 | AG21: =TRIM(BA21) | AH21: =TRIM(BB21) | AI21: =TRIM(BC21) | AJ21: =TRIM(BD21) | AK21: =TRIM(BE21) | AL21: =TRIM(BF21) | AM21: =TRIM(BG21) | AN21: =TRIM(BH21) | ... AY21: =TRIM(BS21)
C22: ='GRAND TOTALS'!C19 -> Jamie | D22: =AX5 | E22: =AX6 | F22: =AX7 | G22: =AX8 | H22: =AX9 | J22: =AX10 | K22: =AX11 | L22: =AX12 | M22: =AX13 | N22: =AX14 | O22: =AX15 | P22: =AX16 | Q22: =AX17 | R22: =AX18 | S22: =AX19 | T22: =AX20 | U22: =AX21 | V22: =AX22 | W22: =AX23 | X22: =AX24 | Y22: =AX25 | Z22: =SUM(D46:Y46) -> 0 | AA22: =AX26 | AC22: =Z22+'Week 8'!AC22 -> 70 | AG22: =TRIM(BA22) | AH22: =TRIM(BB22) | AI22: =TRIM(BC22) | AJ22: =TRIM(BD22) | AK22: =TRIM(BE22) | AL22: =TRIM(BF22) | AM22: =TRIM(BG22) | AN22: =TRIM(BH22) | ... AY22: =TRIM(BS22)
C23: ='GRAND TOTALS'!C20 -> Kelly | D23: =AY5 | E23: =AY6 | F23: =AY7 | G23: =AY8 | H23: =AY9 | J23: =AY10 | K23: =AY11 | L23: =AY12 | M23: =AY13 | N23: =AY14 | O23: =AY15 | P23: =AY16 | Q23: =AY17 | R23: =AY18 | S23: =AY19 | T23: =AY20 | U23: =AY21 | V23: =AY22 | W23: =AY23 | X23: =AY24 | Y23: =AY25 | Z23: =SUM(D47:Y47) -> 0 | AA23: =AY26 | AC23: =Z23+'Week 8'!AC23 -> 65 | AG23: =TRIM(BA23) | AH23: =TRIM(BB23) | AI23: =TRIM(BC23) | AJ23: =TRIM(BD23) | AK23: =TRIM(BE23) | AL23: =TRIM(BF23) | AM23: =TRIM(BG23) | AN23: =TRIM(BH23) | ... AY23: =TRIM(BS23)
AG24: =TRIM(BA24) | AH24: =TRIM(BB24) | AI24: =TRIM(BC24) | AJ24: =TRIM(BD24) | AK24: =TRIM(BE24) | AL24: =TRIM(BF24) | AM24: =TRIM(BG24) | AN24: =TRIM(BH24) | ... AY24: =TRIM(BS24)
AG25: =TRIM(BA25) | AH25: =TRIM(BB25) | AI25: =TRIM(BC25) | AJ25: =TRIM(BD25) | AK25: =TRIM(BE25) | AL25: =TRIM(BF25) | AM25: =TRIM(BG25) | AN25: =TRIM(BH25) | ... AY25: =TRIM(BS25)
G26: Correct Pick | N26: Upset Pick | AG26: =TRIM(BA26) | AH26: =TRIM(BB26) | AI26: =TRIM(BC26) | AJ26: =TRIM(BD26) | AK26: =TRIM(BE26) | AL26: =TRIM(BF26) | AM26: =TRIM(BG26) | AN26: =TRIM(BH26) | ... AY26: =TRIM(BS26)
C28: =C5 -> Fred | D28: =IF(D5=D$4,1,0) -> 0 | E28: =IF(E5=E$4,1,0) -> 0 | F28: =IF(F5=F$4,1,0) -> 0 | G28: =IF(G5=G$4,1,0) -> 0 | H28: =IF(H5=H$4,1,0) -> 0 | J28: =IF(J5=J$4,1,0) -> 0 | K28: =IF(K5=K$4,1,0) -> 0 | L28: =IF(L5=L$4,1,0) -> 0 | M28: =IF(M5=M$4,1,0) -> 0 | N28: =IF(N5=N$4,1,0) -> 0 | O28: =IF(O5=O$4,1,0) -> 0 | P28: =IF(P5=P$4,1,0) -> 0 | Q28: =IF(Q5=Q$4,1,0) -> 0 | ... Y28: =IF(Y5=Y$4,1,0) -> 0
C29: =C6 -> Joni | D29: =IF(D6=D$4,1,0) -> 0 | E29: =IF(E6=E$4,1,0) -> 0 | F29: =IF(F6=F$4,1,0) -> 0 | G29: =IF(G6=G$4,1,0) -> 0 | H29: =IF(H6=H$4,1,0) -> 0 | J29: =IF(J6=J$4,1,0) -> 0 | K29: =IF(K6=K$4,1,0) -> 0 | L29: =IF(L6=L$4,1,0) -> 0 | M29: =IF(M6=M$4,1,0) -> 0 | N29: =IF(N6=N$4,1,0) -> 0 | O29: =IF(O6=O$4,1,0) -> 0 | P29: =IF(P6=P$4,1,0) -> 0 | Q29: =IF(Q6=Q$4,1,0) -> 0 | ... Y29: =IF(Y6=Y$4,1,0) -> 0
C30: =C7 -> Tara | D30: =IF(D7=D$4,1,0) -> 0 | E30: =IF(E7=E$4,1,0) -> 0 | F30: =IF(F7=F$4,1,0) -> 0 | G30: =IF(G7=G$4,1,0) -> 0 | H30: =IF(H7=H$4,1,0) -> 0 | J30: =IF(J7=J$4,1,0) -> 0 | K30: =IF(K7=K$4,1,0) -> 0 | L30: =IF(L7=L$4,1,0) -> 0 | M30: =IF(M7=M$4,1,0) -> 0 | N30: =IF(N7=N$4,1,0) -> 0 | O30: =IF(O7=O$4,1,0) -> 0 | P30: =IF(P7=P$4,1,0) -> 0 | Q30: =IF(Q7=Q$4,1,0) -> 0 | ... Y30: =IF(Y7=Y$4,1,0) -> 0
C31: =C8 -> Roger | D31: =IF(D8=D$4,1,0) -> 0 | E31: =IF(E8=E$4,1,0) -> 0 | F31: =IF(F8=F$4,1,0) -> 0 | G31: =IF(G8=G$4,1,0) -> 0 | H31: =IF(H8=H$4,1,0) -> 0 | J31: =IF(J8=J$4,1,0) -> 0 | K31: =IF(K8=K$4,1,0) -> 0 | L31: =IF(L8=L$4,1,0) -> 0 | M31: =IF(M8=M$4,1,0) -> 0 | N31: =IF(N8=N$4,1,0) -> 0 | O31: =IF(O8=O$4,1,0) -> 0 | P31: =IF(P8=P$4,1,0) -> 0 | Q31: =IF(Q8=Q$4,1,0) -> 0 | ... Y31: =IF(Y8=Y$4,1,0) -> 0
C32: =C9 -> Jeanne | D32: =IF(D9=D$4,1,0) -> 0 | E32: =IF(E9=E$4,1,0) -> 0 | F32: =IF(F9=F$4,1,0) -> 0 | G32: =IF(G9=G$4,1,0) -> 0 | H32: =IF(H9=H$4,1,0) -> 0 | J32: =IF(J9=J$4,1,0) -> 0 | K32: =IF(K9=K$4,1,0) -> 0 | L32: =IF(L9=L$4,1,0) -> 0 | M32: =IF(M9=M$4,1,0) -> 0 | N32: =IF(N9=N$4,1,0) -> 0 | O32: =IF(O9=O$4,1,0) -> 0 | P32: =IF(P9=P$4,1,0) -> 0 | Q32: =IF(Q9=Q$4,1,0) -> 0 | ... Y32: =IF(Y9=Y$4,1,0) -> 0
C33: =C10 -> Jackie | D33: =IF(D10=D$4,1,0) -> 0 | E33: =IF(E10=E$4,1,0) -> 0 | F33: =IF(F10=F$4,1,0) -> 0 | G33: =IF(G10=G$4,1,0) -> 0 | H33: =IF(H10=H$4,1,0) -> 0 | J33: =IF(J10=J$4,1,0) -> 0 | K33: =IF(K10=K$4,1,0) -> 0 | L33: =IF(L10=L$4,1,0) -> 0 | M33: =IF(M10=M$4,1,0) -> 0 | N33: =IF(N10=N$4,1,0) -> 0 | O33: =IF(O10=O$4,1,0) -> 0 | P33: =IF(P10=P$4,1,0) -> 0 | Q33: =IF(Q10=Q$4,1,0) -> 0 | ... Y33: =IF(Y10=Y$4,1,0) -> 0
C34: =C11 -> Darla | D34: =IF(D11=D$4,1,0) -> 0 | E34: =IF(E11=E$4,1,0) -> 0 | F34: =IF(F11=F$4,1,0) -> 0 | G34: =IF(G11=G$4,1,0) -> 0 | H34: =IF(H11=H$4,1,0) -> 0 | J34: =IF(J11=J$4,1,0) -> 0 | K34: =IF(K11=K$4,1,0) -> 0 | L34: =IF(L11=L$4,1,0) -> 0 | M34: =IF(M11=M$4,1,0) -> 0 | N34: =IF(N11=N$4,1,0) -> 0 | O34: =IF(O11=O$4,1,0) -> 0 | P34: =IF(P11=P$4,1,0) -> 0 | Q34: =IF(Q11=Q$4,1,0) -> 0 | ... Y34: =IF(Y11=Y$4,1,0) -> 0
C35: =C12 -> Kieran | D35: =IF(D12=D$4,1,0) -> 0 | E35: =IF(E12=E$4,1,0) -> 0 | F35: =IF(F12=F$4,1,0) -> 0 | G35: =IF(G12=G$4,1,0) -> 0 | H35: =IF(H12=H$4,1,0) -> 0 | J35: =IF(J12=J$4,1,0) -> 0 | K35: =IF(K12=K$4,1,0) -> 0 | L35: =IF(L12=L$4,1,0) -> 0 | M35: =IF(M12=M$4,1,0) -> 0 | N35: =IF(N12=N$4,1,0) -> 0 | O35: =IF(O12=O$4,1,0) -> 0 | P35: =IF(P12=P$4,1,0) -> 0 | Q35: =IF(Q12=Q$4,1,0) -> 0 | ... Y35: =IF(Y12=Y$4,1,0) -> 0
C36: =C13 -> Kaidan | D36: =IF(D13=D$4,1,0) -> 0 | E36: =IF(E13=E$4,1,0) -> 0 | F36: =IF(F13=F$4,1,0) -> 0 | G36: =IF(G13=G$4,1,0) -> 0 | H36: =IF(H13=H$4,1,0) -> 0 | J36: =IF(J13=J$4,1,0) -> 0 | K36: =IF(K13=K$4,1,0) -> 0 | L36: =IF(L13=L$4,1,0) -> 0 | M36: =IF(M13=M$4,1,0) -> 0 | N36: =IF(N13=N$4,1,0) -> 0 | O36: =IF(O13=O$4,1,0) -> 0 | P36: =IF(P13=P$4,1,0) -> 0 | Q36: =IF(Q13=Q$4,1,0) -> 0 | ... Y36: =IF(Y13=Y$4,1,0) -> 0
C37: =C14 -> Jim | D37: =IF(D14=D$4,1,0) -> 0 | E37: =IF(E14=E$4,1,0) -> 0 | F37: =IF(F14=F$4,1,0) -> 0 | G37: =IF(G14=G$4,1,0) -> 0 | H37: =IF(H14=H$4,1,0) -> 0 | J37: =IF(J14=J$4,1,0) -> 0 | K37: =IF(K14=K$4,1,0) -> 0 | L37: =IF(L14=L$4,1,0) -> 0 | M37: =IF(M14=M$4,1,0) -> 0 | N37: =IF(N14=N$4,1,0) -> 0 | O37: =IF(O14=O$4,1,0) -> 0 | P37: =IF(P14=P$4,1,0) -> 0 | Q37: =IF(Q14=Q$4,1,0) -> 0 | ... Y37: =IF(Y14=Y$4,1,0) -> 0
C38: =C15 -> Lisa | D38: =IF(D15=D$4,1,0) -> 0 | E38: =IF(E15=E$4,1,0) -> 0 | F38: =IF(F15=F$4,1,0) -> 0 | G38: =IF(G15=G$4,1,0) -> 0 | H38: =IF(H15=H$4,1,0) -> 0 | J38: =IF(J15=J$4,1,0) -> 0 | K38: =IF(K15=K$4,1,0) -> 0 | L38: =IF(L15=L$4,1,0) -> 0 | M38: =IF(M15=M$4,1,0) -> 0 | N38: =IF(N15=N$4,1,0) -> 0 | O38: =IF(O15=O$4,1,0) -> 0 | P38: =IF(P15=P$4,1,0) -> 0 | Q38: =IF(Q15=Q$4,1,0) -> 0 | ... Y38: =IF(Y15=Y$4,1,0) -> 0
C39: =C16 -> Stuart | D39: =IF(D16=D$4,1,0) -> 0 | E39: =IF(E16=E$4,1,0) -> 0 | F39: =IF(F16=F$4,1,0) -> 0 | G39: =IF(G16=G$4,1,0) -> 0 | H39: =IF(H16=H$4,1,0) -> 0 | J39: =IF(J16=J$4,1,0) -> 0 | K39: =IF(K16=K$4,1,0) -> 0 | L39: =IF(L16=L$4,1,0) -> 0 | M39: =IF(M16=M$4,1,0) -> 0 | N39: =IF(N16=N$4,1,0) -> 0 | O39: =IF(O16=O$4,1,0) -> 0 | P39: =IF(P16=P$4,1,0) -> 0 | Q39: =IF(Q16=Q$4,1,0) -> 0 | ... Y39: =IF(Y16=Y$4,1,0) -> 0
... C44: =C21 -> Steve | D44: =IF(D21=D$4,1,0) -> 0 | E44: =IF(E21=E$4,1,0) -> 0 | F44: =IF(F21=F$4,1,0) -> 0 | G44: =IF(G21=G$4,1,0) -> 0 | H44: =IF(H21=H$4,1,0) -> 0 | J44: =IF(J21=J$4,1,0) -> 0 | K44: =IF(K21=K$4,1,0) -> 0 | L44: =IF(L21=L$4,1,0) -> 0 | M44: =IF(M21=M$4,1,0) -> 0 | N44: =IF(N21=N$4,1,0) -> 0 | O44: =IF(O21=O$4,1,0) -> 0 | P44: =IF(P21=P$4,1,0) -> 0 | Q44: =IF(Q21=Q$4,1,0) -> 0 | ... Y44: =IF(Y21=Y$4,1,0) -> 0
C45: =#REF! -> #REF! | D45: =IF(#REF!=D$4,1,0) -> #REF! | E45: =IF(#REF!=E$4,1,0) -> #REF! | F45: =IF(#REF!=F$4,1,0) -> #REF! | G45: =IF(#REF!=G$4,1,0) -> #REF! | H45: =IF(#REF!=H$4,1,0) -> #REF! | J45: =IF(#REF!=J$4,1,0) -> #REF! | K45: =IF(#REF!=K$4,1,0) -> #REF! | L45: =IF(#REF!=L$4,1,0) -> #REF! | M45: =IF(#REF!=M$4,1,0) -> #REF! | N45: =IF(#REF!=N$4,1,0) -> #REF! | O45: =IF(#REF!=O$4,1,0) -> #REF! | P45: =IF(#REF!=P$4,1,0) -> #REF! | Q45: =IF(#REF!=Q$4,1,0) -> #REF! | ... Y45: =IF(#REF!=Y$4,1,0) -> #REF!
D46: =IF(D22=D$4,1,0) -> 0 | E46: =IF(E22=E$4,1,0) -> 0 | F46: =IF(F22=F$4,1,0) -> 0 | G46: =IF(G22=G$4,1,0) -> 0 | H46: =IF(H22=H$4,1,0) -> 0 | J46: =IF(J22=J$4,1,0) -> 0 | K46: =IF(K22=K$4,1,0) -> 0 | L46: =IF(L22=L$4,1,0) -> 0 | M46: =IF(M22=M$4,1,0) -> 0 | N46: =IF(N22=N$4,1,0) -> 0 | O46: =IF(O22=O$4,1,0) -> 0 | P46: =IF(P22=P$4,1,0) -> 0 | Q46: =IF(Q22=Q$4,1,0) -> 0 | ... Y46: =IF(Y22=Y$4,1,0) -> 0
D47: =IF(D23=D$4,1,0) -> 0 | E47: =IF(E23=E$4,1,0) -> 0 | F47: =IF(F23=F$4,1,0) -> 0 | G47: =IF(G23=G$4,1,0) -> 0 | H47: =IF(H23=H$4,1,0) -> 0 | J47: =IF(J23=J$4,1,0) -> 0 | K47: =IF(K23=K$4,1,0) -> 0 | L47: =IF(L23=L$4,1,0) -> 0 | M47: =IF(M23=M$4,1,0) -> 0 | N47: =IF(N23=N$4,1,0) -> 0 | O47: =IF(O23=O$4,1,0) -> 0 | P47: =IF(P23=P$4,1,0) -> 0 | Q47: =IF(Q23=Q$4,1,0) -> 0 | ... Y47: =IF(Y23=Y$4,1,0) -> 0

Sheet Week 10
E2: col | K2: wk | M2: No | P2: 10 | U2: pro
H3: Prairie View A&M @ Arkansas-Pine Bluff | J3: Washington @ Giants | K3: New England v Detroit | L3: Kansas City @ Atlanta | M3: Houston @ Cleveland | N3: Minnesota @ Green Bay | O3: Jacksonville @ Tennessee | P3: Miami @ Indianapolis | Q3: Carolina @ New Orleans | R3: Buffalo @ Jets | S3: Seattle @ Las Vegas | T3: Rams @ Arizona | U3: San Francisco @ Dallas | V3: Pittsburgh @ Cincinnati | Y3: Chargers @ Baltimore | Z3: TOTAL | AA3: TIEBREAKER | AC3: GRAND TOTAL | AG3: =C5 -> Fred | AH3: =C6 -> Joni | AI3: =C7 -> Tara | AJ3: =C8 -> Roger | AK3: =C9 -> Jeanne | AL3: =C10 -> Jackie | AM3: =C11 -> Darla | AN3: =C12 -> Kieran | AO3: =C13 -> Kaidan | AP3: =C14 -> Jim | AQ3: =C15 -> Lisa | AR3: =C16 -> Stuart | AS3: =C17 -> Debbie | AT3: =C18 -> Scott | AU3: =C19 -> Michelle | AV3: =C20 -> Teri | AW3: =C21 -> Steve | AX3: =C22 -> Jamie | AY3: =C23 -> Kelly | BA3: =C5 -> Fred | BB3: =C6 -> Joni | BC3: =C7 -> Tara | BD3: =C8 -> Roger | BE3: Jeanne | BF3: =C10 -> Jackie | BG3: =C11 -> Darla | BH3: =C12 -> Kieran | BI3: =C13 -> Kaidan | BJ3: =C14 -> Jim | BK3: =C15 -> Lisa | BL3: =C16 -> Stuart | BM3: =C17 -> Debbie | BN3: =C18 -> Scott | BO3: =C19 -> Michelle | BP3: =C20 -> Teri | BQ3: =C21 -> Steve | BR3: =C22 -> Jamie | BS3: =C23 -> Kelly
C4: Winners | D4: . | E4: . | F4: . | G4: . | H4: . | J4: . | K4: . | L4: . | M4: . | N4: . | O4: . | P4: . | Q4: . | R4: . | S4: . | T4: . | U4: . | V4: . | W4: . | X4: . | Y4: .
C5: ='GRAND TOTALS'!C2 -> Fred | D5: =AG5 | E5: =AG6 | F5: =AG7 | G5: =AG8 | H5: =AG9 | J5: =AG10 | K5: =AG11 | L5: =AG12 | M5: =AG13 | N5: =AG14 | O5: =AG15 | P5: =AG16 | Q5: =AG17 | R5: =AG18 | S5: =AG19 | T5: =AG20 | U5: =AG21 | V5: =AG22 | W5: =AG23 | X5: =AG24 | Y5: =AG25 | Z5: =SUM(D28:Y28) -> 0 | AA5: =AG26 | AC5: =Z5+'Week 9'!AC5 -> 64 | AG5: =TRIM(BA5) | AH5: =TRIM(BB5) | AI5: =TRIM(BC5) | AJ5: =TRIM(BD5) | AK5: =TRIM(BE5) | AL5: =TRIM(BF5) | AM5: =TRIM(BG5) | AN5: =TRIM(BH5) | ... AY5: =TRIM(BS5)
C6: ='GRAND TOTALS'!C3 -> Joni | D6: =AH5 | E6: =AH6 | F6: =AH7 | G6: =AH8 | H6: =AH9 | J6: =AH10 | K6: =AH11 | L6: =AH12 | M6: =AH13 | N6: =AH14 | O6: =AH15 | P6: =AH16 | Q6: =AH17 | R6: =AH18 | S6: =AH19 | T6: =AH20 | U6: =AH21 | V6: =AH22 | W6: =AH23 | X6: =AH24 | Y6: =AH25 | Z6: =SUM(D29:Y29) -> 0 | AA6: =AH26 | AC6: =Z6+'Week 9'!AC6 -> 59 | AG6: =TRIM(BA6) | AH6: =TRIM(BB6) | AI6: =TRIM(BC6) | AJ6: =TRIM(BD6) | AK6: =TRIM(BE6) | AL6: =TRIM(BF6) | AM6: =TRIM(BG6) | AN6: =TRIM(BH6) | ... AY6: =TRIM(BS6)
C7: ='GRAND TOTALS'!C4 -> Tara | D7: =AI5 | E7: =AI6 | F7: =AI7 | G7: =AI8 | H7: =AI9 | J7: =AI10 | K7: =AI11 | L7: =AI12 | M7: =AI13 | N7: =AI14 | O7: =AI15 | P7: =AI16 | Q7: =AI17 | R7: =AI18 | S7: =AI19 | T7: =AI20 | U7: =AI21 | V7: =AI22 | W7: =AI23 | X7: =AI24 | Y7: =AI25 | Z7: =SUM(D30:Y30) -> 0 | AA7: =AI26 | AC7: =Z7+'Week 9'!AC7 -> 72 | AG7: =TRIM(BA7) | AH7: =TRIM(BB7) | AI7: =TRIM(BC7) | AJ7: =TRIM(BD7) | AK7: =TRIM(BE7) | AL7: =TRIM(BF7) | AM7: =TRIM(BG7) | AN7: =TRIM(BH7) | ... AY7: =TRIM(BS7)
C8: ='GRAND TOTALS'!C5 -> Roger | D8: =AJ5 | E8: =AJ6 | F8: =AJ7 | G8: =AJ8 | H8: =AJ9 | J8: =AJ10 | K8: =AJ11 | L8: =AJ12 | M8: =AJ13 | N8: =AJ14 | O8: =AJ15 | P8: =AJ16 | Q8: =AJ17 | R8: =AJ18 | S8: =AJ19 | T8: =AJ20 | U8: =AJ21 | V8: =AJ22 | W8: =AJ23 | X8: =AJ24 | Y8: =AJ25 | Z8: =SUM(D31:Y31) -> 0 | AA8: =AJ26 | AC8: =Z8+'Week 9'!AC8 -> 74 | AG8: =TRIM(BA8) | AH8: =TRIM(BB8) | AI8: =TRIM(BC8) | AJ8: =TRIM(BD8) | AK8: =TRIM(BE8) | AL8: =TRIM(BF8) | AM8: =TRIM(BG8) | AN8: =TRIM(BH8) | ... AY8: =TRIM(BS8)
C9: ='GRAND TOTALS'!C6 -> Jeanne | D9: =AK5 | E9: =AK6 | F9: =AK7 | G9: =AK8 | H9: =AK9 | J9: =AK10 | K9: =AK11 | L9: =AK12 | M9: =AK13 | N9: =AK14 | O9: =AK15 | P9: =AK16 | Q9: =AK17 | R9: =AK18 | S9: =AK19 | T9: =AK20 | U9: =AK21 | V9: =AK22 | W9: =AK23 | X9: =AK24 | Y9: =AK25 | Z9: =SUM(D32:Y32) -> 0 | AA9: =AK26 | AC9: =Z9+'Week 9'!AC9 -> 61 | AG9: =TRIM(BA9) | AH9: =TRIM(BB9) | AI9: =TRIM(BC9) | AJ9: =TRIM(BD9) | AK9: =TRIM(BE9) | AL9: =TRIM(BF9) | AM9: =TRIM(BG9) | AN9: =TRIM(BH9) | ... AY9: =TRIM(BS9)
C10: ='GRAND TOTALS'!C7 -> Jackie | D10: =AL5 | E10: =AL6 | F10: =AL7 | G10: =AL8 | H10: =AL9 | J10: =AL10 | K10: =AL11 | L10: =AL12 | M10: =AL13 | N10: =AL14 | O10: =AL15 | P10: =AL16 | Q10: =AL17 | R10: =AL18 | S10: =AL19 | T10: =AL20 | U10: =AL21 | V10: =AL22 | W10: =AL23 | X10: =AL24 | Y10: =AL25 | Z10: =SUM(D33:Y33) -> 0 | AA10: =AL26 | AC10: =Z10+'Week 9'!AC10 -> 55 | AG10: =TRIM(BA10) | AH10: =TRIM(BB10) | AI10: =TRIM(BC10) | AJ10: =TRIM(BD10) | AK10: =TRIM(BE10) | AL10: =TRIM(BF10) | AM10: =TRIM(BG10) | AN10: =TRIM(BH10) | ... AY10: =TRIM(BS10)
C11: ='GRAND TOTALS'!C8 -> Darla | D11: =AM5 | E11: =AM6 | F11: =AM7 | G11: =AM8 | H11: =AM9 | J11: =AM10 | K11: =AM11 | L11: =AM12 | M11: =AM13 | N11: =AM14 | O11: =AM15 | P11: =AM16 | Q11: =AM17 | R11: =AM18 | S11: =AM19 | T11: =AM20 | U11: =AM21 | V11: =AM22 | W11: =AM23 | X11: =AM24 | Y11: =AM25 | Z11: =SUM(D34:Y34) -> 0 | AA11: =AM26 | AC11: =Z11+'Week 9'!AC11 -> 64 | AG11: =TRIM(BA11) | AH11: =TRIM(BB11) | AI11: =TRIM(BC11) | AJ11: =TRIM(BD11) | AK11: =TRIM(BE11) | AL11: =TRIM(BF11) | AM11: =TRIM(BG11) | AN11: =TRIM(BH11) | ... AY11: =TRIM(BS11)
C12: ='GRAND TOTALS'!C9 -> Kieran | D12: =AN5 | E12: =AN6 | F12: =AN7 | G12: =AN8 | H12: =AN9 | J12: =AN10 | K12: =AN11 | L12: =AN12 | M12: =AN13 | N12: =AN14 | O12: =AN15 | P12: =AN16 | Q12: =AN17 | R12: =AN18 | S12: =AN19 | T12: =AN20 | U12: =AN21 | V12: =AN22 | W12: =AN23 | X12: =AN24 | Y12: =AN25 | Z12: =SUM(D35:Y35) -> 0 | AA12: =AN26 | AC12: =Z12+'Week 9'!AC12 -> 60 | AG12: =TRIM(BA12) | AH12: =TRIM(BB12) | AI12: =TRIM(BC12) | AJ12: =TRIM(BD12) | AK12: =TRIM(BE12) | AL12: =TRIM(BF12) | AM12: =TRIM(BG12) | AN12: =TRIM(BH12) | ... AY12: =TRIM(BS12)
C13: ='GRAND TOTALS'!C10 -> Kaidan | D13: =AO5 | E13: =AO6 | F13: =AO7 | G13: =AO8 | H13: =AO9 | J13: =AO10 | K13: =AO11 | L13: =AO12 | M13: =AO13 | N13: =AO14 | O13: =AO15 | P13: =AO16 | Q13: =AO17 | R13: =AO18 | S13: =AO19 | T13: =AO20 | U13: =AO21 | V13: =AO22 | W13: =AO23 | X13: =AO24 | Y13: =AO25 | Z13: =SUM(D36:Y36) -> 0 | AA13: =AO26 | AC13: =Z13+'Week 9'!AC13 -> 69 | AG13: =TRIM(BA13) | AH13: =TRIM(BB13) | AI13: =TRIM(BC13) | AJ13: =TRIM(BD13) | AK13: =TRIM(BE13) | AL13: =TRIM(BF13) | AM13: =TRIM(BG13) | AN13: =TRIM(BH13) | ... AY13: =TRIM(BS13)
C14: ='GRAND TOTALS'!C11 -> Jim | D14: =AP5 | E14: =AP6 | F14: =AP7 | G14: =AP8 | H14: =AP9 | J14: =AP10 | K14: =AP11 | L14: =AP12 | M14: =AP13 | N14: =AP14 | O14: =AP15 | P14: =AP16 | Q14: =AP17 | R14: =AP18 | S14: =AP19 | T14: =AP20 | U14: =AP21 | V14: =AP22 | W14: =AP23 | X14: =AP24 | Y14: =AP25 | Z14: =SUM(D37:Y37) -> 0 | AA14: =AP26 | AC14: =Z14+'Week 9'!AC14 -> 69 | AG14: =TRIM(BA14) | AH14: =TRIM(BB14) | AI14: =TRIM(BC14) | AJ14: =TRIM(BD14) | AK14: =TRIM(BE14) | AL14: =TRIM(BF14) | AM14: =TRIM(BG14) | AN14: =TRIM(BH14) | ... AY14: =TRIM(BS14)
C15: ='GRAND TOTALS'!C12 -> Lisa | D15: =AQ5 | E15: =AQ6 | F15: =AQ7 | G15: =AQ8 | H15: =AQ9 | J15: =AQ10 | K15: =AQ11 | L15: =AQ12 | M15: =AQ13 | N15: =AQ14 | O15: =AQ15 | P15: =AQ16 | Q15: =AQ17 | R15: =AQ18 | S15: =AQ19 | T15: =AQ20 | U15: =AQ21 | V15: =AQ22 | W15: =AQ23 | X15: =AQ24 | Y15: =AQ25 | Z15: =SUM(D38:Y38) -> 0 | AA15: =AQ26 | AC15: =Z15+'Week 9'!AC15 -> 65 | AG15: =TRIM(BA15) | AH15: =TRIM(BB15) | AI15: =TRIM(BC15) | AJ15: =TRIM(BD15) | AK15: =TRIM(BE15) | AL15: =TRIM(BF15) | AM15: =TRIM(BG15) | AN15: =TRIM(BH15) | ... AY15: =TRIM(BS15)
C16: ='GRAND TOTALS'!C13 -> Stuart | D16: =AR5 | E16: =AR6 | F16: =AR7 | G16: =AR8 | H16: =AR9 | J16: =AR10 | K16: =AR11 | L16: =AR12 | M16: =AR13 | N16: =AR14 | O16: =AR15 | P16: =AR16 | Q16: =AR17 | R16: =AR18 | S16: =AR19 | T16: =AR20 | U16: =AR21 | V16: =AR22 | W16: =AR23 | X16: =AR24 | Y16: =AR25 | Z16: =SUM(D39:Y39) -> 0 | AA16: =AR26 | AC16: =Z16+'Week 9'!AC16 -> 60 | AG16: =TRIM(BA16) | AH16: =TRIM(BB16) | AI16: =TRIM(BC16) | AJ16: =TRIM(BD16) | AK16: =TRIM(BE16) | AL16: =TRIM(BF16) | AM16: =TRIM(BG16) | AN16: =TRIM(BH16) | ... AY16: =TRIM(BS16)
C17: ='GRAND TOTALS'!C14 -> Debbie | D17: =AS5 | E17: =AS6 | F17: =AS7 | G17: =AS8 | H17: =AS9 | J17: =AS10 | K17: =AS11 | L17: =AS12 | M17: =AS13 | N17: =AS14 | O17: =AS15 | P17: =AS16 | Q17: =AS17 | R17: =AS18 | S17: =AS19 | T17: =AS20 | U17: =AS21 | V17: =AS22 | W17: =AS23 | X17: =AS24 | Y17: =AS25 | Z17: =SUM(D40:Y40) -> 0 | AA17: =AS26 | AC17: =Z17+'Week 9'!AC17 -> 69 | AG17: =TRIM(BA17) | AH17: =TRIM(BB17) | AI17: =TRIM(BC17) | AJ17: =TRIM(BD17) | AK17: =TRIM(BE17) | AL17: =TRIM(BF17) | AM17: =TRIM(BG17) | AN17: =TRIM(BH17) | ... AY17: =TRIM(BS17)
C18: ='GRAND TOTALS'!C15 -> Scott | D18: =AT5 | E18: =AT6 | F18: =AT7 | G18: =AT8 | H18: =AT9 | J18: =AT10 | K18: =AT11 | L18: =AT12 | M18: =AT13 | N18: =AT14 | O18: =AT15 | P18: =AT16 | Q18: =AT17 | R18: =AT18 | S18: =AT19 | T18: =AT20 | U18: =AT21 | V18: =AT22 | W18: =AT23 | X18: =AT24 | Y18: =AT25 | Z18: =SUM(D41:Y41) -> 0 | AA18: =AT26 | AC18: =Z18+'Week 9'!AC18 -> 69 | AG18: =TRIM(BA18) | AH18: =TRIM(BB18) | AI18: =TRIM(BC18) | AJ18: =TRIM(BD18) | AK18: =TRIM(BE18) | AL18: =TRIM(BF18) | AM18: =TRIM(BG18) | AN18: =TRIM(BH18) | ... AY18: =TRIM(BS18)
C19: ='GRAND TOTALS'!C16 -> Michelle | D19: =AU5 | E19: =AU6 | F19: =AU7 | G19: =AU8 | H19: =AU9 | J19: =AU10 | K19: =AU11 | L19: =AU12 | M19: =AU13 | N19: =AU14 | O19: =AU15 | P19: =AU16 | Q19: =AU17 | R19: =AU18 | S19: =AU19 | T19: =AU20 | U19: =AU21 | V19: =AU22 | W19: =AU23 | X19: =AU24 | Y19: =AU25 | Z19: =SUM(D42:Y42) -> 0 | AA19: =AU26 | AC19: =Z19+'Week 9'!AC19 -> 48 | AG19: =TRIM(BA19) | AH19: =TRIM(BB19) | AI19: =TRIM(BC19) | AJ19: =TRIM(BD19) | AK19: =TRIM(BE19) | AL19: =TRIM(BF19) | AM19: =TRIM(BG19) | AN19: =TRIM(BH19) | ... AY19: =TRIM(BS19)
C20: ='GRAND TOTALS'!C17 -> Teri | D20: =AV5 | E20: =AV6 | F20: =AV7 | G20: =AV8 | H20: =AV9 | J20: =AV10 | K20: =AV11 | L20: =AV12 | M20: =AV13 | N20: =AV14 | O20: =AV15 | P20: =AV16 | Q20: =AV17 | R20: =AV18 | S20: =AV19 | T20: =AV20 | U20: =AV21 | V20: =AV22 | W20: =AV23 | X20: =AV24 | Y20: =AV25 | Z20: =SUM(D43:Y43) -> 0 | AA20: =AV26 | AC20: =Z20+'Week 9'!AC20 -> 70 | AG20: =TRIM(BA20) | AH20: =TRIM(BB20) | AI20: =TRIM(BC20) | AJ20: =TRIM(BD20) | AK20: =TRIM(BE20) | AL20: =TRIM(BF20) | AM20: =TRIM(BG20) | AN20: =TRIM(BH20) | ... AY20: =TRIM(BS20)
C21: ='GRAND TOTALS'!C18 -> Steve | D21: =AW5 | E21: =AW6 | F21: =AW7 | G21: =AW8 | H21: =AW9 | J21: =AW10 | K21: =AW11 | L21: =AW12 | M21: =AW13 | N21: =AW14 | O21: =AW15 | P21: =AW16 | Q21: =AW17 | R21: =AW18 | S21: =AW19 | T21: =AW20 | U21: =AW21 | V21: =AW22 | W21: =AW23 | X21: =AW24 | Y21: =AW25 | Z21: =SUM(D44:Y44) -> 0 | AA21: =AW26 | AC21: =Z21+'Week 9'!AC21 -> 66 | AG21: =TRIM(BA21) | AH21: =TRIM(BB21) | AI21: =TRIM(BC21) | AJ21: =TRIM(BD21) | AK21: =TRIM(BE21) | AL21: =TRIM(BF21) | AM21: =TRIM(BG21) | AN21: =TRIM(BH21) | ... AY21: =TRIM(BS21)
C22: ='GRAND TOTALS'!C19 -> Jamie | D22: =AX5 | E22: =AX6 | F22: =AX7 | G22: =AX8 | H22: =AX9 | J22: =AX10 | K22: =AX11 | L22: =AX12 | M22: =AX13 | N22: =AX14 | O22: =AX15 | P22: =AX16 | Q22: =AX17 | R22: =AX18 | S22: =AX19 | T22: =AX20 | U22: =AX21 | V22: =AX22 | W22: =AX23 | X22: =AX24 | Y22: =AX25 | Z22: =SUM(D46:Y46) -> 0 | AA22: =AX26 | AC22: =Z22+'Week 9'!AC22 -> 70 | AG22: =TRIM(BA22) | AH22: =TRIM(BB22) | AI22: =TRIM(BC22) | AJ22: =TRIM(BD22) | AK22: =TRIM(BE22) | AL22: =TRIM(BF22) | AM22: =TRIM(BG22) | AN22: =TRIM(BH22) | ... AY22: =TRIM(BS22)
C23: ='GRAND TOTALS'!C20 -> Kelly | D23: =AY5 | E23: =AY6 | F23: =AY7 | G23: =AY8 | H23: =AY9 | J23: =AY10 | K23: =AY11 | L23: =AY12 | M23: =AY13 | N23: =AY14 | O23: =AY15 | P23: =AY16 | Q23: =AY17 | R23: =AY18 | S23: =AY19 | T23: =AY20 | U23: =AY21 | V23: =AY22 | W23: =AY23 | X23: =AY24 | Y23: =AY25 | Z23: =SUM(D47:Y47) -> 0 | AA23: =AY26 | AC23: =Z23+'Week 9'!AC23 -> 65 | AG23: =TRIM(BA23) | AH23: =TRIM(BB23) | AI23: =TRIM(BC23) | AJ23: =TRIM(BD23) | AK23: =TRIM(BE23) | AL23: =TRIM(BF23) | AM23: =TRIM(BG23) | AN23: =TRIM(BH23) | ... AY23: =TRIM(BS23)
